Workbook
Name ListaCategorias: OFFSET('Categorías'!$A$5,0,0,MAX(1,COUNTA('Categorías'!$A$5:$A$34)),1)

Sheet Movimientos
A1: Control de gastos e ingresos | E1: Saldo total | F1: =SUM(D5:D1004)-SUM(E5:E1004)
A2: Escribe en las celdas amarillas. Un movimiento por fila; el importe va en Ingreso o en Gasto, nunca en las dos.
A4: Fecha | B4: Concepto | C4: Categoría | D4: Ingreso | E4: Gasto | F4: Saldo acumulado
F5: =IF(AND(D5="",E5=""),"",SUM(D$5:D5)-SUM(E$5:E5))
F6: =IF(AND(D6="",E6=""),"",SUM(D$5:D6)-SUM(E$5:E6))
F7: =IF(AND(D7="",E7=""),"",SUM(D$5:D7)-SUM(E$5:E7))
F8: =IF(AND(D8="",E8=""),"",SUM(D$5:D8)-SUM(E$5:E8))
F9: =IF(AND(D9="",E9=""),"",SUM(D$5:D9)-SUM(E$5:E9))
F10: =IF(AND(D10="",E10=""),"",SUM(D$5:D10)-SUM(E$5:E10))
F11: =IF(AND(D11="",E11=""),"",SUM(D$5:D11)-SUM(E$5:E11))
F12: =IF(AND(D12="",E12=""),"",SUM(D$5:D12)-SUM(E$5:E12))
F13: =IF(AND(D13="",E13=""),"",SUM(D$5:D13)-SUM(E$5:E13))
F14: =IF(AND(D14="",E14=""),"",SUM(D$5:D14)-SUM(E$5:E14))
F15: =IF(AND(D15="",E15=""),"",SUM(D$5:D15)-SUM(E$5:E15))
F16: =IF(AND(D16="",E16=""),"",SUM(D$5:D16)-SUM(E$5:E16))
... F1004: =IF(AND(D1004="",E1004=""),"",SUM(D$5:D1004)-SUM(E$5:E1004))

Sheet Categorías
A1: Categorías
A2: Cambia, borra o añade nombres. Escribe las nuevas en la primera fila libre, sin dejar huecos.
A3: Lo que pongas aquí sale en el desplegable de Movimientos y en los resúmenes.
A4: Categoría
A5: Nómina
A6: Otros ingresos
A7: Vivienda (alquiler o hipoteca)
A8: Luz, agua y gas
A9: Teléfono e internet
A10: Alimentación
A11: Transporte
A12: Salud
... A18: Otros gastos

Sheet Resumen mensual
A1: Resumen mensual por categoría
A3: Año | B3: 2026 | F3: =DATE(B3,B4,1)
A4: Mes (1 a 12) | B4: 1 | C4: =IF(AND(B4>=1,B4<=12),CHOOSE(B4,"Enero","Febrero","Marzo","Abril","Mayo","Junio","Julio","Agosto","Septiembre","Octubre","Noviembre","Diciembre"),"Mes no válido") | F4: =DATE(B3,B4+1,1)
A6: Ingresos del mes | B6: =SUMIFS(Movimientos!$D$5:$D$1004,Movimientos!$A$5:$A$1004,">="&$F$3,Movimientos!$A$5:$A$1004,"<"&$F$4)
A7: Gastos del mes | B7: =SUMIFS(Movimientos!$E$5:$E$1004,Movimientos!$A$5:$A$1004,">="&$F$3,Movimientos!$A$5:$A$1004,"<"&$F$4)
A8: Saldo del mes | B8: =B6-B7
A10: Categoría | B10: Ingresos | C10: Gastos | D10: Saldo
A11: =IF('Categorías'!$A$5="","",'Categorías'!$A$5) | B11: =IF($A11="","",SUMIFS(Movimientos!$D$5:$D$1004,Movimientos!$C$5:$C$1004,$A11,Movimientos!$A$5:$A$1004,">="&$F$3,Movimientos!$A$5:$A$1004,"<"&$F$4)) | C11: =IF($A11="","",SUMIFS(Movimientos!$E$5:$E$1004,Movimientos!$C$5:$C$1004,$A11,Movimientos!$A$5:$A$1004,">="&$F$3,Movimientos!$A$5:$A$1004,"<"&$F$4)) | D11: =IF($A11="","",B11-C11)
A12: =IF('Categorías'!$A$6="","",'Categorías'!$A$6) | B12: =IF($A12="","",SUMIFS(Movimientos!$D$5:$D$1004,Movimientos!$C$5:$C$1004,$A12,Movimientos!$A$5:$A$1004,">="&$F$3,Movimientos!$A$5:$A$1004,"<"&$F$4)) | C12: =IF($A12="","",SUMIFS(Movimientos!$E$5:$E$1004,Movimientos!$C$5:$C$1004,$A12,Movimientos!$A$5:$A$1004,">="&$F$3,Movimientos!$A$5:$A$1004,"<"&$F$4)) | D12: =IF($A12="","",B12-C12)
A13: =IF('Categorías'!$A$7="","",'Categorías'!$A$7) | B13: =IF($A13="","",SUMIFS(Movimientos!$D$5:$D$1004,Movimientos!$C$5:$C$1004,$A13,Movimientos!$A$5:$A$1004,">="&$F$3,Movimientos!$A$5:$A$1004,"<"&$F$4)) | C13: =IF($A13="","",SUMIFS(Movimientos!$E$5:$E$1004,Movimientos!$C$5:$C$1004,$A13,Movimientos!$A$5:$A$1004,">="&$F$3,Movimientos!$A$5:$A$1004,"<"&$F$4)) | D13: =IF($A13="","",B13-C13)
A14: =IF('Categorías'!$A$8="","",'Categorías'!$A$8) | B14: =IF($A14="","",SUMIFS(Movimientos!$D$5:$D$1004,Movimientos!$C$5:$C$1004,$A14,Movimientos!$A$5:$A$1004,">="&$F$3,Movimientos!$A$5:$A$1004,"<"&$F$4)) | C14: =IF($A14="","",SUMIFS(Movimientos!$E$5:$E$1004,Movimientos!$C$5:$C$1004,$A14,Movimientos!$A$5:$A$1004,">="&$F$3,Movimientos!$A$5:$A$1004,"<"&$F$4)) | D14: =IF($A14="","",B14-C14)
A15: =IF('Categorías'!$A$9="","",'Categorías'!$A$9) | B15: =IF($A15="","",SUMIFS(Movimientos!$D$5:$D$1004,Movimientos!$C$5:$C$1004,$A15,Movimientos!$A$5:$A$1004,">="&$F$3,Movimientos!$A$5:$A$1004,"<"&$F$4)) | C15: =IF($A15="","",SUMIFS(Movimientos!$E$5:$E$1004,Movimientos!$C$5:$C$1004,$A15,Movimientos!$A$5:$A$1004,">="&$F$3,Movimientos!$A$5:$A$1004,"<"&$F$4)) | D15: =IF($A15="","",B15-C15)
A16: =IF('Categorías'!$A$10="","",'Categorías'!$A$10) | B16: =IF($A16="","",SUMIFS(Movimientos!$D$5:$D$1004,Movimientos!$C$5:$C$1004,$A16,Movimientos!$A$5:$A$1004,">="&$F$3,Movimientos!$A$5:$A$1004,"<"&$F$4)) | C16: =IF($A16="","",SUMIFS(Movimientos!$E$5:$E$1004,Movimientos!$C$5:$C$1004,$A16,Movimientos!$A$5:$A$1004,">="&$F$3,Movimientos!$A$5:$A$1004,"<"&$F$4)) | D16: =IF($A16="","",B16-C16)
A17: =IF('Categorías'!$A$11="","",'Categorías'!$A$11) | B17: =IF($A17="","",SUMIFS(Movimientos!$D$5:$D$1004,Movimientos!$C$5:$C$1004,$A17,Movimientos!$A$5:$A$1004,">="&$F$3,Movimientos!$A$5:$A$1004,"<"&$F$4)) | C17: =IF($A17="","",SUMIFS(Movimientos!$E$5:$E$1004,Movimientos!$C$5:$C$1004,$A17,Movimientos!$A$5:$A$1004,">="&$F$3,Movimientos!$A$5:$A$1004,"<"&$F$4)) | D17: =IF($A17="","",B17-C17)
A18: =IF('Categorías'!$A$12="","",'Categorías'!$A$12) | B18: =IF($A18="","",SUMIFS(Movimientos!$D$5:$D$1004,Movimientos!$C$5:$C$1004,$A18,Movimientos!$A$5:$A$1004,">="&$F$3,Movimientos!$A$5:$A$1004,"<"&$F$4)) | C18: =IF($A18="","",SUMIFS(Movimientos!$E$5:$E$1004,Movimientos!$C$5:$C$1004,$A18,Movimientos!$A$5:$A$1004,">="&$F$3,Movimientos!$A$5:$A$1004,"<"&$F$4)) | D18: =IF($A18="","",B18-C18)
A19: =IF('Categorías'!$A$13="","",'Categorías'!$A$13) | B19: =IF($A19="","",SUMIFS(Movimientos!$D$5:$D$1004,Movimientos!$C$5:$C$1004,$A19,Movimientos!$A$5:$A$1004,">="&$F$3,Movimientos!$A$5:$A$1004,"<"&$F$4)) | C19: =IF($A19="","",SUMIFS(Movimientos!$E$5:$E$1004,Movimientos!$C$5:$C$1004,$A19,Movimientos!$A$5:$A$1004,">="&$F$3,Movimientos!$A$5:$A$1004,"<"&$F$4)) | D19: =IF($A19="","",B19-C19)
A20: =IF('Categorías'!$A$14="","",'Categorías'!$A$14) | B20: =IF($A20="","",SUMIFS(Movimientos!$D$5:$D$1004,Movimientos!$C$5:$C$1004,$A20,Movimientos!$A$5:$A$1004,">="&$F$3,Movimientos!$A$5:$A$1004,"<"&$F$4)) | C20: =IF($A20="","",SUMIFS(Movimientos!$E$5:$E$1004,Movimientos!$C$5:$C$1004,$A20,Movimientos!$A$5:$A$1004,">="&$F$3,Movimientos!$A$5:$A$1004,"<"&$F$4)) | D20: =IF($A20="","",B20-C20)
A21: =IF('Categorías'!$A$15="","",'Categorías'!$A$15) | B21: =IF($A21="","",SUMIFS(Movimientos!$D$5:$D$1004,Movimientos!$C$5:$C$1004,$A21,Movimientos!$A$5:$A$1004,">="&$F$3,Movimientos!$A$5:$A$1004,"<"&$F$4)) | C21: =IF($A21="","",SUMIFS(Movimientos!$E$5:$E$1004,Movimientos!$C$5:$C$1004,$A21,Movimientos!$A$5:$A$1004,">="&$F$3,Movimientos!$A$5:$A$1004,"<"&$F$4)) | D21: =IF($A21="","",B21-C21)
A22: =IF('Categorías'!$A$16="","",'Categorías'!$A$16) | B22: =IF($A22="","",SUMIFS(Movimientos!$D$5:$D$1004,Movimientos!$C$5:$C$1004,$A22,Movimientos!$A$5:$A$1004,">="&$F$3,Movimientos!$A$5:$A$1004,"<"&$F$4)) | C22: =IF($A22="","",SUMIFS(Movimientos!$E$5:$E$1004,Movimientos!$C$5:$C$1004,$A22,Movimientos!$A$5:$A$1004,">="&$F$3,Movimientos!$A$5:$A$1004,"<"&$F$4)) | D22: =IF($A22="","",B22-C22)
A23: =IF('Categorías'!$A$17="","",'Categorías'!$A$17) | B23: =IF($A23="","",SUMIFS(Movimientos!$D$5:$D$1004,Movimientos!$C$5:$C$1004,$A23,Movimientos!$A$5:$A$1004,">="&$F$3,Movimientos!$A$5:$A$1004,"<"&$F$4)) | C23: =IF($A23="","",SUMIFS(Movimientos!$E$5:$E$1004,Movimientos!$C$5:$C$1004,$A23,Movimientos!$A$5:$A$1004,">="&$F$3,Movimientos!$A$5:$A$1004,"<"&$F$4)) | D23: =IF($A23="","",B23-C23)
A24: =IF('Categorías'!$A$18="","",'Categorías'!$A$18) | B24: =IF($A24="","",SUMIFS(Movimientos!$D$5:$D$1004,Movimientos!$C$5:$C$1004,$A24,Movimientos!$A$5:$A$1004,">="&$F$3,Movimientos!$A$5:$A$1004,"<"&$F$4)) | C24: =IF($A24="","",SUMIFS(Movimientos!$E$5:$E$1004,Movimientos!$C$5:$C$1004,$A24,Movimientos!$A$5:$A$1004,">="&$F$3,Movimientos!$A$5:$A$1004,"<"&$F$4)) | D24: =IF($A24="","",B24-C24)
A25: =IF('Categorías'!$A$19="","",'Categorías'!$A$19) | B25: =IF($A25="","",SUMIFS(Movimientos!$D$5:$D$1004,Movimientos!$C$5:$C$1004,$A25,Movimientos!$A$5:$A$1004,">="&$F$3,Movimientos!$A$5:$A$1004,"<"&$F$4)) | C25: =IF($A25="","",SUMIFS(Movimientos!$E$5:$E$1004,Movimientos!$C$5:$C$1004,$A25,Movimientos!$A$5:$A$1004,">="&$F$3,Movimientos!$A$5:$A$1004,"<"&$F$4)) | D25: =IF($A25="","",B25-C25)
A26: =IF('Categorías'!$A$20="","",'Categorías'!$A$20) | B26: =IF($A26="","",SUMIFS(Movimientos!$D$5:$D$1004,Movimientos!$C$5:$C$1004,$A26,Movimientos!$A$5:$A$1004,">="&$F$3,Movimientos!$A$5:$A$1004,"<"&$F$4)) | C26: =IF($A26="","",SUMIFS(Movimientos!$E$5:$E$1004,Movimientos!$C$5:$C$1004,$A26,Movimientos!$A$5:$A$1004,">="&$F$3,Movimientos!$A$5:$A$1004,"<"&$F$4)) | D26: =IF($A26="","",B26-C26)
A27: =IF('Categorías'!$A$21="","",'Categorías'!$A$21) | B27: =IF($A27="","",SUMIFS(Movimientos!$D$5:$D$1004,Movimientos!$C$5:$C$1004,$A27,Movimientos!$A$5:$A$1004,">="&$F$3,Movimientos!$A$5:$A$1004,"<"&$F$4)) | C27: =IF($A27="","",SUMIFS(Movimientos!$E$5:$E$1004,Movimientos!$C$5:$C$1004,$A27,Movimientos!$A$5:$A$1004,">="&$F$3,Movimientos!$A$5:$A$1004,"<"&$F$4)) | D27: =IF($A27="","",B27-C27)
A28: =IF('Categorías'!$A$22="","",'Categorías'!$A$22) | B28: =IF($A28="","",SUMIFS(Movimientos!$D$5:$D$1004,Movimientos!$C$5:$C$1004,$A28,Movimientos!$A$5:$A$1004,">="&$F$3,Movimientos!$A$5:$A$1004,"<"&$F$4)) | C28: =IF($A28="","",SUMIFS(Movimientos!$E$5:$E$1004,Movimientos!$C$5:$C$1004,$A28,Movimientos!$A$5:$A$1004,">="&$F$3,Movimientos!$A$5:$A$1004,"<"&$F$4)) | D28: =IF($A28="","",B28-C28)
A29: =IF('Categorías'!$A$23="","",'Categorías'!$A$23) | B29: =IF($A29="","",SUMIFS(Movimientos!$D$5:$D$1004,Movimientos!$C$5:$C$1004,$A29,Movimientos!$A$5:$A$1004,">="&$F$3,Movimientos!$A$5:$A$1004,"<"&$F$4)) | C29: =IF($A29="","",SUMIFS(Movimientos!$E$5:$E$1004,Movimientos!$C$5:$C$1004,$A29,Movimientos!$A$5:$A$1004,">="&$F$3,Movimientos!$A$5:$A$1004,"<"&$F$4)) | D29: =IF($A29="","",B29-C29)
A30: =IF('Categorías'!$A$24="","",'Categorías'!$A$24) | B30: =IF($A30="","",SUMIFS(Movimientos!$D$5:$D$1004,Movimientos!$C$5:$C$1004,$A30,Movimientos!$A$5:$A$1004,">="&$F$3,Movimientos!$A$5:$A$1004,"<"&$F$4)) | C30: =IF($A30="","",SUMIFS(Movimientos!$E$5:$E$1004,Movimientos!$C$5:$C$1004,$A30,Movimientos!$A$5:$A$1004,">="&$F$3,Movimientos!$A$5:$A$1004,"<"&$F$4)) | D30: =IF($A30="","",B30-C30)
A31: =IF('Categorías'!$A$25="","",'Categorías'!$A$25) | B31: =IF($A31="","",SUMIFS(Movimientos!$D$5:$D$1004,Movimientos!$C$5:$C$1004,$A31,Movimientos!$A$5:$A$1004,">="&$F$3,Movimientos!$A$5:$A$1004,"<"&$F$4)) | C31: =IF($A31="","",SUMIFS(Movimientos!$E$5:$E$1004,Movimientos!$C$5:$C$1004,$A31,Movimientos!$A$5:$A$1004,">="&$F$3,Movimientos!$A$5:$A$1004,"<"&$F$4)) | D31: =IF($A31="","",B31-C31)
A32: =IF('Categorías'!$A$26="","",'Categorías'!$A$26) | B32: =IF($A32="","",SUMIFS(Movimientos!$D$5:$D$1004,Movimientos!$C$5:$C$1004,$A32,Movimientos!$A$5:$A$1004,">="&$F$3,Movimientos!$A$5:$A$1004,"<"&$F$4)) | C32: =IF($A32="","",SUMIFS(Movimientos!$E$5:$E$1004,Movimientos!$C$5:$C$1004,$A32,Movimientos!$A$5:$A$1004,">="&$F$3,Movimientos!$A$5:$A$1004,"<"&$F$4)) | D32: =IF($A32="","",B32-C32)
A33: =IF('Categorías'!$A$27="","",'Categorías'!$A$27) | B33: =IF($A33="","",SUMIFS(Movimientos!$D$5:$D$1004,Movimientos!$C$5:$C$1004,$A33,Movimientos!$A$5:$A$1004,">="&$F$3,Movimientos!$A$5:$A$1004,"<"&$F$4)) | C33: =IF($A33="","",SUMIFS(Movimientos!$E$5:$E$1004,Movimientos!$C$5:$C$1004,$A33,Movimientos!$A$5:$A$1004,">="&$F$3,Movimientos!$A$5:$A$1004,"<"&$F$4)) | D33: =IF($A33="","",B33-C33)
A34: =IF('Categorías'!$A$28="","",'Categorías'!$A$28) | B34: =IF($A34="","",SUMIFS(Movimientos!$D$5:$D$1004,Movimientos!$C$5:$C$1004,$A34,Movimientos!$A$5:$A$1004,">="&$F$3,Movimientos!$A$5:$A$1004,"<"&$F$4)) | C34: =IF($A34="","",SUMIFS(Movimientos!$E$5:$E$1004,Movimientos!$C$5:$C$1004,$A34,Movimientos!$A$5:$A$1004,">="&$F$3,Movimientos!$A$5:$A$1004,"<"&$F$4)) | D34: =IF($A34="","",B34-C34)
A35: =IF('Categorías'!$A$29="","",'Categorías'!$A$29) | B35: =IF($A35="","",SUMIFS(Movimientos!$D$5:$D$1004,Movimientos!$C$5:$C$1004,$A35,Movimientos!$A$5:$A$1004,">="&$F$3,Movimientos!$A$5:$A$1004,"<"&$F$4)) | C35: =IF($A35="","",SUMIFS(Movimientos!$E$5:$E$1004,Movimientos!$C$5:$C$1004,$A35,Movimientos!$A$5:$A$1004,">="&$F$3,Movimientos!$A$5:$A$1004,"<"&$F$4)) | D35: =IF($A35="","",B35-C35)
A36: =IF('Categorías'!$A$30="","",'Categorías'!$A$30) | B36: =IF($A36="","",SUMIFS(Movimientos!$D$5:$D$1004,Movimientos!$C$5:$C$1004,$A36,Movimientos!$A$5:$A$1004,">="&$F$3,Movimientos!$A$5:$A$1004,"<"&$F$4)) | C36: =IF($A36="","",SUMIFS(Movimientos!$E$5:$E$1004,Movimientos!$C$5:$C$1004,$A36,Movimientos!$A$5:$A$1004,">="&$F$3,Movimientos!$A$5:$A$1004,"<"&$F$4)) | D36: =IF($A36="","",B36-C36)
A37: =IF('Categorías'!$A$31="","",'Categorías'!$A$31) | B37: =IF($A37="","",SUMIFS(Movimientos!$D$5:$D$1004,Movimientos!$C$5:$C$1004,$A37,Movimientos!$A$5:$A$1004,">="&$F$3,Movimientos!$A$5:$A$1004,"<"&$F$4)) | C37: =IF($A37="","",SUMIFS(Movimientos!$E$5:$E$1004,Movimientos!$C$5:$C$1004,$A37,Movimientos!$A$5:$A$1004,">="&$F$3,Movimientos!$A$5:$A$1004,"<"&$F$4)) | D37: =IF($A37="","",B37-C37)
A38: =IF('Categorías'!$A$32="","",'Categorías'!$A$32) | B38: =IF($A38="","",SUMIFS(Movimientos!$D$5:$D$1004,Movimientos!$C$5:$C$1004,$A38,Movimientos!$A$5:$A$1004,">="&$F$3,Movimientos!$A$5:$A$1004,"<"&$F$4)) | C38: =IF($A38="","",SUMIFS(Movimientos!$E$5:$E$1004,Movimientos!$C$5:$C$1004,$A38,Movimientos!$A$5:$A$1004,">="&$F$3,Movimientos!$A$5:$A$1004,"<"&$F$4)) | D38: =IF($A38="","",B38-C38)
A39: =IF('Categorías'!$A$33="","",'Categorías'!$A$33) | B39: =IF($A39="","",SUMIFS(Movimientos!$D$5:$D$1004,Movimientos!$C$5:$C$1004,$A39,Movimientos!$A$5:$A$1004,">="&$F$3,Movimientos!$A$5:$A$1004,"<"&$F$4)) | C39: =IF($A39="","",SUMIFS(Movimientos!$E$5:$E$1004,Movimientos!$C$5:$C$1004,$A39,Movimientos!$A$5:$A$1004,">="&$F$3,Movimientos!$A$5:$A$1004,"<"&$F$4)) | D39: =IF($A39="","",B39-C39)
A40: =IF('Categorías'!$A$34="","",'Categorías'!$A$34) | B40: =IF($A40="","",SUMIFS(Movimientos!$D$5:$D$1004,Movimientos!$C$5:$C$1004,$A40,Movimientos!$A$5:$A$1004,">="&$F$3,Movimientos!$A$5:$A$1004,"<"&$F$4)) | C40: =IF($A40="","",SUMIFS(Movimientos!$E$5:$E$1004,Movimientos!$C$5:$C$1004,$A40,Movimientos!$A$5:$A$1004,">="&$F$3,Movimientos!$A$5:$A$1004,"<"&$F$4)) | D40: =IF($A40="","",B40-C40)
A41: Sin categoría o con una que no está en la lista | B41: =SUMIFS(Movimientos!$D$5:$D$1004,Movimientos!$A$5:$A$1004,">="&$F$3,Movimientos!$A$5:$A$1004,"<"&$F$4)-SUM(B11:B40) | C41: =SUMIFS(Movimientos!$E$5:$E$1004,Movimientos!$A$5:$A$1004,">="&$F$3,Movimientos!$A$5:$A$1004,"<"&$F$4)-SUM(C11:C40) | D41: =B41-C41
A42: Total | B42: =SUM(B11:B41) | C42: =SUM(C11:C41) | D42: =B42-C42

Sheet Resumen anual
A1: Resumen anual
A3: Año | B3: 2026 | G3: =DATE(B3,1,1)
G4: =DATE(B3+1,1,1)
A5: Mes | B5: Ingresos | C5: Gastos | D5: Saldo del mes | E5: Saldo acumulado
A6: Enero | B6: =SUMIFS(Movimientos!$D$5:$D$1004,Movimientos!$A$5:$A$1004,">="&DATE($B$3,1,1),Movimientos!$A$5:$A$1004,"<"&DATE($B$3,2,1)) | C6: =SUMIFS(Movimientos!$E$5:$E$1004,Movimientos!$A$5:$A$1004,">="&DATE($B$3,1,1),Movimientos!$A$5:$A$1004,"<"&DATE($B$3,2,1)) | D6: =B6-C6 | E6: =SUM($D$6:D6)
A7: Febrero | B7: =SUMIFS(Movimientos!$D$5:$D$1004,Movimientos!$A$5:$A$1004,">="&DATE($B$3,2,1),Movimientos!$A$5:$A$1004,"<"&DATE($B$3,3,1)) | C7: =SUMIFS(Movimientos!$E$5:$E$1004,Movimientos!$A$5:$A$1004,">="&DATE($B$3,2,1),Movimientos!$A$5:$A$1004,"<"&DATE($B$3,3,1)) | D7: =B7-C7 | E7: =SUM($D$6:D7)
A8: Marzo | B8: =SUMIFS(Movimientos!$D$5:$D$1004,Movimientos!$A$5:$A$1004,">="&DATE($B$3,3,1),Movimientos!$A$5:$A$1004,"<"&DATE($B$3,4,1)) | C8: =SUMIFS(Movimientos!$E$5:$E$1004,Movimientos!$A$5:$A$1004,">="&DATE($B$3,3,1),Movimientos!$A$5:$A$1004,"<"&DATE($B$3,4,1)) | D8: =B8-C8 | E8: =SUM($D$6:D8)
A9: Abril | B9: =SUMIFS(Movimientos!$D$5:$D$1004,Movimientos!$A$5:$A$1004,">="&DATE($B$3,4,1),Movimientos!$A$5:$A$1004,"<"&DATE($B$3,5,1)) | C9: =SUMIFS(Movimientos!$E$5:$E$1004,Movimientos!$A$5:$A$1004,">="&DATE($B$3,4,1),Movimientos!$A$5:$A$1004,"<"&DATE($B$3,5,1)) | D9: =B9-C9 | E9: =SUM($D$6:D9)
A10: Mayo | B10: =SUMIFS(Movimientos!$D$5:$D$1004,Movimientos!$A$5:$A$1004,">="&DATE($B$3,5,1),Movimientos!$A$5:$A$1004,"<"&DATE($B$3,6,1)) | C10: =SUMIFS(Movimientos!$E$5:$E$1004,Movimientos!$A$5:$A$1004,">="&DATE($B$3,5,1),Movimientos!$A$5:$A$1004,"<"&DATE($B$3,6,1)) | D10: =B10-C10 | E10: =SUM($D$6:D10)
A11: Junio | B11: =SUMIFS(Movimientos!$D$5:$D$1004,Movimientos!$A$5:$A$1004,">="&DATE($B$3,6,1),Movimientos!$A$5:$A$1004,"<"&DATE($B$3,7,1)) | C11: =SUMIFS(Movimientos!$E$5:$E$1004,Movimientos!$A$5:$A$1004,">="&DATE($B$3,6,1),Movimientos!$A$5:$A$1004,"<"&DATE($B$3,7,1)) | D11: =B11-C11 | E11: =SUM($D$6:D11)
A12: Julio | B12: =SUMIFS(Movimientos!$D$5:$D$1004,Movimientos!$A$5:$A$1004,">="&DATE($B$3,7,1),Movimientos!$A$5:$A$1004,"<"&DATE($B$3,8,1)) | C12: =SUMIFS(Movimientos!$E$5:$E$1004,Movimientos!$A$5:$A$1004,">="&DATE($B$3,7,1),Movimientos!$A$5:$A$1004,"<"&DATE($B$3,8,1)) | D12: =B12-C12 | E12: =SUM($D$6:D12)
A13: Agosto | B13: =SUMIFS(Movimientos!$D$5:$D$1004,Movimientos!$A$5:$A$1004,">="&DATE($B$3,8,1),Movimientos!$A$5:$A$1004,"<"&DATE($B$3,9,1)) | C13: =SUMIFS(Movimientos!$E$5:$E$1004,Movimientos!$A$5:$A$1004,">="&DATE($B$3,8,1),Movimientos!$A$5:$A$1004,"<"&DATE($B$3,9,1)) | D13: =B13-C13 | E13: =SUM($D$6:D13)
A14: Septiembre | B14: =SUMIFS(Movimientos!$D$5:$D$1004,Movimientos!$A$5:$A$1004,">="&DATE($B$3,9,1),Movimientos!$A$5:$A$1004,"<"&DATE($B$3,10,1)) | C14: =SUMIFS(Movimientos!$E$5:$E$1004,Movimientos!$A$5:$A$1004,">="&DATE($B$3,9,1),Movimientos!$A$5:$A$1004,"<"&DATE($B$3,10,1)) | D14: =B14-C14 | E14: =SUM($D$6:D14)
A15: Octubre | B15: =SUMIFS(Movimientos!$D$5:$D$1004,Movimientos!$A$5:$A$1004,">="&DATE($B$3,10,1),Movimientos!$A$5:$A$1004,"<"&DATE($B$3,11,1)) | C15: =SUMIFS(Movimientos!$E$5:$E$1004,Movimientos!$A$5:$A$1004,">="&DATE($B$3,10,1),Movimientos!$A$5:$A$1004,"<"&DATE($B$3,11,1)) | D15: =B15-C15 | E15: =SUM($D$6:D15)
A16: Noviembre | B16: =SUMIFS(Movimientos!$D$5:$D$1004,Movimientos!$A$5:$A$1004,">="&DATE($B$3,11,1),Movimientos!$A$5:$A$1004,"<"&DATE($B$3,12,1)) | C16: =SUMIFS(Movimientos!$E$5:$E$1004,Movimientos!$A$5:$A$1004,">="&DATE($B$3,11,1),Movimientos!$A$5:$A$1004,"<"&DATE($B$3,12,1)) | D16: =B16-C16 | E16: =SUM($D$6:D16)
A17: Diciembre | B17: =SUMIFS(Movimientos!$D$5:$D$1004,Movimientos!$A$5:$A$1004,">="&DATE($B$3,12,1),Movimientos!$A$5:$A$1004,"<"&DATE($B$3,13,1)) | C17: =SUMIFS(Movimientos!$E$5:$E$1004,Movimientos!$A$5:$A$1004,">="&DATE($B$3,12,1),Movimientos!$A$5:$A$1004,"<"&DATE($B$3,13,1)) | D17: =B17-C17 | E17: =SUM($D$6:D17)
A18: Total del año | B18: =SUM(B6:B17) | C18: =SUM(C6:C17) | D18: =B18-C18
A37: Por categoría en todo el año
A38: Categoría | B38: Ingresos | C38: Gastos | D38: Saldo
A39: =IF('Categorías'!$A$5="","",'Categorías'!$A$5) | B39: =IF($A39="","",SUMIFS(Movimientos!$D$5:$D$1004,Movimientos!$C$5:$C$1004,$A39,Movimientos!$A$5:$A$1004,">="&$G$3,Movimientos!$A$5:$A$1004,"<"&$G$4)) | C39: =IF($A39="","",SUMIFS(Movimientos!$E$5:$E$1004,Movimientos!$C$5:$C$1004,$A39,Movimientos!$A$5:$A$1004,">="&$G$3,Movimientos!$A$5:$A$1004,"<"&$G$4)) | D39: =IF($A39="","",B39-C39)
A40: =IF('Categorías'!$A$6="","",'Categorías'!$A$6) | B40: =IF($A40="","",SUMIFS(Movimientos!$D$5:$D$1004,Movimientos!$C$5:$C$1004,$A40,Movimientos!$A$5:$A$1004,">="&$G$3,Movimientos!$A$5:$A$1004,"<"&$G$4)) | C40: =IF($A40="","",SUMIFS(Movimientos!$E$5:$E$1004,Movimientos!$C$5:$C$1004,$A40,Movimientos!$A$5:$A$1004,">="&$G$3,Movimientos!$A$5:$A$1004,"<"&$G$4)) | D40: =IF($A40="","",B40-C40)
A41: =IF('Categorías'!$A$7="","",'Categorías'!$A$7) | B41: =IF($A41="","",SUMIFS(Movimientos!$D$5:$D$1004,Movimientos!$C$5:$C$1004,$A41,Movimientos!$A$5:$A$1004,">="&$G$3,Movimientos!$A$5:$A$1004,"<"&$G$4)) | C41: =IF($A41="","",SUMIFS(Movimientos!$E$5:$E$1004,Movimientos!$C$5:$C$1004,$A41,Movimientos!$A$5:$A$1004,">="&$G$3,Movimientos!$A$5:$A$1004,"<"&$G$4)) | D41: =IF($A41="","",B41-C41)
A42: =IF('Categorías'!$A$8="","",'Categorías'!$A$8) | B42: =IF($A42="","",SUMIFS(Movimientos!$D$5:$D$1004,Movimientos!$C$5:$C$1004,$A42,Movimientos!$A$5:$A$1004,">="&$G$3,Movimientos!$A$5:$A$1004,"<"&$G$4)) | C42: =IF($A42="","",SUMIFS(Movimientos!$E$5:$E$1004,Movimientos!$C$5:$C$1004,$A42,Movimientos!$A$5:$A$1004,">="&$G$3,Movimientos!$A$5:$A$1004,"<"&$G$4)) | D42: =IF($A42="","",B42-C42)
A43: =IF('Categorías'!$A$9="","",'Categorías'!$A$9) | B43: =IF($A43="","",SUMIFS(Movimientos!$D$5:$D$1004,Movimientos!$C$5:$C$1004,$A43,Movimientos!$A$5:$A$1004,">="&$G$3,Movimientos!$A$5:$A$1004,"<"&$G$4)) | C43: =IF($A43="","",SUMIFS(Movimientos!$E$5:$E$1004,Movimientos!$C$5:$C$1004,$A43,Movimientos!$A$5:$A$1004,">="&$G$3,Movimientos!$A$5:$A$1004,"<"&$G$4)) | D43: =IF($A43="","",B43-C43)
A44: =IF('Categorías'!$A$10="","",'Categorías'!$A$10) | B44: =IF($A44="","",SUMIFS(Movimientos!$D$5:$D$1004,Movimientos!$C$5:$C$1004,$A44,Movimientos!$A$5:$A$1004,">="&$G$3,Movimientos!$A$5:$A$1004,"<"&$G$4)) | C44: =IF($A44="","",SUMIFS(Movimientos!$E$5:$E$1004,Movimientos!$C$5:$C$1004,$A44,Movimientos!$A$5:$A$1004,">="&$G$3,Movimientos!$A$5:$A$1004,"<"&$G$4)) | D44: =IF($A44="","",B44-C44)
A45: =IF('Categorías'!$A$11="","",'Categorías'!$A$11) | B45: =IF($A45="","",SUMIFS(Movimientos!$D$5:$D$1004,Movimientos!$C$5:$C$1004,$A45,Movimientos!$A$5:$A$1004,">="&$G$3,Movimientos!$A$5:$A$1004,"<"&$G$4)) | C45: =IF($A45="","",SUMIFS(Movimientos!$E$5:$E$1004,Movimientos!$C$5:$C$1004,$A45,Movimientos!$A$5:$A$1004,">="&$G$3,Movimientos!$A$5:$A$1004,"<"&$G$4)) | D45: =IF($A45="","",B45-C45)
A46: =IF('Categorías'!$A$12="","",'Categorías'!$A$12) | B46: =IF($A46="","",SUMIFS(Movimientos!$D$5:$D$1004,Movimientos!$C$5:$C$1004,$A46,Movimientos!$A$5:$A$1004,">="&$G$3,Movimientos!$A$5:$A$1004,"<"&$G$4)) | C46: =IF($A46="","",SUMIFS(Movimientos!$E$5:$E$1004,Movimientos!$C$5:$C$1004,$A46,Movimientos!$A$5:$A$1004,">="&$G$3,Movimientos!$A$5:$A$1004,"<"&$G$4)) | D46: =IF($A46="","",B46-C46)
A47: =IF('Categorías'!$A$13="","",'Categorías'!$A$13) | B47: =IF($A47="","",SUMIFS(Movimientos!$D$5:$D$1004,Movimientos!$C$5:$C$1004,$A47,Movimientos!$A$5:$A$1004,">="&$G$3,Movimientos!$A$5:$A$1004,"<"&$G$4)) | C47: =IF($A47="","",SUMIFS(Movimientos!$E$5:$E$1004,Movimientos!$C$5:$C$1004,$A47,Movimientos!$A$5:$A$1004,">="&$G$3,Movimientos!$A$5:$A$1004,"<"&$G$4)) | D47: =IF($A47="","",B47-C47)
A48: =IF('Categorías'!$A$14="","",'Categorías'!$A$14) | B48: =IF($A48="","",SUMIFS(Movimientos!$D$5:$D$1004,Movimientos!$C$5:$C$1004,$A48,Movimientos!$A$5:$A$1004,">="&$G$3,Movimientos!$A$5:$A$1004,"<"&$G$4)) | C48: =IF($A48="","",SUMIFS(Movimientos!$E$5:$E$1004,Movimientos!$C$5:$C$1004,$A48,Movimientos!$A$5:$A$1004,">="&$G$3,Movimientos!$A$5:$A$1004,"<"&$G$4)) | D48: =IF($A48="","",B48-C48)
A49: =IF('Categorías'!$A$15="","",'Categorías'!$A$15) | B49: =IF($A49="","",SUMIFS(Movimientos!$D$5:$D$1004,Movimientos!$C$5:$C$1004,$A49,Movimientos!$A$5:$A$1004,">="&$G$3,Movimientos!$A$5:$A$1004,"<"&$G$4)) | C49: =IF($A49="","",SUMIFS(Movimientos!$E$5:$E$1004,Movimientos!$C$5:$C$1004,$A49,Movimientos!$A$5:$A$1004,">="&$G$3,Movimientos!$A$5:$A$1004,"<"&$G$4)) | D49: =IF($A49="","",B49-C49)
A50: =IF('Categorías'!$A$16="","",'Categorías'!$A$16) | B50: =IF($A50="","",SUMIFS(Movimientos!$D$5:$D$1004,Movimientos!$C$5:$C$1004,$A50,Movimientos!$A$5:$A$1004,">="&$G$3,Movimientos!$A$5:$A$1004,"<"&$G$4)) | C50: =IF($A50="","",SUMIFS(Movimientos!$E$5:$E$1004,Movimientos!$C$5:$C$1004,$A50,Movimientos!$A$5:$A$1004,">="&$G$3,Movimientos!$A$5:$A$1004,"<"&$G$4)) | D50: =IF($A50="","",B50-C50)
A51: =IF('Categorías'!$A$17="","",'Categorías'!$A$17) | B51: =IF($A51="","",SUMIFS(Movimientos!$D$5:$D$1004,Movimientos!$C$5:$C$1004,$A51,Movimientos!$A$5:$A$1004,">="&$G$3,Movimientos!$A$5:$A$1004,"<"&$G$4)) | C51: =IF($A51="","",SUMIFS(Movimientos!$E$5:$E$1004,Movimientos!$C$5:$C$1004,$A51,Movimientos!$A$5:$A$1004,">="&$G$3,Movimientos!$A$5:$A$1004,"<"&$G$4)) | D51: =IF($A51="","",B51-C51)
A52: =IF('Categorías'!$A$18="","",'Categorías'!$A$18) | B52: =IF($A52="","",SUMIFS(Movimientos!$D$5:$D$1004,Movimientos!$C$5:$C$1004,$A52,Movimientos!$A$5:$A$1004,">="&$G$3,Movimientos!$A$5:$A$1004,"<"&$G$4)) | C52: =IF($A52="","",SUMIFS(Movimientos!$E$5:$E$1004,Movimientos!$C$5:$C$1004,$A52,Movimientos!$A$5:$A$1004,">="&$G$3,Movimientos!$A$5:$A$1004,"<"&$G$4)) | D52: =IF($A52="","",B52-C52)
A53: =IF('Categorías'!$A$19="","",'Categorías'!$A$19) | B53: =IF($A53="","",SUMIFS(Movimientos!$D$5:$D$1004,Movimientos!$C$5:$C$1004,$A53,Movimientos!$A$5:$A$1004,">="&$G$3,Movimientos!$A$5:$A$1004,"<"&$G$4)) | C53: =IF($A53="","",SUMIFS(Movimientos!$E$5:$E$1004,Movimientos!$C$5:$C$1004,$A53,Movimientos!$A$5:$A$1004,">="&$G$3,Movimientos!$A$5:$A$1004,"<"&$G$4)) | D53: =IF($A53="","",B53-C53)
A54: =IF('Categorías'!$A$20="","",'Categorías'!$A$20) | B54: =IF($A54="","",SUMIFS(Movimientos!$D$5:$D$1004,Movimientos!$C$5:$C$1004,$A54,Movimientos!$A$5:$A$1004,">="&$G$3,Movimientos!$A$5:$A$1004,"<"&$G$4)) | C54: =IF($A54="","",SUMIFS(Movimientos!$E$5:$E$1004,Movimientos!$C$5:$C$1004,$A54,Movimientos!$A$5:$A$1004,">="&$G$3,Movimientos!$A$5:$A$1004,"<"&$G$4)) | D54: =IF($A54="","",B54-C54)
A55: =IF('Categorías'!$A$21="","",'Categorías'!$A$21) | B55: =IF($A55="","",SUMIFS(Movimientos!$D$5:$D$1004,Movimientos!$C$5:$C$1004,$A55,Movimientos!$A$5:$A$1004,">="&$G$3,Movimientos!$A$5:$A$1004,"<"&$G$4)) | C55: =IF($A55="","",SUMIFS(Movimientos!$E$5:$E$1004,Movimientos!$C$5:$C$1004,$A55,Movimientos!$A$5:$A$1004,">="&$G$3,Movimientos!$A$5:$A$1004,"<"&$G$4)) | D55: =IF($A55="","",B55-C55)
A56: =IF('Categorías'!$A$22="","",'Categorías'!$A$22) | B56: =IF($A56="","",SUMIFS(Movimientos!$D$5:$D$1004,Movimientos!$C$5:$C$1004,$A56,Movimientos!$A$5:$A$1004,">="&$G$3,Movimientos!$A$5:$A$1004,"<"&$G$4)) | C56: =IF($A56="","",SUMIFS(Movimientos!$E$5:$E$1004,Movimientos!$C$5:$C$1004,$A56,Movimientos!$A$5:$A$1004,">="&$G$3,Movimientos!$A$5:$A$1004,"<"&$G$4)) | D56: =IF($A56="","",B56-C56)
A57: =IF('Categorías'!$A$23="","",'Categorías'!$A$23) | B57: =IF($A57="","",SUMIFS(Movimientos!$D$5:$D$1004,Movimientos!$C$5:$C$1004,$A57,Movimientos!$A$5:$A$1004,">="&$G$3,Movimientos!$A$5:$A$1004,"<"&$G$4)) | C57: =IF($A57="","",SUMIFS(Movimientos!$E$5:$E$1004,Movimientos!$C$5:$C$1004,$A57,Movimientos!$A$5:$A$1004,">="&$G$3,Movimientos!$A$5:$A$1004,"<"&$G$4)) | D57: =IF($A57="","",B57-C57)
A58: =IF('Categorías'!$A$24="","",'Categorías'!$A$24) | B58: =IF($A58="","",SUMIFS(Movimientos!$D$5:$D$1004,Movimientos!$C$5:$C$1004,$A58,Movimientos!$A$5:$A$1004,">="&$G$3,Movimientos!$A$5:$A$1004,"<"&$G$4)) | C58: =IF($A58="","",SUMIFS(Movimientos!$E$5:$E$1004,Movimientos!$C$5:$C$1004,$A58,Movimientos!$A$5:$A$1004,">="&$G$3,Movimientos!$A$5:$A$1004,"<"&$G$4)) | D58: =IF($A58="","",B58-C58)
A59: =IF('Categorías'!$A$25="","",'Categorías'!$A$25) | B59: =IF($A59="","",SUMIFS(Movimientos!$D$5:$D$1004,Movimientos!$C$5:$C$1004,$A59,Movimientos!$A$5:$A$1004,">="&$G$3,Movimientos!$A$5:$A$1004,"<"&$G$4)) | C59: =IF($A59="","",SUMIFS(Movimientos!$E$5:$E$1004,Movimientos!$C$5:$C$1004,$A59,Movimientos!$A$5:$A$1004,">="&$G$3,Movimientos!$A$5:$A$1004,"<"&$G$4)) | D59: =IF($A59="","",B59-C59)
...

Sheet Entre fechas
A1: Gastos e ingresos entre dos fechas
A3: Desde | B3: 46023 | C3: =IF(B4<B3,"La fecha Hasta es anterior a Desde","") | F3: =B4+1
A4: Hasta (incluida) | B4: 46387
A6: Ingresos | B6: =SUMIFS(Movimientos!$D$5:$D$1004,Movimientos!$A$5:$A$1004,">="&$B$3,Movimientos!$A$5:$A$1004,"<"&$F$3)
A7: Gastos | B7: =SUMIFS(Movimientos!$E$5:$E$1004,Movimientos!$A$5:$A$1004,">="&$B$3,Movimientos!$A$5:$A$1004,"<"&$F$3)
A8: Diferencia | B8: =B6-B7
A9: Movimientos en el periodo | B9: =COUNTIFS(Movimientos!$A$5:$A$1004,">="&$B$3,Movimientos!$A$5:$A$1004,"<"&$F$3)
A11: En la hoja Movimientos, las fechas de este periodo se marcan en verde.
A13: Categoría | B13: Ingresos | C13: Gastos | D13: Saldo
A14: =IF('Categorías'!$A$5="","",'Categorías'!$A$5) | B14: =IF($A14="","",SUMIFS(Movimientos!$D$5:$D$1004,Movimientos!$C$5:$C$1004,$A14,Movimientos!$A$5:$A$1004,">="&$B$3,Movimientos!$A$5:$A$1004,"<"&$F$3)) | C14: =IF($A14="","",SUMIFS(Movimientos!$E$5:$E$1004,Movimientos!$C$5:$C$1004,$A14,Movimientos!$A$5:$A$1004,">="&$B$3,Movimientos!$A$5:$A$1004,"<"&$F$3)) | D14: =IF($A14="","",B14-C14)
A15: =IF('Categorías'!$A$6="","",'Categorías'!$A$6) | B15: =IF($A15="","",SUMIFS(Movimientos!$D$5:$D$1004,Movimientos!$C$5:$C$1004,$A15,Movimientos!$A$5:$A$1004,">="&$B$3,Movimientos!$A$5:$A$1004,"<"&$F$3)) | C15: =IF($A15="","",SUMIFS(Movimientos!$E$5:$E$1004,Movimientos!$C$5:$C$1004,$A15,Movimientos!$A$5:$A$1004,">="&$B$3,Movimientos!$A$5:$A$1004,"<"&$F$3)) | D15: =IF($A15="","",B15-C15)
A16: =IF('Categorías'!$A$7="","",'Categorías'!$A$7) | B16: =IF($A16="","",SUMIFS(Movimientos!$D$5:$D$1004,Movimientos!$C$5:$C$1004,$A16,Movimientos!$A$5:$A$1004,">="&$B$3,Movimientos!$A$5:$A$1004,"<"&$F$3)) | C16: =IF($A16="","",SUMIFS(Movimientos!$E$5:$E$1004,Movimientos!$C$5:$C$1004,$A16,Movimientos!$A$5:$A$1004,">="&$B$3,Movimientos!$A$5:$A$1004,"<"&$F$3)) | D16: =IF($A16="","",B16-C16)
A17: =IF('Categorías'!$A$8="","",'Categorías'!$A$8) | B17: =IF($A17="","",SUMIFS(Movimientos!$D$5:$D$1004,Movimientos!$C$5:$C$1004,$A17,Movimientos!$A$5:$A$1004,">="&$B$3,Movimientos!$A$5:$A$1004,"<"&$F$3)) | C17: =IF($A17="","",SUMIFS(Movimientos!$E$5:$E$1004,Movimientos!$C$5:$C$1004,$A17,Movimientos!$A$5:$A$1004,">="&$B$3,Movimientos!$A$5:$A$1004,"<"&$F$3)) | D17: =IF($A17="","",B17-C17)
A18: =IF('Categorías'!$A$9="","",'Categorías'!$A$9) | B18: =IF($A18="","",SUMIFS(Movimientos!$D$5:$D$1004,Movimientos!$C$5:$C$1004,$A18,Movimientos!$A$5:$A$1004,">="&$B$3,Movimientos!$A$5:$A$1004,"<"&$F$3)) | C18: =IF($A18="","",SUMIFS(Movimientos!$E$5:$E$1004,Movimientos!$C$5:$C$1004,$A18,Movimientos!$A$5:$A$1004,">="&$B$3,Movimientos!$A$5:$A$1004,"<"&$F$3)) | D18: =IF($A18="","",B18-C18)
A19: =IF('Categorías'!$A$10="","",'Categorías'!$A$10) | B19: =IF($A19="","",SUMIFS(Movimientos!$D$5:$D$1004,Movimientos!$C$5:$C$1004,$A19,Movimientos!$A$5:$A$1004,">="&$B$3,Movimientos!$A$5:$A$1004,"<"&$F$3)) | C19: =IF($A19="","",SUMIFS(Movimientos!$E$5:$E$1004,Movimientos!$C$5:$C$1004,$A19,Movimientos!$A$5:$A$1004,">="&$B$3,Movimientos!$A$5:$A$1004,"<"&$F$3)) | D19: =IF($A19="","",B19-C19)
A20: =IF('Categorías'!$A$11="","",'Categorías'!$A$11) | B20: =IF($A20="","",SUMIFS(Movimientos!$D$5:$D$1004,Movimientos!$C$5:$C$1004,$A20,Movimientos!$A$5:$A$1004,">="&$B$3,Movimientos!$A$5:$A$1004,"<"&$F$3)) | C20: =IF($A20="","",SUMIFS(Movimientos!$E$5:$E$1004,Movimientos!$C$5:$C$1004,$A20,Movimientos!$A$5:$A$1004,">="&$B$3,Movimientos!$A$5:$A$1004,"<"&$F$3)) | D20: =IF($A20="","",B20-C20)
A21: =IF('Categorías'!$A$12="","",'Categorías'!$A$12) | B21: =IF($A21="","",SUMIFS(Movimientos!$D$5:$D$1004,Movimientos!$C$5:$C$1004,$A21,Movimientos!$A$5:$A$1004,">="&$B$3,Movimientos!$A$5:$A$1004,"<"&$F$3)) | C21: =IF($A21="","",SUMIFS(Movimientos!$E$5:$E$1004,Movimientos!$C$5:$C$1004,$A21,Movimientos!$A$5:$A$1004,">="&$B$3,Movimientos!$A$5:$A$1004,"<"&$F$3)) | D21: =IF($A21="","",B21-C21)
A22: =IF('Categorías'!$A$13="","",'Categorías'!$A$13) | B22: =IF($A22="","",SUMIFS(Movimientos!$D$5:$D$1004,Movimientos!$C$5:$C$1004,$A22,Movimientos!$A$5:$A$1004,">="&$B$3,Movimientos!$A$5:$A$1004,"<"&$F$3)) | C22: =IF($A22="","",SUMIFS(Movimientos!$E$5:$E$1004,Movimientos!$C$5:$C$1004,$A22,Movimientos!$A$5:$A$1004,">="&$B$3,Movimientos!$A$5:$A$1004,"<"&$F$3)) | D22: =IF($A22="","",B22-C22)
A23: =IF('Categorías'!$A$14="","",'Categorías'!$A$14) | B23: =IF($A23="","",SUMIFS(Movimientos!$D$5:$D$1004,Movimientos!$C$5:$C$1004,$A23,Movimientos!$A$5:$A$1004,">="&$B$3,Movimientos!$A$5:$A$1004,"<"&$F$3)) | C23: =IF($A23="","",SUMIFS(Movimientos!$E$5:$E$1004,Movimientos!$C$5:$C$1004,$A23,Movimientos!$A$5:$A$1004,">="&$B$3,Movimientos!$A$5:$A$1004,"<"&$F$3)) | D23: =IF($A23="","",B23-C23)
A24: =IF('Categorías'!$A$15="","",'Categorías'!$A$15) | B24: =IF($A24="","",SUMIFS(Movimientos!$D$5:$D$1004,Movimientos!$C$5:$C$1004,$A24,Movimientos!$A$5:$A$1004,">="&$B$3,Movimientos!$A$5:$A$1004,"<"&$F$3)) | C24: =IF($A24="","",SUMIFS(Movimientos!$E$5:$E$1004,Movimientos!$C$5:$C$1004,$A24,Movimientos!$A$5:$A$1004,">="&$B$3,Movimientos!$A$5:$A$1004,"<"&$F$3)) | D24: =IF($A24="","",B24-C24)
A25: =IF('Categorías'!$A$16="","",'Categorías'!$A$16) | B25: =IF($A25="","",SUMIFS(Movimientos!$D$5:$D$1004,Movimientos!$C$5:$C$1004,$A25,Movimientos!$A$5:$A$1004,">="&$B$3,Movimientos!$A$5:$A$1004,"<"&$F$3)) | C25: =IF($A25="","",SUMIFS(Movimientos!$E$5:$E$1004,Movimientos!$C$5:$C$1004,$A25,Movimientos!$A$5:$A$1004,">="&$B$3,Movimientos!$A$5:$A$1004,"<"&$F$3)) | D25: =IF($A25="","",B25-C25)
A26: =IF('Categorías'!$A$17="","",'Categorías'!$A$17) | B26: =IF($A26="","",SUMIFS(Movimientos!$D$5:$D$1004,Movimientos!$C$5:$C$1004,$A26,Movimientos!$A$5:$A$1004,">="&$B$3,Movimientos!$A$5:$A$1004,"<"&$F$3)) | C26: =IF($A26="","",SUMIFS(Movimientos!$E$5:$E$1004,Movimientos!$C$5:$C$1004,$A26,Movimientos!$A$5:$A$1004,">="&$B$3,Movimientos!$A$5:$A$1004,"<"&$F$3)) | D26: =IF($A26="","",B26-C26)
A27: =IF('Categorías'!$A$18="","",'Categorías'!$A$18) | B27: =IF($A27="","",SUMIFS(Movimientos!$D$5:$D$1004,Movimientos!$C$5:$C$1004,$A27,Movimientos!$A$5:$A$1004,">="&$B$3,Movimientos!$A$5:$A$1004,"<"&$F$3)) | C27: =IF($A27="","",SUMIFS(Movimientos!$E$5:$E$1004,Movimientos!$C$5:$C$1004,$A27,Movimientos!$A$5:$A$1004,">="&$B$3,Movimientos!$A$5:$A$1004,"<"&$F$3)) | D27: =IF($A27="","",B27-C27)
A28: =IF('Categorías'!$A$19="","",'Categorías'!$A$19) | B28: =IF($A28="","",SUMIFS(Movimientos!$D$5:$D$1004,Movimientos!$C$5:$C$1004,$A28,Movimientos!$A$5:$A$1004,">="&$B$3,Movimientos!$A$5:$A$1004,"<"&$F$3)) | C28: =IF($A28="","",SUMIFS(Movimientos!$E$5:$E$1004,Movimientos!$C$5:$C$1004,$A28,Movimientos!$A$5:$A$1004,">="&$B$3,Movimientos!$A$5:$A$1004,"<"&$F$3)) | D28: =IF($A28="","",B28-C28)
A29: =IF('Categorías'!$A$20="","",'Categorías'!$A$20) | B29: =IF($A29="","",SUMIFS(Movimientos!$D$5:$D$1004,Movimientos!$C$5:$C$1004,$A29,Movimientos!$A$5:$A$1004,">="&$B$3,Movimientos!$A$5:$A$1004,"<"&$F$3)) | C29: =IF($A29="","",SUMIFS(Movimientos!$E$5:$E$1004,Movimientos!$C$5:$C$1004,$A29,Movimientos!$A$5:$A$1004,">="&$B$3,Movimientos!$A$5:$A$1004,"<"&$F$3)) | D29: =IF($A29="","",B29-C29)
A30: =IF('Categorías'!$A$21="","",'Categorías'!$A$21) | B30: =IF($A30="","",SUMIFS(Movimientos!$D$5:$D$1004,Movimientos!$C$5:$C$1004,$A30,Movimientos!$A$5:$A$1004,">="&$B$3,Movimientos!$A$5:$A$1004,"<"&$F$3)) | C30: =IF($A30="","",SUMIFS(Movimientos!$E$5:$E$1004,Movimientos!$C$5:$C$1004,$A30,Movimientos!$A$5:$A$1004,">="&$B$3,Movimientos!$A$5:$A$1004,"<"&$F$3)) | D30: =IF($A30="","",B30-C30)
A31: =IF('Categorías'!$A$22="","",'Categorías'!$A$22) | B31: =IF($A31="","",SUMIFS(Movimientos!$D$5:$D$1004,Movimientos!$C$5:$C$1004,$A31,Movimientos!$A$5:$A$1004,">="&$B$3,Movimientos!$A$5:$A$1004,"<"&$F$3)) | C31: =IF($A31="","",SUMIFS(Movimientos!$E$5:$E$1004,Movimientos!$C$5:$C$1004,$A31,Movimientos!$A$5:$A$1004,">="&$B$3,Movimientos!$A$5:$A$1004,"<"&$F$3)) | D31: =IF($A31="","",B31-C31)
A32: =IF('Categorías'!$A$23="","",'Categorías'!$A$23) | B32: =IF($A32="","",SUMIFS(Movimientos!$D$5:$D$1004,Movimientos!$C$5:$C$1004,$A32,Movimientos!$A$5:$A$1004,">="&$B$3,Movimientos!$A$5:$A$1004,"<"&$F$3)) | C32: =IF($A32="","",SUMIFS(Movimientos!$E$5:$E$1004,Movimientos!$C$5:$C$1004,$A32,Movimientos!$A$5:$A$1004,">="&$B$3,Movimientos!$A$5:$A$1004,"<"&$F$3)) | D32: =IF($A32="","",B32-C32)
A33: =IF('Categorías'!$A$24="","",'Categorías'!$A$24) | B33: =IF($A33="","",SUMIFS(Movimientos!$D$5:$D$1004,Movimientos!$C$5:$C$1004,$A33,Movimientos!$A$5:$A$1004,">="&$B$3,Movimientos!$A$5:$A$1004,"<"&$F$3)) | C33: =IF($A33="","",SUMIFS(Movimientos!$E$5:$E$1004,Movimientos!$C$5:$C$1004,$A33,Movimientos!$A$5:$A$1004,">="&$B$3,Movimientos!$A$5:$A$1004,"<"&$F$3)) | D33: =IF($A33="","",B33-C33)
A34: =IF('Categorías'!$A$25="","",'Categorías'!$A$25) | B34: =IF($A34="","",SUMIFS(Movimientos!$D$5:$D$1004,Movimientos!$C$5:$C$1004,$A34,Movimientos!$A$5:$A$1004,">="&$B$3,Movimientos!$A$5:$A$1004,"<"&$F$3)) | C34: =IF($A34="","",SUMIFS(Movimientos!$E$5:$E$1004,Movimientos!$C$5:$C$1004,$A34,Movimientos!$A$5:$A$1004,">="&$B$3,Movimientos!$A$5:$A$1004,"<"&$F$3)) | D34: =IF($A34="","",B34-C34)
A35: =IF('Categorías'!$A$26="","",'Categorías'!$A$26) | B35: =IF($A35="","",SUMIFS(Movimientos!$D$5:$D$1004,Movimientos!$C$5:$C$1004,$A35,Movimientos!$A$5:$A$1004,">="&$B$3,Movimientos!$A$5:$A$1004,"<"&$F$3)) | C35: =IF($A35="","",SUMIFS(Movimientos!$E$5:$E$1004,Movimientos!$C$5:$C$1004,$A35,Movimientos!$A$5:$A$1004,">="&$B$3,Movimientos!$A$5:$A$1004,"<"&$F$3)) | D35: =IF($A35="","",B35-C35)
A36: =IF('Categorías'!$A$27="","",'Categorías'!$A$27) | B36: =IF($A36="","",SUMIFS(Movimientos!$D$5:$D$1004,Movimientos!$C$5:$C$1004,$A36,Movimientos!$A$5:$A$1004,">="&$B$3,Movimientos!$A$5:$A$1004,"<"&$F$3)) | C36: =IF($A36="","",SUMIFS(Movimientos!$E$5:$E$1004,Movimientos!$C$5:$C$1004,$A36,Movimientos!$A$5:$A$1004,">="&$B$3,Movimientos!$A$5:$A$1004,"<"&$F$3)) | D36: =IF($A36="","",B36-C36)
A37: =IF('Categorías'!$A$28="","",'Categorías'!$A$28) | B37: =IF($A37="","",SUMIFS(Movimientos!$D$5:$D$1004,Movimientos!$C$5:$C$1004,$A37,Movimientos!$A$5:$A$1004,">="&$B$3,Movimientos!$A$5:$A$1004,"<"&$F$3)) | C37: =IF($A37="","",SUMIFS(Movimientos!$E$5:$E$1004,Movimientos!$C$5:$C$1004,$A37,Movimientos!$A$5:$A$1004,">="&$B$3,Movimientos!$A$5:$A$1004,"<"&$F$3)) | D37: =IF($A37="","",B37-C37)
A38: =IF('Categorías'!$A$29="","",'Categorías'!$A$29) | B38: =IF($A38="","",SUMIFS(Movimientos!$D$5:$D$1004,Movimientos!$C$5:$C$1004,$A38,Movimientos!$A$5:$A$1004,">="&$B$3,Movimientos!$A$5:$A$1004,"<"&$F$3)) | C38: =IF($A38="","",SUMIFS(Movimientos!$E$5:$E$1004,Movimientos!$C$5:$C$1004,$A38,Movimientos!$A$5:$A$1004,">="&$B$3,Movimientos!$A$5:$A$1004,"<"&$F$3)) | D38: =IF($A38="","",B38-C38)
A39: =IF('Categorías'!$A$30="","",'Categorías'!$A$30) | B39: =IF($A39="","",SUMIFS(Movimientos!$D$5:$D$1004,Movimientos!$C$5:$C$1004,$A39,Movimientos!$A$5:$A$1004,">="&$B$3,Movimientos!$A$5:$A$1004,"<"&$F$3)) | C39: =IF($A39="","",SUMIFS(Movimientos!$E$5:$E$1004,Movimientos!$C$5:$C$1004,$A39,Movimientos!$A$5:$A$1004,">="&$B$3,Movimientos!$A$5:$A$1004,"<"&$F$3)) | D39: =IF($A39="","",B39-C39)
A40: =IF('Categorías'!$A$31="","",'Categorías'!$A$31) | B40: =IF($A40="","",SUMIFS(Movimientos!$D$5:$D$1004,Movimientos!$C$5:$C$1004,$A40,Movimientos!$A$5:$A$1004,">="&$B$3,Movimientos!$A$5:$A$1004,"<"&$F$3)) | C40: =IF($A40="","",SUMIFS(Movimientos!$E$5:$E$1004,Movimientos!$C$5:$C$1004,$A40,Movimientos!$A$5:$A$1004,">="&$B$3,Movimientos!$A$5:$A$1004,"<"&$F$3)) | D40: =IF($A40="","",B40-C40)
A41: =IF('Categorías'!$A$32="","",'Categorías'!$A$32) | B41: =IF($A41="","",SUMIFS(Movimientos!$D$5:$D$1004,Movimientos!$C$5:$C$1004,$A41,Movimientos!$A$5:$A$1004,">="&$B$3,Movimientos!$A$5:$A$1004,"<"&$F$3)) | C41: =IF($A41="","",SUMIFS(Movimientos!$E$5:$E$1004,Movimientos!$C$5:$C$1004,$A41,Movimientos!$A$5:$A$1004,">="&$B$3,Movimientos!$A$5:$A$1004,"<"&$F$3)) | D41: =IF($A41="","",B41-C41)
A42: =IF('Categorías'!$A$33="","",'Categorías'!$A$33) | B42: =IF($A42="","",SUMIFS(Movimientos!$D$5:$D$1004,Movimientos!$C$5:$C$1004,$A42,Movimientos!$A$5:$A$1004,">="&$B$3,Movimientos!$A$5:$A$1004,"<"&$F$3)) | C42: =IF($A42="","",SUMIFS(Movimientos!$E$5:$E$1004,Movimientos!$C$5:$C$1004,$A42,Movimientos!$A$5:$A$1004,">="&$B$3,Movimientos!$A$5:$A$1004,"<"&$F$3)) | D42: =IF($A42="","",B42-C42)
A43: =IF('Categorías'!$A$34="","",'Categorías'!$A$34) | B43: =IF($A43="","",SUMIFS(Movimientos!$D$5:$D$1004,Movimientos!$C$5:$C$1004,$A43,Movimientos!$A$5:$A$1004,">="&$B$3,Movimientos!$A$5:$A$1004,"<"&$F$3)) | C43: =IF($A43="","",SUMIFS(Movimientos!$E$5:$E$1004,Movimientos!$C$5:$C$1004,$A43,Movimientos!$A$5:$A$1004,">="&$B$3,Movimientos!$A$5:$A$1004,"<"&$F$3)) | D43: =IF($A43="","",B43-C43)
A44: Sin categoría o con una que no está en la lista | B44: =SUMIFS(Movimientos!$D$5:$D$1004,Movimientos!$A$5:$A$1004,">="&$B$3,Movimientos!$A$5:$A$1004,"<"&$F$3)-SUM(B14:B43) | C44: =SUMIFS(Movimientos!$E$5:$E$1004,Movimientos!$A$5:$A$1004,">="&$B$3,Movimientos!$A$5:$A$1004,"<"&$F$3)-SUM(C14:C43) | D44: =B44-C44
...

Sheet Cómo se usa
A1: Cómo se usa
A3: 1. En Categorías, deja las que te sirvan, cambia los nombres que quieras y añade las tuyas en la primera fila libre.
A4: 2. En Movimientos, apunta cada ingreso o gasto en una fila: fecha, concepto, categoría (desplegable) e importe.
A5: 3. El importe va en positivo, en la columna Ingreso o en la columna Gasto.
A6: 4. Resumen mensual: escribe el año y el número del mes y verás los totales por categoría y el saldo del mes.
A7: 5. Resumen anual: escribe el año y verás los doce meses, el total y el gráfico de barras.
A8: 6. Entre fechas: escribe las fechas Desde y Hasta y verás los totales de ese periodo.
A10: Las celdas amarillas son para escribir. Las blancas llevan fórmulas: mejor no tocarlas.
A11: Hay 1000 filas para movimientos. Si se te quedan cortas, inserta filas nuevas por encima de la última fila amarilla y copia la fórmula del saldo.
A12: El saldo acumulado solo tiene sentido si apuntas los movimientos por orden de fecha.
A13: Para imprimir solo lo apuntado en Movimientos, selecciona esas filas y, en Archivo > Imprimir, elige imprimir solo la selección.
A14: No lleva macros ni contraseña.
A16: Plantilla gratuita de www.modelines.com
