Workbook
Name Empresa: Datos!$C$4
Name NIFEmpresa: Datos!$C$5
Name Centro: Datos!$C$6
Name Trabajador: Datos!$C$7
Name NIFTrabajador: Datos!$C$8
Name Anio: Datos!$C$9

Sheet Datos
B1: Registro de jornada: datos comunes
B2: Rellena una vez las celdas amarillas. Cada hoja mensual las copia sola.
B4: Empresa
B5: NIF de la empresa
B6: Centro de trabajo
B7: Persona trabajadora
B8: NIF
B9: Año | C9: 2026
B11: Cada mes tiene su hoja. Escribe las horas como 8:00 o 17:30. Si la jornada es continua, deja vacío el segundo tramo. En "Pausas no computables" pon el tiempo de descanso que no cuenta como trabajo (por ejemplo 0:30).
B16: La empresa conservará los registros durante cuatro años (art. 34.9 del Estatuto de los Trabajadores). Plantilla gratuita de www.modelines.com

Sheet Enero
A1: Registro diario de jornada
A3: Empresa: | C3: =IF(Empresa="","",Empresa) | H3: NIF: | I3: =IF(NIFEmpresa="","",NIFEmpresa)
A4: Centro de trabajo: | C4: =IF(Centro="","",Centro) | H4: Mes: | I4: ="Enero "&Anio
A5: Persona trabajadora: | C5: =IF(Trabajador="","",Trabajador) | H5: NIF: | I5: =IF(NIFTrabajador="","",NIFTrabajador)
A7: Horas en formato 8:00. Si la jornada es continua, deja vacío el segundo tramo. Las pausas no computables se restan del total.
A8: Fecha | B8: Día | C8: Primer tramo | E8: Segundo tramo | G8: Pausas no computables | H8: Horas trabajadas | I8: Observaciones | J8: Firma
C9: Entrada | D9: Salida | E9: Entrada | F9: Salida
A10: =IF(1<=DAY(EOMONTH(DATE(Anio,1,1),0)),DATE(Anio,1,1),"") | B10: =IF(A10="","",A10) | H10: =IF(OR(C10="",D10=""),0,MOD(D10-C10,1))+IF(OR(E10="",F10=""),0,MOD(F10-E10,1))-N(G10)
A11: =IF(2<=DAY(EOMONTH(DATE(Anio,1,1),0)),DATE(Anio,1,2),"") | B11: =IF(A11="","",A11) | H11: =IF(OR(C11="",D11=""),0,MOD(D11-C11,1))+IF(OR(E11="",F11=""),0,MOD(F11-E11,1))-N(G11)
A12: =IF(3<=DAY(EOMONTH(DATE(Anio,1,1),0)),DATE(Anio,1,3),"") | B12: =IF(A12="","",A12) | H12: =IF(OR(C12="",D12=""),0,MOD(D12-C12,1))+IF(OR(E12="",F12=""),0,MOD(F12-E12,1))-N(G12)
A13: =IF(4<=DAY(EOMONTH(DATE(Anio,1,1),0)),DATE(Anio,1,4),"") | B13: =IF(A13="","",A13) | H13: =IF(OR(C13="",D13=""),0,MOD(D13-C13,1))+IF(OR(E13="",F13=""),0,MOD(F13-E13,1))-N(G13)
A14: =IF(5<=DAY(EOMONTH(DATE(Anio,1,1),0)),DATE(Anio,1,5),"") | B14: =IF(A14="","",A14) | H14: =IF(OR(C14="",D14=""),0,MOD(D14-C14,1))+IF(OR(E14="",F14=""),0,MOD(F14-E14,1))-N(G14)
A15: =IF(6<=DAY(EOMONTH(DATE(Anio,1,1),0)),DATE(Anio,1,6),"") | B15: =IF(A15="","",A15) | H15: =IF(OR(C15="",D15=""),0,MOD(D15-C15,1))+IF(OR(E15="",F15=""),0,MOD(F15-E15,1))-N(G15)
A16: =IF(7<=DAY(EOMONTH(DATE(Anio,1,1),0)),DATE(Anio,1,7),"") | B16: =IF(A16="","",A16) | H16: =IF(OR(C16="",D16=""),0,MOD(D16-C16,1))+IF(OR(E16="",F16=""),0,MOD(F16-E16,1))-N(G16)
A17: =IF(8<=DAY(EOMONTH(DATE(Anio,1,1),0)),DATE(Anio,1,8),"") | B17: =IF(A17="","",A17) | H17: =IF(OR(C17="",D17=""),0,MOD(D17-C17,1))+IF(OR(E17="",F17=""),0,MOD(F17-E17,1))-N(G17)
A18: =IF(9<=DAY(EOMONTH(DATE(Anio,1,1),0)),DATE(Anio,1,9),"") | B18: =IF(A18="","",A18) | H18: =IF(OR(C18="",D18=""),0,MOD(D18-C18,1))+IF(OR(E18="",F18=""),0,MOD(F18-E18,1))-N(G18)
A19: =IF(10<=DAY(EOMONTH(DATE(Anio,1,1),0)),DATE(Anio,1,10),"") | B19: =IF(A19="","",A19) | H19: =IF(OR(C19="",D19=""),0,MOD(D19-C19,1))+IF(OR(E19="",F19=""),0,MOD(F19-E19,1))-N(G19)
A20: =IF(11<=DAY(EOMONTH(DATE(Anio,1,1),0)),DATE(Anio,1,11),"") | B20: =IF(A20="","",A20) | H20: =IF(OR(C20="",D20=""),0,MOD(D20-C20,1))+IF(OR(E20="",F20=""),0,MOD(F20-E20,1))-N(G20)
A21: =IF(12<=DAY(EOMONTH(DATE(Anio,1,1),0)),DATE(Anio,1,12),"") | B21: =IF(A21="","",A21) | H21: =IF(OR(C21="",D21=""),0,MOD(D21-C21,1))+IF(OR(E21="",F21=""),0,MOD(F21-E21,1))-N(G21)
A22: =IF(13<=DAY(EOMONTH(DATE(Anio,1,1),0)),DATE(Anio,1,13),"") | B22: =IF(A22="","",A22) | H22: =IF(OR(C22="",D22=""),0,MOD(D22-C22,1))+IF(OR(E22="",F22=""),0,MOD(F22-E22,1))-N(G22)
A23: =IF(14<=DAY(EOMONTH(DATE(Anio,1,1),0)),DATE(Anio,1,14),"") | B23: =IF(A23="","",A23) | H23: =IF(OR(C23="",D23=""),0,MOD(D23-C23,1))+IF(OR(E23="",F23=""),0,MOD(F23-E23,1))-N(G23)
A24: =IF(15<=DAY(EOMONTH(DATE(Anio,1,1),0)),DATE(Anio,1,15),"") | B24: =IF(A24="","",A24) | H24: =IF(OR(C24="",D24=""),0,MOD(D24-C24,1))+IF(OR(E24="",F24=""),0,MOD(F24-E24,1))-N(G24)
A25: =IF(16<=DAY(EOMONTH(DATE(Anio,1,1),0)),DATE(Anio,1,16),"") | B25: =IF(A25="","",A25) | H25: =IF(OR(C25="",D25=""),0,MOD(D25-C25,1))+IF(OR(E25="",F25=""),0,MOD(F25-E25,1))-N(G25)
A26: =IF(17<=DAY(EOMONTH(DATE(Anio,1,1),0)),DATE(Anio,1,17),"") | B26: =IF(A26="","",A26) | H26: =IF(OR(C26="",D26=""),0,MOD(D26-C26,1))+IF(OR(E26="",F26=""),0,MOD(F26-E26,1))-N(G26)
A27: =IF(18<=DAY(EOMONTH(DATE(Anio,1,1),0)),DATE(Anio,1,18),"") | B27: =IF(A27="","",A27) | H27: =IF(OR(C27="",D27=""),0,MOD(D27-C27,1))+IF(OR(E27="",F27=""),0,MOD(F27-E27,1))-N(G27)
A28: =IF(19<=DAY(EOMONTH(DATE(Anio,1,1),0)),DATE(Anio,1,19),"") | B28: =IF(A28="","",A28) | H28: =IF(OR(C28="",D28=""),0,MOD(D28-C28,1))+IF(OR(E28="",F28=""),0,MOD(F28-E28,1))-N(G28)
A29: =IF(20<=DAY(EOMONTH(DATE(Anio,1,1),0)),DATE(Anio,1,20),"") | B29: =IF(A29="","",A29) | H29: =IF(OR(C29="",D29=""),0,MOD(D29-C29,1))+IF(OR(E29="",F29=""),0,MOD(F29-E29,1))-N(G29)
A30: =IF(21<=DAY(EOMONTH(DATE(Anio,1,1),0)),DATE(Anio,1,21),"") | B30: =IF(A30="","",A30) | H30: =IF(OR(C30="",D30=""),0,MOD(D30-C30,1))+IF(OR(E30="",F30=""),0,MOD(F30-E30,1))-N(G30)
A31: =IF(22<=DAY(EOMONTH(DATE(Anio,1,1),0)),DATE(Anio,1,22),"") | B31: =IF(A31="","",A31) | H31: =IF(OR(C31="",D31=""),0,MOD(D31-C31,1))+IF(OR(E31="",F31=""),0,MOD(F31-E31,1))-N(G31)
A32: =IF(23<=DAY(EOMONTH(DATE(Anio,1,1),0)),DATE(Anio,1,23),"") | B32: =IF(A32="","",A32) | H32: =IF(OR(C32="",D32=""),0,MOD(D32-C32,1))+IF(OR(E32="",F32=""),0,MOD(F32-E32,1))-N(G32)
A33: =IF(24<=DAY(EOMONTH(DATE(Anio,1,1),0)),DATE(Anio,1,24),"") | B33: =IF(A33="","",A33) | H33: =IF(OR(C33="",D33=""),0,MOD(D33-C33,1))+IF(OR(E33="",F33=""),0,MOD(F33-E33,1))-N(G33)
A34: =IF(25<=DAY(EOMONTH(DATE(Anio,1,1),0)),DATE(Anio,1,25),"") | B34: =IF(A34="","",A34) | H34: =IF(OR(C34="",D34=""),0,MOD(D34-C34,1))+IF(OR(E34="",F34=""),0,MOD(F34-E34,1))-N(G34)
A35: =IF(26<=DAY(EOMONTH(DATE(Anio,1,1),0)),DATE(Anio,1,26),"") | B35: =IF(A35="","",A35) | H35: =IF(OR(C35="",D35=""),0,MOD(D35-C35,1))+IF(OR(E35="",F35=""),0,MOD(F35-E35,1))-N(G35)
A36: =IF(27<=DAY(EOMONTH(DATE(Anio,1,1),0)),DATE(Anio,1,27),"") | B36: =IF(A36="","",A36) | H36: =IF(OR(C36="",D36=""),0,MOD(D36-C36,1))+IF(OR(E36="",F36=""),0,MOD(F36-E36,1))-N(G36)
A37: =IF(28<=DAY(EOMONTH(DATE(Anio,1,1),0)),DATE(Anio,1,28),"") | B37: =IF(A37="","",A37) | H37: =IF(OR(C37="",D37=""),0,MOD(D37-C37,1))+IF(OR(E37="",F37=""),0,MOD(F37-E37,1))-N(G37)
A38: =IF(29<=DAY(EOMONTH(DATE(Anio,1,1),0)),DATE(Anio,1,29),"") | B38: =IF(A38="","",A38) | H38: =IF(OR(C38="",D38=""),0,MOD(D38-C38,1))+IF(OR(E38="",F38=""),0,MOD(F38-E38,1))-N(G38)
A39: =IF(30<=DAY(EOMONTH(DATE(Anio,1,1),0)),DATE(Anio,1,30),"") | B39: =IF(A39="","",A39) | H39: =IF(OR(C39="",D39=""),0,MOD(D39-C39,1))+IF(OR(E39="",F39=""),0,MOD(F39-E39,1))-N(G39)
A40: =IF(31<=DAY(EOMONTH(DATE(Anio,1,1),0)),DATE(Anio,1,31),"") | B40: =IF(A40="","",A40) | H40: =IF(OR(C40="",D40=""),0,MOD(D40-C40,1))+IF(OR(E40="",F40=""),0,MOD(F40-E40,1))-N(G40)
A41: Total de horas del mes | H41: =SUM(H10:H40) | I41: =ROUND(H41*24,2)
A43: En ____________________, a ____ de ____________ de ______
A45: Firma de la persona trabajadora | F45: Firma y sello de la empresa
A48: La empresa conservará este registro durante cuatro años (art. 34.9 del Estatuto de los Trabajadores). Plantilla de www.modelines.com

Sheet Febrero
A1: Registro diario de jornada
A3: Empresa: | C3: =IF(Empresa="","",Empresa) | H3: NIF: | I3: =IF(NIFEmpresa="","",NIFEmpresa)
A4: Centro de trabajo: | C4: =IF(Centro="","",Centro) | H4: Mes: | I4: ="Febrero "&Anio
A5: Persona trabajadora: | C5: =IF(Trabajador="","",Trabajador) | H5: NIF: | I5: =IF(NIFTrabajador="","",NIFTrabajador)
A7: Horas en formato 8:00. Si la jornada es continua, deja vacío el segundo tramo. Las pausas no computables se restan del total.
A8: Fecha | B8: Día | C8: Primer tramo | E8: Segundo tramo | G8: Pausas no computables | H8: Horas trabajadas | I8: Observaciones | J8: Firma
C9: Entrada | D9: Salida | E9: Entrada | F9: Salida
A10: =IF(1<=DAY(EOMONTH(DATE(Anio,2,1),0)),DATE(Anio,2,1),"") | B10: =IF(A10="","",A10) | H10: =IF(OR(C10="",D10=""),0,MOD(D10-C10,1))+IF(OR(E10="",F10=""),0,MOD(F10-E10,1))-N(G10)
A11: =IF(2<=DAY(EOMONTH(DATE(Anio,2,1),0)),DATE(Anio,2,2),"") | B11: =IF(A11="","",A11) | H11: =IF(OR(C11="",D11=""),0,MOD(D11-C11,1))+IF(OR(E11="",F11=""),0,MOD(F11-E11,1))-N(G11)
A12: =IF(3<=DAY(EOMONTH(DATE(Anio,2,1),0)),DATE(Anio,2,3),"") | B12: =IF(A12="","",A12) | H12: =IF(OR(C12="",D12=""),0,MOD(D12-C12,1))+IF(OR(E12="",F12=""),0,MOD(F12-E12,1))-N(G12)
A13: =IF(4<=DAY(EOMONTH(DATE(Anio,2,1),0)),DATE(Anio,2,4),"") | B13: =IF(A13="","",A13) | H13: =IF(OR(C13="",D13=""),0,MOD(D13-C13,1))+IF(OR(E13="",F13=""),0,MOD(F13-E13,1))-N(G13)
A14: =IF(5<=DAY(EOMONTH(DATE(Anio,2,1),0)),DATE(Anio,2,5),"") | B14: =IF(A14="","",A14) | H14: =IF(OR(C14="",D14=""),0,MOD(D14-C14,1))+IF(OR(E14="",F14=""),0,MOD(F14-E14,1))-N(G14)
A15: =IF(6<=DAY(EOMONTH(DATE(Anio,2,1),0)),DATE(Anio,2,6),"") | B15: =IF(A15="","",A15) | H15: =IF(OR(C15="",D15=""),0,MOD(D15-C15,1))+IF(OR(E15="",F15=""),0,MOD(F15-E15,1))-N(G15)
A16: =IF(7<=DAY(EOMONTH(DATE(Anio,2,1),0)),DATE(Anio,2,7),"") | B16: =IF(A16="","",A16) | H16: =IF(OR(C16="",D16=""),0,MOD(D16-C16,1))+IF(OR(E16="",F16=""),0,MOD(F16-E16,1))-N(G16)
A17: =IF(8<=DAY(EOMONTH(DATE(Anio,2,1),0)),DATE(Anio,2,8),"") | B17: =IF(A17="","",A17) | H17: =IF(OR(C17="",D17=""),0,MOD(D17-C17,1))+IF(OR(E17="",F17=""),0,MOD(F17-E17,1))-N(G17)
A18: =IF(9<=DAY(EOMONTH(DATE(Anio,2,1),0)),DATE(Anio,2,9),"") | B18: =IF(A18="","",A18) | H18: =IF(OR(C18="",D18=""),0,MOD(D18-C18,1))+IF(OR(E18="",F18=""),0,MOD(F18-E18,1))-N(G18)
A19: =IF(10<=DAY(EOMONTH(DATE(Anio,2,1),0)),DATE(Anio,2,10),"") | B19: =IF(A19="","",A19) | H19: =IF(OR(C19="",D19=""),0,MOD(D19-C19,1))+IF(OR(E19="",F19=""),0,MOD(F19-E19,1))-N(G19)
A20: =IF(11<=DAY(EOMONTH(DATE(Anio,2,1),0)),DATE(Anio,2,11),"") | B20: =IF(A20="","",A20) | H20: =IF(OR(C20="",D20=""),0,MOD(D20-C20,1))+IF(OR(E20="",F20=""),0,MOD(F20-E20,1))-N(G20)
A21: =IF(12<=DAY(EOMONTH(DATE(Anio,2,1),0)),DATE(Anio,2,12),"") | B21: =IF(A21="","",A21) | H21: =IF(OR(C21="",D21=""),0,MOD(D21-C21,1))+IF(OR(E21="",F21=""),0,MOD(F21-E21,1))-N(G21)
A22: =IF(13<=DAY(EOMONTH(DATE(Anio,2,1),0)),DATE(Anio,2,13),"") | B22: =IF(A22="","",A22) | H22: =IF(OR(C22="",D22=""),0,MOD(D22-C22,1))+IF(OR(E22="",F22=""),0,MOD(F22-E22,1))-N(G22)
A23: =IF(14<=DAY(EOMONTH(DATE(Anio,2,1),0)),DATE(Anio,2,14),"") | B23: =IF(A23="","",A23) | H23: =IF(OR(C23="",D23=""),0,MOD(D23-C23,1))+IF(OR(E23="",F23=""),0,MOD(F23-E23,1))-N(G23)
A24: =IF(15<=DAY(EOMONTH(DATE(Anio,2,1),0)),DATE(Anio,2,15),"") | B24: =IF(A24="","",A24) | H24: =IF(OR(C24="",D24=""),0,MOD(D24-C24,1))+IF(OR(E24="",F24=""),0,MOD(F24-E24,1))-N(G24)
A25: =IF(16<=DAY(EOMONTH(DATE(Anio,2,1),0)),DATE(Anio,2,16),"") | B25: =IF(A25="","",A25) | H25: =IF(OR(C25="",D25=""),0,MOD(D25-C25,1))+IF(OR(E25="",F25=""),0,MOD(F25-E25,1))-N(G25)
A26: =IF(17<=DAY(EOMONTH(DATE(Anio,2,1),0)),DATE(Anio,2,17),"") | B26: =IF(A26="","",A26) | H26: =IF(OR(C26="",D26=""),0,MOD(D26-C26,1))+IF(OR(E26="",F26=""),0,MOD(F26-E26,1))-N(G26)
A27: =IF(18<=DAY(EOMONTH(DATE(Anio,2,1),0)),DATE(Anio,2,18),"") | B27: =IF(A27="","",A27) | H27: =IF(OR(C27="",D27=""),0,MOD(D27-C27,1))+IF(OR(E27="",F27=""),0,MOD(F27-E27,1))-N(G27)
A28: =IF(19<=DAY(EOMONTH(DATE(Anio,2,1),0)),DATE(Anio,2,19),"") | B28: =IF(A28="","",A28) | H28: =IF(OR(C28="",D28=""),0,MOD(D28-C28,1))+IF(OR(E28="",F28=""),0,MOD(F28-E28,1))-N(G28)
A29: =IF(20<=DAY(EOMONTH(DATE(Anio,2,1),0)),DATE(Anio,2,20),"") | B29: =IF(A29="","",A29) | H29: =IF(OR(C29="",D29=""),0,MOD(D29-C29,1))+IF(OR(E29="",F29=""),0,MOD(F29-E29,1))-N(G29)
A30: =IF(21<=DAY(EOMONTH(DATE(Anio,2,1),0)),DATE(Anio,2,21),"") | B30: =IF(A30="","",A30) | H30: =IF(OR(C30="",D30=""),0,MOD(D30-C30,1))+IF(OR(E30="",F30=""),0,MOD(F30-E30,1))-N(G30)
A31: =IF(22<=DAY(EOMONTH(DATE(Anio,2,1),0)),DATE(Anio,2,22),"") | B31: =IF(A31="","",A31) | H31: =IF(OR(C31="",D31=""),0,MOD(D31-C31,1))+IF(OR(E31="",F31=""),0,MOD(F31-E31,1))-N(G31)
A32: =IF(23<=DAY(EOMONTH(DATE(Anio,2,1),0)),DATE(Anio,2,23),"") | B32: =IF(A32="","",A32) | H32: =IF(OR(C32="",D32=""),0,MOD(D32-C32,1))+IF(OR(E32="",F32=""),0,MOD(F32-E32,1))-N(G32)
A33: =IF(24<=DAY(EOMONTH(DATE(Anio,2,1),0)),DATE(Anio,2,24),"") | B33: =IF(A33="","",A33) | H33: =IF(OR(C33="",D33=""),0,MOD(D33-C33,1))+IF(OR(E33="",F33=""),0,MOD(F33-E33,1))-N(G33)
A34: =IF(25<=DAY(EOMONTH(DATE(Anio,2,1),0)),DATE(Anio,2,25),"") | B34: =IF(A34="","",A34) | H34: =IF(OR(C34="",D34=""),0,MOD(D34-C34,1))+IF(OR(E34="",F34=""),0,MOD(F34-E34,1))-N(G34)
A35: =IF(26<=DAY(EOMONTH(DATE(Anio,2,1),0)),DATE(Anio,2,26),"") | B35: =IF(A35="","",A35) | H35: =IF(OR(C35="",D35=""),0,MOD(D35-C35,1))+IF(OR(E35="",F35=""),0,MOD(F35-E35,1))-N(G35)
A36: =IF(27<=DAY(EOMONTH(DATE(Anio,2,1),0)),DATE(Anio,2,27),"") | B36: =IF(A36="","",A36) | H36: =IF(OR(C36="",D36=""),0,MOD(D36-C36,1))+IF(OR(E36="",F36=""),0,MOD(F36-E36,1))-N(G36)
A37: =IF(28<=DAY(EOMONTH(DATE(Anio,2,1),0)),DATE(Anio,2,28),"") | B37: =IF(A37="","",A37) | H37: =IF(OR(C37="",D37=""),0,MOD(D37-C37,1))+IF(OR(E37="",F37=""),0,MOD(F37-E37,1))-N(G37)
A38: =IF(29<=DAY(EOMONTH(DATE(Anio,2,1),0)),DATE(Anio,2,29),"") | B38: =IF(A38="","",A38) | H38: =IF(OR(C38="",D38=""),0,MOD(D38-C38,1))+IF(OR(E38="",F38=""),0,MOD(F38-E38,1))-N(G38)
A39: =IF(30<=DAY(EOMONTH(DATE(Anio,2,1),0)),DATE(Anio,2,30),"") | B39: =IF(A39="","",A39) | H39: =IF(OR(C39="",D39=""),0,MOD(D39-C39,1))+IF(OR(E39="",F39=""),0,MOD(F39-E39,1))-N(G39)
A40: =IF(31<=DAY(EOMONTH(DATE(Anio,2,1),0)),DATE(Anio,2,31),"") | B40: =IF(A40="","",A40) | H40: =IF(OR(C40="",D40=""),0,MOD(D40-C40,1))+IF(OR(E40="",F40=""),0,MOD(F40-E40,1))-N(G40)
A41: Total de horas del mes | H41: =SUM(H10:H40) | I41: =ROUND(H41*24,2)
A43: En ____________________, a ____ de ____________ de ______
A45: Firma de la persona trabajadora | F45: Firma y sello de la empresa
A48: La empresa conservará este registro durante cuatro años (art. 34.9 del Estatuto de los Trabajadores). Plantilla de www.modelines.com

Sheet Marzo
A1: Registro diario de jornada
A3: Empresa: | C3: =IF(Empresa="","",Empresa) | H3: NIF: | I3: =IF(NIFEmpresa="","",NIFEmpresa)
A4: Centro de trabajo: | C4: =IF(Centro="","",Centro) | H4: Mes: | I4: ="Marzo "&Anio
A5: Persona trabajadora: | C5: =IF(Trabajador="","",Trabajador) | H5: NIF: | I5: =IF(NIFTrabajador="","",NIFTrabajador)
A7: Horas en formato 8:00. Si la jornada es continua, deja vacío el segundo tramo. Las pausas no computables se restan del total.
A8: Fecha | B8: Día | C8: Primer tramo | E8: Segundo tramo | G8: Pausas no computables | H8: Horas trabajadas | I8: Observaciones | J8: Firma
C9: Entrada | D9: Salida | E9: Entrada | F9: Salida
A10: =IF(1<=DAY(EOMONTH(DATE(Anio,3,1),0)),DATE(Anio,3,1),"") | B10: =IF(A10="","",A10) | H10: =IF(OR(C10="",D10=""),0,MOD(D10-C10,1))+IF(OR(E10="",F10=""),0,MOD(F10-E10,1))-N(G10)
A11: =IF(2<=DAY(EOMONTH(DATE(Anio,3,1),0)),DATE(Anio,3,2),"") | B11: =IF(A11="","",A11) | H11: =IF(OR(C11="",D11=""),0,MOD(D11-C11,1))+IF(OR(E11="",F11=""),0,MOD(F11-E11,1))-N(G11)
A12: =IF(3<=DAY(EOMONTH(DATE(Anio,3,1),0)),DATE(Anio,3,3),"") | B12: =IF(A12="","",A12) | H12: =IF(OR(C12="",D12=""),0,MOD(D12-C12,1))+IF(OR(E12="",F12=""),0,MOD(F12-E12,1))-N(G12)
A13: =IF(4<=DAY(EOMONTH(DATE(Anio,3,1),0)),DATE(Anio,3,4),"") | B13: =IF(A13="","",A13) | H13: =IF(OR(C13="",D13=""),0,MOD(D13-C13,1))+IF(OR(E13="",F13=""),0,MOD(F13-E13,1))-N(G13)
A14: =IF(5<=DAY(EOMONTH(DATE(Anio,3,1),0)),DATE(Anio,3,5),"") | B14: =IF(A14="","",A14) | H14: =IF(OR(C14="",D14=""),0,MOD(D14-C14,1))+IF(OR(E14="",F14=""),0,MOD(F14-E14,1))-N(G14)
A15: =IF(6<=DAY(EOMONTH(DATE(Anio,3,1),0)),DATE(Anio,3,6),"") | B15: =IF(A15="","",A15) | H15: =IF(OR(C15="",D15=""),0,MOD(D15-C15,1))+IF(OR(E15="",F15=""),0,MOD(F15-E15,1))-N(G15)
A16: =IF(7<=DAY(EOMONTH(DATE(Anio,3,1),0)),DATE(Anio,3,7),"") | B16: =IF(A16="","",A16) | H16: =IF(OR(C16="",D16=""),0,MOD(D16-C16,1))+IF(OR(E16="",F16=""),0,MOD(F16-E16,1))-N(G16)
A17: =IF(8<=DAY(EOMONTH(DATE(Anio,3,1),0)),DATE(Anio,3,8),"") | B17: =IF(A17="","",A17) | H17: =IF(OR(C17="",D17=""),0,MOD(D17-C17,1))+IF(OR(E17="",F17=""),0,MOD(F17-E17,1))-N(G17)
A18: =IF(9<=DAY(EOMONTH(DATE(Anio,3,1),0)),DATE(Anio,3,9),"") | B18: =IF(A18="","",A18) | H18: =IF(OR(C18="",D18=""),0,MOD(D18-C18,1))+IF(OR(E18="",F18=""),0,MOD(F18-E18,1))-N(G18)
A19: =IF(10<=DAY(EOMONTH(DATE(Anio,3,1),0)),DATE(Anio,3,10),"") | B19: =IF(A19="","",A19) | H19: =IF(OR(C19="",D19=""),0,MOD(D19-C19,1))+IF(OR(E19="",F19=""),0,MOD(F19-E19,1))-N(G19)
A20: =IF(11<=DAY(EOMONTH(DATE(Anio,3,1),0)),DATE(Anio,3,11),"") | B20: =IF(A20="","",A20) | H20: =IF(OR(C20="",D20=""),0,MOD(D20-C20,1))+IF(OR(E20="",F20=""),0,MOD(F20-E20,1))-N(G20)
A21: =IF(12<=DAY(EOMONTH(DATE(Anio,3,1),0)),DATE(Anio,3,12),"") | B21: =IF(A21="","",A21) | H21: =IF(OR(C21="",D21=""),0,MOD(D21-C21,1))+IF(OR(E21="",F21=""),0,MOD(F21-E21,1))-N(G21)
A22: =IF(13<=DAY(EOMONTH(DATE(Anio,3,1),0)),DATE(Anio,3,13),"") | B22: =IF(A22="","",A22) | H22: =IF(OR(C22="",D22=""),0,MOD(D22-C22,1))+IF(OR(E22="",F22=""),0,MOD(F22-E22,1))-N(G22)
A23: =IF(14<=DAY(EOMONTH(DATE(Anio,3,1),0)),DATE(Anio,3,14),"") | B23: =IF(A23="","",A23) | H23: =IF(OR(C23="",D23=""),0,MOD(D23-C23,1))+IF(OR(E23="",F23=""),0,MOD(F23-E23,1))-N(G23)
A24: =IF(15<=DAY(EOMONTH(DATE(Anio,3,1),0)),DATE(Anio,3,15),"") | B24: =IF(A24="","",A24) | H24: =IF(OR(C24="",D24=""),0,MOD(D24-C24,1))+IF(OR(E24="",F24=""),0,MOD(F24-E24,1))-N(G24)
A25: =IF(16<=DAY(EOMONTH(DATE(Anio,3,1),0)),DATE(Anio,3,16),"") | B25: =IF(A25="","",A25) | H25: =IF(OR(C25="",D25=""),0,MOD(D25-C25,1))+IF(OR(E25="",F25=""),0,MOD(F25-E25,1))-N(G25)
A26: =IF(17<=DAY(EOMONTH(DATE(Anio,3,1),0)),DATE(Anio,3,17),"") | B26: =IF(A26="","",A26) | H26: =IF(OR(C26="",D26=""),0,MOD(D26-C26,1))+IF(OR(E26="",F26=""),0,MOD(F26-E26,1))-N(G26)
A27: =IF(18<=DAY(EOMONTH(DATE(Anio,3,1),0)),DATE(Anio,3,18),"") | B27: =IF(A27="","",A27) | H27: =IF(OR(C27="",D27=""),0,MOD(D27-C27,1))+IF(OR(E27="",F27=""),0,MOD(F27-E27,1))-N(G27)
A28: =IF(19<=DAY(EOMONTH(DATE(Anio,3,1),0)),DATE(Anio,3,19),"") | B28: =IF(A28="","",A28) | H28: =IF(OR(C28="",D28=""),0,MOD(D28-C28,1))+IF(OR(E28="",F28=""),0,MOD(F28-E28,1))-N(G28)
A29: =IF(20<=DAY(EOMONTH(DATE(Anio,3,1),0)),DATE(Anio,3,20),"") | B29: =IF(A29="","",A29) | H29: =IF(OR(C29="",D29=""),0,MOD(D29-C29,1))+IF(OR(E29="",F29=""),0,MOD(F29-E29,1))-N(G29)
A30: =IF(21<=DAY(EOMONTH(DATE(Anio,3,1),0)),DATE(Anio,3,21),"") | B30: =IF(A30="","",A30) | H30: =IF(OR(C30="",D30=""),0,MOD(D30-C30,1))+IF(OR(E30="",F30=""),0,MOD(F30-E30,1))-N(G30)
A31: =IF(22<=DAY(EOMONTH(DATE(Anio,3,1),0)),DATE(Anio,3,22),"") | B31: =IF(A31="","",A31) | H31: =IF(OR(C31="",D31=""),0,MOD(D31-C31,1))+IF(OR(E31="",F31=""),0,MOD(F31-E31,1))-N(G31)
A32: =IF(23<=DAY(EOMONTH(DATE(Anio,3,1),0)),DATE(Anio,3,23),"") | B32: =IF(A32="","",A32) | H32: =IF(OR(C32="",D32=""),0,MOD(D32-C32,1))+IF(OR(E32="",F32=""),0,MOD(F32-E32,1))-N(G32)
A33: =IF(24<=DAY(EOMONTH(DATE(Anio,3,1),0)),DATE(Anio,3,24),"") | B33: =IF(A33="","",A33) | H33: =IF(OR(C33="",D33=""),0,MOD(D33-C33,1))+IF(OR(E33="",F33=""),0,MOD(F33-E33,1))-N(G33)
A34: =IF(25<=DAY(EOMONTH(DATE(Anio,3,1),0)),DATE(Anio,3,25),"") | B34: =IF(A34="","",A34) | H34: =IF(OR(C34="",D34=""),0,MOD(D34-C34,1))+IF(OR(E34="",F34=""),0,MOD(F34-E34,1))-N(G34)
A35: =IF(26<=DAY(EOMONTH(DATE(Anio,3,1),0)),DATE(Anio,3,26),"") | B35: =IF(A35="","",A35) | H35: =IF(OR(C35="",D35=""),0,MOD(D35-C35,1))+IF(OR(E35="",F35=""),0,MOD(F35-E35,1))-N(G35)
A36: =IF(27<=DAY(EOMONTH(DATE(Anio,3,1),0)),DATE(Anio,3,27),"") | B36: =IF(A36="","",A36) | H36: =IF(OR(C36="",D36=""),0,MOD(D36-C36,1))+IF(OR(E36="",F36=""),0,MOD(F36-E36,1))-N(G36)
A37: =IF(28<=DAY(EOMONTH(DATE(Anio,3,1),0)),DATE(Anio,3,28),"") | B37: =IF(A37="","",A37) | H37: =IF(OR(C37="",D37=""),0,MOD(D37-C37,1))+IF(OR(E37="",F37=""),0,MOD(F37-E37,1))-N(G37)
A38: =IF(29<=DAY(EOMONTH(DATE(Anio,3,1),0)),DATE(Anio,3,29),"") | B38: =IF(A38="","",A38) | H38: =IF(OR(C38="",D38=""),0,MOD(D38-C38,1))+IF(OR(E38="",F38=""),0,MOD(F38-E38,1))-N(G38)
A39: =IF(30<=DAY(EOMONTH(DATE(Anio,3,1),0)),DATE(Anio,3,30),"") | B39: =IF(A39="","",A39) | H39: =IF(OR(C39="",D39=""),0,MOD(D39-C39,1))+IF(OR(E39="",F39=""),0,MOD(F39-E39,1))-N(G39)
A40: =IF(31<=DAY(EOMONTH(DATE(Anio,3,1),0)),DATE(Anio,3,31),"") | B40: =IF(A40="","",A40) | H40: =IF(OR(C40="",D40=""),0,MOD(D40-C40,1))+IF(OR(E40="",F40=""),0,MOD(F40-E40,1))-N(G40)
A41: Total de horas del mes | H41: =SUM(H10:H40) | I41: =ROUND(H41*24,2)
A43: En ____________________, a ____ de ____________ de ______
A45: Firma de la persona trabajadora | F45: Firma y sello de la empresa
A48: La empresa conservará este registro durante cuatro años (art. 34.9 del Estatuto de los Trabajadores). Plantilla de www.modelines.com

Sheet Abril
A1: Registro diario de jornada
A3: Empresa: | C3: =IF(Empresa="","",Empresa) | H3: NIF: | I3: =IF(NIFEmpresa="","",NIFEmpresa)
A4: Centro de trabajo: | C4: =IF(Centro="","",Centro) | H4: Mes: | I4: ="Abril "&Anio
A5: Persona trabajadora: | C5: =IF(Trabajador="","",Trabajador) | H5: NIF: | I5: =IF(NIFTrabajador="","",NIFTrabajador)
A7: Horas en formato 8:00. Si la jornada es continua, deja vacío el segundo tramo. Las pausas no computables se restan del total.
A8: Fecha | B8: Día | C8: Primer tramo | E8: Segundo tramo | G8: Pausas no computables | H8: Horas trabajadas | I8: Observaciones | J8: Firma
C9: Entrada | D9: Salida | E9: Entrada | F9: Salida
A10: =IF(1<=DAY(EOMONTH(DATE(Anio,4,1),0)),DATE(Anio,4,1),"") | B10: =IF(A10="","",A10) | H10: =IF(OR(C10="",D10=""),0,MOD(D10-C10,1))+IF(OR(E10="",F10=""),0,MOD(F10-E10,1))-N(G10)
A11: =IF(2<=DAY(EOMONTH(DATE(Anio,4,1),0)),DATE(Anio,4,2),"") | B11: =IF(A11="","",A11) | H11: =IF(OR(C11="",D11=""),0,MOD(D11-C11,1))+IF(OR(E11="",F11=""),0,MOD(F11-E11,1))-N(G11)
A12: =IF(3<=DAY(EOMONTH(DATE(Anio,4,1),0)),DATE(Anio,4,3),"") | B12: =IF(A12="","",A12) | H12: =IF(OR(C12="",D12=""),0,MOD(D12-C12,1))+IF(OR(E12="",F12=""),0,MOD(F12-E12,1))-N(G12)
A13: =IF(4<=DAY(EOMONTH(DATE(Anio,4,1),0)),DATE(Anio,4,4),"") | B13: =IF(A13="","",A13) | H13: =IF(OR(C13="",D13=""),0,MOD(D13-C13,1))+IF(OR(E13="",F13=""),0,MOD(F13-E13,1))-N(G13)
A14: =IF(5<=DAY(EOMONTH(DATE(Anio,4,1),0)),DATE(Anio,4,5),"") | B14: =IF(A14="","",A14) | H14: =IF(OR(C14="",D14=""),0,MOD(D14-C14,1))+IF(OR(E14="",F14=""),0,MOD(F14-E14,1))-N(G14)
A15: =IF(6<=DAY(EOMONTH(DATE(Anio,4,1),0)),DATE(Anio,4,6),"") | B15: =IF(A15="","",A15) | H15: =IF(OR(C15="",D15=""),0,MOD(D15-C15,1))+IF(OR(E15="",F15=""),0,MOD(F15-E15,1))-N(G15)
A16: =IF(7<=DAY(EOMONTH(DATE(Anio,4,1),0)),DATE(Anio,4,7),"") | B16: =IF(A16="","",A16) | H16: =IF(OR(C16="",D16=""),0,MOD(D16-C16,1))+IF(OR(E16="",F16=""),0,MOD(F16-E16,1))-N(G16)
A17: =IF(8<=DAY(EOMONTH(DATE(Anio,4,1),0)),DATE(Anio,4,8),"") | B17: =IF(A17="","",A17) | H17: =IF(OR(C17="",D17=""),0,MOD(D17-C17,1))+IF(OR(E17="",F17=""),0,MOD(F17-E17,1))-N(G17)
A18: =IF(9<=DAY(EOMONTH(DATE(Anio,4,1),0)),DATE(Anio,4,9),"") | B18: =IF(A18="","",A18) | H18: =IF(OR(C18="",D18=""),0,MOD(D18-C18,1))+IF(OR(E18="",F18=""),0,MOD(F18-E18,1))-N(G18)
A19: =IF(10<=DAY(EOMONTH(DATE(Anio,4,1),0)),DATE(Anio,4,10),"") | B19: =IF(A19="","",A19) | H19: =IF(OR(C19="",D19=""),0,MOD(D19-C19,1))+IF(OR(E19="",F19=""),0,MOD(F19-E19,1))-N(G19)
A20: =IF(11<=DAY(EOMONTH(DATE(Anio,4,1),0)),DATE(Anio,4,11),"") | B20: =IF(A20="","",A20) | H20: =IF(OR(C20="",D20=""),0,MOD(D20-C20,1))+IF(OR(E20="",F20=""),0,MOD(F20-E20,1))-N(G20)
A21: =IF(12<=DAY(EOMONTH(DATE(Anio,4,1),0)),DATE(Anio,4,12),"") | B21: =IF(A21="","",A21) | H21: =IF(OR(C21="",D21=""),0,MOD(D21-C21,1))+IF(OR(E21="",F21=""),0,MOD(F21-E21,1))-N(G21)
A22: =IF(13<=DAY(EOMONTH(DATE(Anio,4,1),0)),DATE(Anio,4,13),"") | B22: =IF(A22="","",A22) | H22: =IF(OR(C22="",D22=""),0,MOD(D22-C22,1))+IF(OR(E22="",F22=""),0,MOD(F22-E22,1))-N(G22)
A23: =IF(14<=DAY(EOMONTH(DATE(Anio,4,1),0)),DATE(Anio,4,14),"") | B23: =IF(A23="","",A23) | H23: =IF(OR(C23="",D23=""),0,MOD(D23-C23,1))+IF(OR(E23="",F23=""),0,MOD(F23-E23,1))-N(G23)
A24: =IF(15<=DAY(EOMONTH(DATE(Anio,4,1),0)),DATE(Anio,4,15),"") | B24: =IF(A24="","",A24) | H24: =IF(OR(C24="",D24=""),0,MOD(D24-C24,1))+IF(OR(E24="",F24=""),0,MOD(F24-E24,1))-N(G24)
A25: =IF(16<=DAY(EOMONTH(DATE(Anio,4,1),0)),DATE(Anio,4,16),"") | B25: =IF(A25="","",A25) | H25: =IF(OR(C25="",D25=""),0,MOD(D25-C25,1))+IF(OR(E25="",F25=""),0,MOD(F25-E25,1))-N(G25)
A26: =IF(17<=DAY(EOMONTH(DATE(Anio,4,1),0)),DATE(Anio,4,17),"") | B26: =IF(A26="","",A26) | H26: =IF(OR(C26="",D26=""),0,MOD(D26-C26,1))+IF(OR(E26="",F26=""),0,MOD(F26-E26,1))-N(G26)
A27: =IF(18<=DAY(EOMONTH(DATE(Anio,4,1),0)),DATE(Anio,4,18),"") | B27: =IF(A27="","",A27) | H27: =IF(OR(C27="",D27=""),0,MOD(D27-C27,1))+IF(OR(E27="",F27=""),0,MOD(F27-E27,1))-N(G27)
A28: =IF(19<=DAY(EOMONTH(DATE(Anio,4,1),0)),DATE(Anio,4,19),"") | B28: =IF(A28="","",A28) | H28: =IF(OR(C28="",D28=""),0,MOD(D28-C28,1))+IF(OR(E28="",F28=""),0,MOD(F28-E28,1))-N(G28)
A29: =IF(20<=DAY(EOMONTH(DATE(Anio,4,1),0)),DATE(Anio,4,20),"") | B29: =IF(A29="","",A29) | H29: =IF(OR(C29="",D29=""),0,MOD(D29-C29,1))+IF(OR(E29="",F29=""),0,MOD(F29-E29,1))-N(G29)
A30: =IF(21<=DAY(EOMONTH(DATE(Anio,4,1),0)),DATE(Anio,4,21),"") | B30: =IF(A30="","",A30) | H30: =IF(OR(C30="",D30=""),0,MOD(D30-C30,1))+IF(OR(E30="",F30=""),0,MOD(F30-E30,1))-N(G30)
A31: =IF(22<=DAY(EOMONTH(DATE(Anio,4,1),0)),DATE(Anio,4,22),"") | B31: =IF(A31="","",A31) | H31: =IF(OR(C31="",D31=""),0,MOD(D31-C31,1))+IF(OR(E31="",F31=""),0,MOD(F31-E31,1))-N(G31)
A32: =IF(23<=DAY(EOMONTH(DATE(Anio,4,1),0)),DATE(Anio,4,23),"") | B32: =IF(A32="","",A32) | H32: =IF(OR(C32="",D32=""),0,MOD(D32-C32,1))+IF(OR(E32="",F32=""),0,MOD(F32-E32,1))-N(G32)
A33: =IF(24<=DAY(EOMONTH(DATE(Anio,4,1),0)),DATE(Anio,4,24),"") | B33: =IF(A33="","",A33) | H33: =IF(OR(C33="",D33=""),0,MOD(D33-C33,1))+IF(OR(E33="",F33=""),0,MOD(F33-E33,1))-N(G33)
A34: =IF(25<=DAY(EOMONTH(DATE(Anio,4,1),0)),DATE(Anio,4,25),"") | B34: =IF(A34="","",A34) | H34: =IF(OR(C34="",D34=""),0,MOD(D34-C34,1))+IF(OR(E34="",F34=""),0,MOD(F34-E34,1))-N(G34)
A35: =IF(26<=DAY(EOMONTH(DATE(Anio,4,1),0)),DATE(Anio,4,26),"") | B35: =IF(A35="","",A35) | H35: =IF(OR(C35="",D35=""),0,MOD(D35-C35,1))+IF(OR(E35="",F35=""),0,MOD(F35-E35,1))-N(G35)
A36: =IF(27<=DAY(EOMONTH(DATE(Anio,4,1),0)),DATE(Anio,4,27),"") | B36: =IF(A36="","",A36) | H36: =IF(OR(C36="",D36=""),0,MOD(D36-C36,1))+IF(OR(E36="",F36=""),0,MOD(F36-E36,1))-N(G36)
A37: =IF(28<=DAY(EOMONTH(DATE(Anio,4,1),0)),DATE(Anio,4,28),"") | B37: =IF(A37="","",A37) | H37: =IF(OR(C37="",D37=""),0,MOD(D37-C37,1))+IF(OR(E37="",F37=""),0,MOD(F37-E37,1))-N(G37)
A38: =IF(29<=DAY(EOMONTH(DATE(Anio,4,1),0)),DATE(Anio,4,29),"") | B38: =IF(A38="","",A38) | H38: =IF(OR(C38="",D38=""),0,MOD(D38-C38,1))+IF(OR(E38="",F38=""),0,MOD(F38-E38,1))-N(G38)
A39: =IF(30<=DAY(EOMONTH(DATE(Anio,4,1),0)),DATE(Anio,4,30),"") | B39: =IF(A39="","",A39) | H39: =IF(OR(C39="",D39=""),0,MOD(D39-C39,1))+IF(OR(E39="",F39=""),0,MOD(F39-E39,1))-N(G39)
A40: =IF(31<=DAY(EOMONTH(DATE(Anio,4,1),0)),DATE(Anio,4,31),"") | B40: =IF(A40="","",A40) | H40: =IF(OR(C40="",D40=""),0,MOD(D40-C40,1))+IF(OR(E40="",F40=""),0,MOD(F40-E40,1))-N(G40)
A41: Total de horas del mes | H41: =SUM(H10:H40) | I41: =ROUND(H41*24,2)
A43: En ____________________, a ____ de ____________ de ______
A45: Firma de la persona trabajadora | F45: Firma y sello de la empresa
A48: La empresa conservará este registro durante cuatro años (art. 34.9 del Estatuto de los Trabajadores). Plantilla de www.modelines.com

Sheet Mayo
A1: Registro diario de jornada
A3: Empresa: | C3: =IF(Empresa="","",Empresa) | H3: NIF: | I3: =IF(NIFEmpresa="","",NIFEmpresa)
A4: Centro de trabajo: | C4: =IF(Centro="","",Centro) | H4: Mes: | I4: ="Mayo "&Anio
A5: Persona trabajadora: | C5: =IF(Trabajador="","",Trabajador) | H5: NIF: | I5: =IF(NIFTrabajador="","",NIFTrabajador)
A7: Horas en formato 8:00. Si la jornada es continua, deja vacío el segundo tramo. Las pausas no computables se restan del total.
A8: Fecha | B8: Día | C8: Primer tramo | E8: Segundo tramo | G8: Pausas no computables | H8: Horas trabajadas | I8: Observaciones | J8: Firma
C9: Entrada | D9: Salida | E9: Entrada | F9: Salida
A10: =IF(1<=DAY(EOMONTH(DATE(Anio,5,1),0)),DATE(Anio,5,1),"") | B10: =IF(A10="","",A10) | H10: =IF(OR(C10="",D10=""),0,MOD(D10-C10,1))+IF(OR(E10="",F10=""),0,MOD(F10-E10,1))-N(G10)
A11: =IF(2<=DAY(EOMONTH(DATE(Anio,5,1),0)),DATE(Anio,5,2),"") | B11: =IF(A11="","",A11) | H11: =IF(OR(C11="",D11=""),0,MOD(D11-C11,1))+IF(OR(E11="",F11=""),0,MOD(F11-E11,1))-N(G11)
A12: =IF(3<=DAY(EOMONTH(DATE(Anio,5,1),0)),DATE(Anio,5,3),"") | B12: =IF(A12="","",A12) | H12: =IF(OR(C12="",D12=""),0,MOD(D12-C12,1))+IF(OR(E12="",F12=""),0,MOD(F12-E12,1))-N(G12)
A13: =IF(4<=DAY(EOMONTH(DATE(Anio,5,1),0)),DATE(Anio,5,4),"") | B13: =IF(A13="","",A13) | H13: =IF(OR(C13="",D13=""),0,MOD(D13-C13,1))+IF(OR(E13="",F13=""),0,MOD(F13-E13,1))-N(G13)
A14: =IF(5<=DAY(EOMONTH(DATE(Anio,5,1),0)),DATE(Anio,5,5),"") | B14: =IF(A14="","",A14) | H14: =IF(OR(C14="",D14=""),0,MOD(D14-C14,1))+IF(OR(E14="",F14=""),0,MOD(F14-E14,1))-N(G14)
A15: =IF(6<=DAY(EOMONTH(DATE(Anio,5,1),0)),DATE(Anio,5,6),"") | B15: =IF(A15="","",A15) | H15: =IF(OR(C15="",D15=""),0,MOD(D15-C15,1))+IF(OR(E15="",F15=""),0,MOD(F15-E15,1))-N(G15)
A16: =IF(7<=DAY(EOMONTH(DATE(Anio,5,1),0)),DATE(Anio,5,7),"") | B16: =IF(A16="","",A16) | H16: =IF(OR(C16="",D16=""),0,MOD(D16-C16,1))+IF(OR(E16="",F16=""),0,MOD(F16-E16,1))-N(G16)
A17: =IF(8<=DAY(EOMONTH(DATE(Anio,5,1),0)),DATE(Anio,5,8),"") | B17: =IF(A17="","",A17) | H17: =IF(OR(C17="",D17=""),0,MOD(D17-C17,1))+IF(OR(E17="",F17=""),0,MOD(F17-E17,1))-N(G17)
A18: =IF(9<=DAY(EOMONTH(DATE(Anio,5,1),0)),DATE(Anio,5,9),"") | B18: =IF(A18="","",A18) | H18: =IF(OR(C18="",D18=""),0,MOD(D18-C18,1))+IF(OR(E18="",F18=""),0,MOD(F18-E18,1))-N(G18)
A19: =IF(10<=DAY(EOMONTH(DATE(Anio,5,1),0)),DATE(Anio,5,10),"") | B19: =IF(A19="","",A19) | H19: =IF(OR(C19="",D19=""),0,MOD(D19-C19,1))+IF(OR(E19="",F19=""),0,MOD(F19-E19,1))-N(G19)
A20: =IF(11<=DAY(EOMONTH(DATE(Anio,5,1),0)),DATE(Anio,5,11),"") | B20: =IF(A20="","",A20) | H20: =IF(OR(C20="",D20=""),0,MOD(D20-C20,1))+IF(OR(E20="",F20=""),0,MOD(F20-E20,1))-N(G20)
A21: =IF(12<=DAY(EOMONTH(DATE(Anio,5,1),0)),DATE(Anio,5,12),"") | B21: =IF(A21="","",A21) | H21: =IF(OR(C21="",D21=""),0,MOD(D21-C21,1))+IF(OR(E21="",F21=""),0,MOD(F21-E21,1))-N(G21)
A22: =IF(13<=DAY(EOMONTH(DATE(Anio,5,1),0)),DATE(Anio,5,13),"") | B22: =IF(A22="","",A22) | H22: =IF(OR(C22="",D22=""),0,MOD(D22-C22,1))+IF(OR(E22="",F22=""),0,MOD(F22-E22,1))-N(G22)
A23: =IF(14<=DAY(EOMONTH(DATE(Anio,5,1),0)),DATE(Anio,5,14),"") | B23: =IF(A23="","",A23) | H23: =IF(OR(C23="",D23=""),0,MOD(D23-C23,1))+IF(OR(E23="",F23=""),0,MOD(F23-E23,1))-N(G23)
A24: =IF(15<=DAY(EOMONTH(DATE(Anio,5,1),0)),DATE(Anio,5,15),"") | B24: =IF(A24="","",A24) | H24: =IF(OR(C24="",D24=""),0,MOD(D24-C24,1))+IF(OR(E24="",F24=""),0,MOD(F24-E24,1))-N(G24)
A25: =IF(16<=DAY(EOMONTH(DATE(Anio,5,1),0)),DATE(Anio,5,16),"") | B25: =IF(A25="","",A25) | H25: =IF(OR(C25="",D25=""),0,MOD(D25-C25,1))+IF(OR(E25="",F25=""),0,MOD(F25-E25,1))-N(G25)
A26: =IF(17<=DAY(EOMONTH(DATE(Anio,5,1),0)),DATE(Anio,5,17),"") | B26: =IF(A26="","",A26) | H26: =IF(OR(C26="",D26=""),0,MOD(D26-C26,1))+IF(OR(E26="",F26=""),0,MOD(F26-E26,1))-N(G26)
A27: =IF(18<=DAY(EOMONTH(DATE(Anio,5,1),0)),DATE(Anio,5,18),"") | B27: =IF(A27="","",A27) | H27: =IF(OR(C27="",D27=""),0,MOD(D27-C27,1))+IF(OR(E27="",F27=""),0,MOD(F27-E27,1))-N(G27)
A28: =IF(19<=DAY(EOMONTH(DATE(Anio,5,1),0)),DATE(Anio,5,19),"") | B28: =IF(A28="","",A28) | H28: =IF(OR(C28="",D28=""),0,MOD(D28-C28,1))+IF(OR(E28="",F28=""),0,MOD(F28-E28,1))-N(G28)
A29: =IF(20<=DAY(EOMONTH(DATE(Anio,5,1),0)),DATE(Anio,5,20),"") | B29: =IF(A29="","",A29) | H29: =IF(OR(C29="",D29=""),0,MOD(D29-C29,1))+IF(OR(E29="",F29=""),0,MOD(F29-E29,1))-N(G29)
A30: =IF(21<=DAY(EOMONTH(DATE(Anio,5,1),0)),DATE(Anio,5,21),"") | B30: =IF(A30="","",A30) | H30: =IF(OR(C30="",D30=""),0,MOD(D30-C30,1))+IF(OR(E30="",F30=""),0,MOD(F30-E30,1))-N(G30)
A31: =IF(22<=DAY(EOMONTH(DATE(Anio,5,1),0)),DATE(Anio,5,22),"") | B31: =IF(A31="","",A31) | H31: =IF(OR(C31="",D31=""),0,MOD(D31-C31,1))+IF(OR(E31="",F31=""),0,MOD(F31-E31,1))-N(G31)
A32: =IF(23<=DAY(EOMONTH(DATE(Anio,5,1),0)),DATE(Anio,5,23),"") | B32: =IF(A32="","",A32) | H32: =IF(OR(C32="",D32=""),0,MOD(D32-C32,1))+IF(OR(E32="",F32=""),0,MOD(F32-E32,1))-N(G32)
A33: =IF(24<=DAY(EOMONTH(DATE(Anio,5,1),0)),DATE(Anio,5,24),"") | B33: =IF(A33="","",A33) | H33: =IF(OR(C33="",D33=""),0,MOD(D33-C33,1))+IF(OR(E33="",F33=""),0,MOD(F33-E33,1))-N(G33)
A34: =IF(25<=DAY(EOMONTH(DATE(Anio,5,1),0)),DATE(Anio,5,25),"") | B34: =IF(A34="","",A34) | H34: =IF(OR(C34="",D34=""),0,MOD(D34-C34,1))+IF(OR(E34="",F34=""),0,MOD(F34-E34,1))-N(G34)
A35: =IF(26<=DAY(EOMONTH(DATE(Anio,5,1),0)),DATE(Anio,5,26),"") | B35: =IF(A35="","",A35) | H35: =IF(OR(C35="",D35=""),0,MOD(D35-C35,1))+IF(OR(E35="",F35=""),0,MOD(F35-E35,1))-N(G35)
A36: =IF(27<=DAY(EOMONTH(DATE(Anio,5,1),0)),DATE(Anio,5,27),"") | B36: =IF(A36="","",A36) | H36: =IF(OR(C36="",D36=""),0,MOD(D36-C36,1))+IF(OR(E36="",F36=""),0,MOD(F36-E36,1))-N(G36)
A37: =IF(28<=DAY(EOMONTH(DATE(Anio,5,1),0)),DATE(Anio,5,28),"") | B37: =IF(A37="","",A37) | H37: =IF(OR(C37="",D37=""),0,MOD(D37-C37,1))+IF(OR(E37="",F37=""),0,MOD(F37-E37,1))-N(G37)
A38: =IF(29<=DAY(EOMONTH(DATE(Anio,5,1),0)),DATE(Anio,5,29),"") | B38: =IF(A38="","",A38) | H38: =IF(OR(C38="",D38=""),0,MOD(D38-C38,1))+IF(OR(E38="",F38=""),0,MOD(F38-E38,1))-N(G38)
A39: =IF(30<=DAY(EOMONTH(DATE(Anio,5,1),0)),DATE(Anio,5,30),"") | B39: =IF(A39="","",A39) | H39: =IF(OR(C39="",D39=""),0,MOD(D39-C39,1))+IF(OR(E39="",F39=""),0,MOD(F39-E39,1))-N(G39)
A40: =IF(31<=DAY(EOMONTH(DATE(Anio,5,1),0)),DATE(Anio,5,31),"") | B40: =IF(A40="","",A40) | H40: =IF(OR(C40="",D40=""),0,MOD(D40-C40,1))+IF(OR(E40="",F40=""),0,MOD(F40-E40,1))-N(G40)
A41: Total de horas del mes | H41: =SUM(H10:H40) | I41: =ROUND(H41*24,2)
A43: En ____________________, a ____ de ____________ de ______
A45: Firma de la persona trabajadora | F45: Firma y sello de la empresa
A48: La empresa conservará este registro durante cuatro años (art. 34.9 del Estatuto de los Trabajadores). Plantilla de www.modelines.com

Sheet Junio
A1: Registro diario de jornada
A3: Empresa: | C3: =IF(Empresa="","",Empresa) | H3: NIF: | I3: =IF(NIFEmpresa="","",NIFEmpresa)
A4: Centro de trabajo: | C4: =IF(Centro="","",Centro) | H4: Mes: | I4: ="Junio "&Anio
A5: Persona trabajadora: | C5: =IF(Trabajador="","",Trabajador) | H5: NIF: | I5: =IF(NIFTrabajador="","",NIFTrabajador)
A7: Horas en formato 8:00. Si la jornada es continua, deja vacío el segundo tramo. Las pausas no computables se restan del total.
A8: Fecha | B8: Día | C8: Primer tramo | E8: Segundo tramo | G8: Pausas no computables | H8: Horas trabajadas | I8: Observaciones | J8: Firma
C9: Entrada | D9: Salida | E9: Entrada | F9: Salida
A10: =IF(1<=DAY(EOMONTH(DATE(Anio,6,1),0)),DATE(Anio,6,1),"") | B10: =IF(A10="","",A10) | H10: =IF(OR(C10="",D10=""),0,MOD(D10-C10,1))+IF(OR(E10="",F10=""),0,MOD(F10-E10,1))-N(G10)
A11: =IF(2<=DAY(EOMONTH(DATE(Anio,6,1),0)),DATE(Anio,6,2),"") | B11: =IF(A11="","",A11) | H11: =IF(OR(C11="",D11=""),0,MOD(D11-C11,1))+IF(OR(E11="",F11=""),0,MOD(F11-E11,1))-N(G11)
A12: =IF(3<=DAY(EOMONTH(DATE(Anio,6,1),0)),DATE(Anio,6,3),"") | B12: =IF(A12="","",A12) | H12: =IF(OR(C12="",D12=""),0,MOD(D12-C12,1))+IF(OR(E12="",F12=""),0,MOD(F12-E12,1))-N(G12)
A13: =IF(4<=DAY(EOMONTH(DATE(Anio,6,1),0)),DATE(Anio,6,4),"") | B13: =IF(A13="","",A13) | H13: =IF(OR(C13="",D13=""),0,MOD(D13-C13,1))+IF(OR(E13="",F13=""),0,MOD(F13-E13,1))-N(G13)
A14: =IF(5<=DAY(EOMONTH(DATE(Anio,6,1),0)),DATE(Anio,6,5),"") | B14: =IF(A14="","",A14) | H14: =IF(OR(C14="",D14=""),0,MOD(D14-C14,1))+IF(OR(E14="",F14=""),0,MOD(F14-E14,1))-N(G14)
A15: =IF(6<=DAY(EOMONTH(DATE(Anio,6,1),0)),DATE(Anio,6,6),"") | B15: =IF(A15="","",A15) | H15: =IF(OR(C15="",D15=""),0,MOD(D15-C15,1))+IF(OR(E15="",F15=""),0,MOD(F15-E15,1))-N(G15)
A16: =IF(7<=DAY(EOMONTH(DATE(Anio,6,1),0)),DATE(Anio,6,7),"") | B16: =IF(A16="","",A16) | H16: =IF(OR(C16="",D16=""),0,MOD(D16-C16,1))+IF(OR(E16="",F16=""),0,MOD(F16-E16,1))-N(G16)
A17: =IF(8<=DAY(EOMONTH(DATE(Anio,6,1),0)),DATE(Anio,6,8),"") | B17: =IF(A17="","",A17) | H17: =IF(OR(C17="",D17=""),0,MOD(D17-C17,1))+IF(OR(E17="",F17=""),0,MOD(F17-E17,1))-N(G17)
A18: =IF(9<=DAY(EOMONTH(DATE(Anio,6,1),0)),DATE(Anio,6,9),"") | B18: =IF(A18="","",A18) | H18: =IF(OR(C18="",D18=""),0,MOD(D18-C18,1))+IF(OR(E18="",F18=""),0,MOD(F18-E18,1))-N(G18)
A19: =IF(10<=DAY(EOMONTH(DATE(Anio,6,1),0)),DATE(Anio,6,10),"") | B19: =IF(A19="","",A19) | H19: =IF(OR(C19="",D19=""),0,MOD(D19-C19,1))+IF(OR(E19="",F19=""),0,MOD(F19-E19,1))-N(G19)
A20: =IF(11<=DAY(EOMONTH(DATE(Anio,6,1),0)),DATE(Anio,6,11),"") | B20: =IF(A20="","",A20) | H20: =IF(OR(C20="",D20=""),0,MOD(D20-C20,1))+IF(OR(E20="",F20=""),0,MOD(F20-E20,1))-N(G20)
A21: =IF(12<=DAY(EOMONTH(DATE(Anio,6,1),0)),DATE(Anio,6,12),"") | B21: =IF(A21="","",A21) | H21: =IF(OR(C21="",D21=""),0,MOD(D21-C21,1))+IF(OR(E21="",F21=""),0,MOD(F21-E21,1))-N(G21)
A22: =IF(13<=DAY(EOMONTH(DATE(Anio,6,1),0)),DATE(Anio,6,13),"") | B22: =IF(A22="","",A22) | H22: =IF(OR(C22="",D22=""),0,MOD(D22-C22,1))+IF(OR(E22="",F22=""),0,MOD(F22-E22,1))-N(G22)
A23: =IF(14<=DAY(EOMONTH(DATE(Anio,6,1),0)),DATE(Anio,6,14),"") | B23: =IF(A23="","",A23) | H23: =IF(OR(C23="",D23=""),0,MOD(D23-C23,1))+IF(OR(E23="",F23=""),0,MOD(F23-E23,1))-N(G23)
A24: =IF(15<=DAY(EOMONTH(DATE(Anio,6,1),0)),DATE(Anio,6,15),"") | B24: =IF(A24="","",A24) | H24: =IF(OR(C24="",D24=""),0,MOD(D24-C24,1))+IF(OR(E24="",F24=""),0,MOD(F24-E24,1))-N(G24)
A25: =IF(16<=DAY(EOMONTH(DATE(Anio,6,1),0)),DATE(Anio,6,16),"") | B25: =IF(A25="","",A25) | H25: =IF(OR(C25="",D25=""),0,MOD(D25-C25,1))+IF(OR(E25="",F25=""),0,MOD(F25-E25,1))-N(G25)
A26: =IF(17<=DAY(EOMONTH(DATE(Anio,6,1),0)),DATE(Anio,6,17),"") | B26: =IF(A26="","",A26) | H26: =IF(OR(C26="",D26=""),0,MOD(D26-C26,1))+IF(OR(E26="",F26=""),0,MOD(F26-E26,1))-N(G26)
A27: =IF(18<=DAY(EOMONTH(DATE(Anio,6,1),0)),DATE(Anio,6,18),"") | B27: =IF(A27="","",A27) | H27: =IF(OR(C27="",D27=""),0,MOD(D27-C27,1))+IF(OR(E27="",F27=""),0,MOD(F27-E27,1))-N(G27)
A28: =IF(19<=DAY(EOMONTH(DATE(Anio,6,1),0)),DATE(Anio,6,19),"") | B28: =IF(A28="","",A28) | H28: =IF(OR(C28="",D28=""),0,MOD(D28-C28,1))+IF(OR(E28="",F28=""),0,MOD(F28-E28,1))-N(G28)
A29: =IF(20<=DAY(EOMONTH(DATE(Anio,6,1),0)),DATE(Anio,6,20),"") | B29: =IF(A29="","",A29) | H29: =IF(OR(C29="",D29=""),0,MOD(D29-C29,1))+IF(OR(E29="",F29=""),0,MOD(F29-E29,1))-N(G29)
A30: =IF(21<=DAY(EOMONTH(DATE(Anio,6,1),0)),DATE(Anio,6,21),"") | B30: =IF(A30="","",A30) | H30: =IF(OR(C30="",D30=""),0,MOD(D30-C30,1))+IF(OR(E30="",F30=""),0,MOD(F30-E30,1))-N(G30)
A31: =IF(22<=DAY(EOMONTH(DATE(Anio,6,1),0)),DATE(Anio,6,22),"") | B31: =IF(A31="","",A31) | H31: =IF(OR(C31="",D31=""),0,MOD(D31-C31,1))+IF(OR(E31="",F31=""),0,MOD(F31-E31,1))-N(G31)
A32: =IF(23<=DAY(EOMONTH(DATE(Anio,6,1),0)),DATE(Anio,6,23),"") | B32: =IF(A32="","",A32) | H32: =IF(OR(C32="",D32=""),0,MOD(D32-C32,1))+IF(OR(E32="",F32=""),0,MOD(F32-E32,1))-N(G32)
A33: =IF(24<=DAY(EOMONTH(DATE(Anio,6,1),0)),DATE(Anio,6,24),"") | B33: =IF(A33="","",A33) | H33: =IF(OR(C33="",D33=""),0,MOD(D33-C33,1))+IF(OR(E33="",F33=""),0,MOD(F33-E33,1))-N(G33)
A34: =IF(25<=DAY(EOMONTH(DATE(Anio,6,1),0)),DATE(Anio,6,25),"") | B34: =IF(A34="","",A34) | H34: =IF(OR(C34="",D34=""),0,MOD(D34-C34,1))+IF(OR(E34="",F34=""),0,MOD(F34-E34,1))-N(G34)
A35: =IF(26<=DAY(EOMONTH(DATE(Anio,6,1),0)),DATE(Anio,6,26),"") | B35: =IF(A35="","",A35) | H35: =IF(OR(C35="",D35=""),0,MOD(D35-C35,1))+IF(OR(E35="",F35=""),0,MOD(F35-E35,1))-N(G35)
A36: =IF(27<=DAY(EOMONTH(DATE(Anio,6,1),0)),DATE(Anio,6,27),"") | B36: =IF(A36="","",A36) | H36: =IF(OR(C36="",D36=""),0,MOD(D36-C36,1))+IF(OR(E36="",F36=""),0,MOD(F36-E36,1))-N(G36)
A37: =IF(28<=DAY(EOMONTH(DATE(Anio,6,1),0)),DATE(Anio,6,28),"") | B37: =IF(A37="","",A37) | H37: =IF(OR(C37="",D37=""),0,MOD(D37-C37,1))+IF(OR(E37="",F37=""),0,MOD(F37-E37,1))-N(G37)
A38: =IF(29<=DAY(EOMONTH(DATE(Anio,6,1),0)),DATE(Anio,6,29),"") | B38: =IF(A38="","",A38) | H38: =IF(OR(C38="",D38=""),0,MOD(D38-C38,1))+IF(OR(E38="",F38=""),0,MOD(F38-E38,1))-N(G38)
A39: =IF(30<=DAY(EOMONTH(DATE(Anio,6,1),0)),DATE(Anio,6,30),"") | B39: =IF(A39="","",A39) | H39: =IF(OR(C39="",D39=""),0,MOD(D39-C39,1))+IF(OR(E39="",F39=""),0,MOD(F39-E39,1))-N(G39)
A40: =IF(31<=DAY(EOMONTH(DATE(Anio,6,1),0)),DATE(Anio,6,31),"") | B40: =IF(A40="","",A40) | H40: =IF(OR(C40="",D40=""),0,MOD(D40-C40,1))+IF(OR(E40="",F40=""),0,MOD(F40-E40,1))-N(G40)
A41: Total de horas del mes | H41: =SUM(H10:H40) | I41: =ROUND(H41*24,2)
A43: En ____________________, a ____ de ____________ de ______
A45: Firma de la persona trabajadora | F45: Firma y sello de la empresa
A48: La empresa conservará este registro durante cuatro años (art. 34.9 del Estatuto de los Trabajadores). Plantilla de www.modelines.com

Sheet Julio
A1: Registro diario de jornada
A3: Empresa: | C3: =IF(Empresa="","",Empresa) | H3: NIF: | I3: =IF(NIFEmpresa="","",NIFEmpresa)
A4: Centro de trabajo: | C4: =IF(Centro="","",Centro) | H4: Mes: | I4: ="Julio "&Anio
A5: Persona trabajadora: | C5: =IF(Trabajador="","",Trabajador) | H5: NIF: | I5: =IF(NIFTrabajador="","",NIFTrabajador)
A7: Horas en formato 8:00. Si la jornada es continua, deja vacío el segundo tramo. Las pausas no computables se restan del total.
A8: Fecha | B8: Día | C8: Primer tramo | E8: Segundo tramo | G8: Pausas no computables | H8: Horas trabajadas | I8: Observaciones | J8: Firma
C9: Entrada | D9: Salida | E9: Entrada | F9: Salida
A10: =IF(1<=DAY(EOMONTH(DATE(Anio,7,1),0)),DATE(Anio,7,1),"") | B10: =IF(A10="","",A10) | H10: =IF(OR(C10="",D10=""),0,MOD(D10-C10,1))+IF(OR(E10="",F10=""),0,MOD(F10-E10,1))-N(G10)
A11: =IF(2<=DAY(EOMONTH(DATE(Anio,7,1),0)),DATE(Anio,7,2),"") | B11: =IF(A11="","",A11) | H11: =IF(OR(C11="",D11=""),0,MOD(D11-C11,1))+IF(OR(E11="",F11=""),0,MOD(F11-E11,1))-N(G11)
A12: =IF(3<=DAY(EOMONTH(DATE(Anio,7,1),0)),DATE(Anio,7,3),"") | B12: =IF(A12="","",A12) | H12: =IF(OR(C12="",D12=""),0,MOD(D12-C12,1))+IF(OR(E12="",F12=""),0,MOD(F12-E12,1))-N(G12)
A13: =IF(4<=DAY(EOMONTH(DATE(Anio,7,1),0)),DATE(Anio,7,4),"") | B13: =IF(A13="","",A13) | H13: =IF(OR(C13="",D13=""),0,MOD(D13-C13,1))+IF(OR(E13="",F13=""),0,MOD(F13-E13,1))-N(G13)
A14: =IF(5<=DAY(EOMONTH(DATE(Anio,7,1),0)),DATE(Anio,7,5),"") | B14: =IF(A14="","",A14) | H14: =IF(OR(C14="",D14=""),0,MOD(D14-C14,1))+IF(OR(E14="",F14=""),0,MOD(F14-E14,1))-N(G14)
A15: =IF(6<=DAY(EOMONTH(DATE(Anio,7,1),0)),DATE(Anio,7,6),"") | B15: =IF(A15="","",A15) | H15: =IF(OR(C15="",D15=""),0,MOD(D15-C15,1))+IF(OR(E15="",F15=""),0,MOD(F15-E15,1))-N(G15)
A16: =IF(7<=DAY(EOMONTH(DATE(Anio,7,1),0)),DATE(Anio,7,7),"") | B16: =IF(A16="","",A16) | H16: =IF(OR(C16="",D16=""),0,MOD(D16-C16,1))+IF(OR(E16="",F16=""),0,MOD(F16-E16,1))-N(G16)
A17: =IF(8<=DAY(EOMONTH(DATE(Anio,7,1),0)),DATE(Anio,7,8),"") | B17: =IF(A17="","",A17) | H17: =IF(OR(C17="",D17=""),0,MOD(D17-C17,1))+IF(OR(E17="",F17=""),0,MOD(F17-E17,1))-N(G17)
A18: =IF(9<=DAY(EOMONTH(DATE(Anio,7,1),0)),DATE(Anio,7,9),"") | B18: =IF(A18="","",A18) | H18: =IF(OR(C18="",D18=""),0,MOD(D18-C18,1))+IF(OR(E18="",F18=""),0,MOD(F18-E18,1))-N(G18)
A19: =IF(10<=DAY(EOMONTH(DATE(Anio,7,1),0)),DATE(Anio,7,10),"") | B19: =IF(A19="","",A19) | H19: =IF(OR(C19="",D19=""),0,MOD(D19-C19,1))+IF(OR(E19="",F19=""),0,MOD(F19-E19,1))-N(G19)
A20: =IF(11<=DAY(EOMONTH(DATE(Anio,7,1),0)),DATE(Anio,7,11),"") | B20: =IF(A20="","",A20) | H20: =IF(OR(C20="",D20=""),0,MOD(D20-C20,1))+IF(OR(E20="",F20=""),0,MOD(F20-E20,1))-N(G20)
A21: =IF(12<=DAY(EOMONTH(DATE(Anio,7,1),0)),DATE(Anio,7,12),"") | B21: =IF(A21="","",A21) | H21: =IF(OR(C21="",D21=""),0,MOD(D21-C21,1))+IF(OR(E21="",F21=""),0,MOD(F21-E21,1))-N(G21)
A22: =IF(13<=DAY(EOMONTH(DATE(Anio,7,1),0)),DATE(Anio,7,13),"") | B22: =IF(A22="","",A22) | H22: =IF(OR(C22="",D22=""),0,MOD(D22-C22,1))+IF(OR(E22="",F22=""),0,MOD(F22-E22,1))-N(G22)
A23: =IF(14<=DAY(EOMONTH(DATE(Anio,7,1),0)),DATE(Anio,7,14),"") | B23: =IF(A23="","",A23) | H23: =IF(OR(C23="",D23=""),0,MOD(D23-C23,1))+IF(OR(E23="",F23=""),0,MOD(F23-E23,1))-N(G23)
A24: =IF(15<=DAY(EOMONTH(DATE(Anio,7,1),0)),DATE(Anio,7,15),"") | B24: =IF(A24="","",A24) | H24: =IF(OR(C24="",D24=""),0,MOD(D24-C24,1))+IF(OR(E24="",F24=""),0,MOD(F24-E24,1))-N(G24)
A25: =IF(16<=DAY(EOMONTH(DATE(Anio,7,1),0)),DATE(Anio,7,16),"") | B25: =IF(A25="","",A25) | H25: =IF(OR(C25="",D25=""),0,MOD(D25-C25,1))+IF(OR(E25="",F25=""),0,MOD(F25-E25,1))-N(G25)
A26: =IF(17<=DAY(EOMONTH(DATE(Anio,7,1),0)),DATE(Anio,7,17),"") | B26: =IF(A26="","",A26) | H26: =IF(OR(C26="",D26=""),0,MOD(D26-C26,1))+IF(OR(E26="",F26=""),0,MOD(F26-E26,1))-N(G26)
A27: =IF(18<=DAY(EOMONTH(DATE(Anio,7,1),0)),DATE(Anio,7,18),"") | B27: =IF(A27="","",A27) | H27: =IF(OR(C27="",D27=""),0,MOD(D27-C27,1))+IF(OR(E27="",F27=""),0,MOD(F27-E27,1))-N(G27)
A28: =IF(19<=DAY(EOMONTH(DATE(Anio,7,1),0)),DATE(Anio,7,19),"") | B28: =IF(A28="","",A28) | H28: =IF(OR(C28="",D28=""),0,MOD(D28-C28,1))+IF(OR(E28="",F28=""),0,MOD(F28-E28,1))-N(G28)
A29: =IF(20<=DAY(EOMONTH(DATE(Anio,7,1),0)),DATE(Anio,7,20),"") | B29: =IF(A29="","",A29) | H29: =IF(OR(C29="",D29=""),0,MOD(D29-C29,1))+IF(OR(E29="",F29=""),0,MOD(F29-E29,1))-N(G29)
A30: =IF(21<=DAY(EOMONTH(DATE(Anio,7,1),0)),DATE(Anio,7,21),"") | B30: =IF(A30="","",A30) | H30: =IF(OR(C30="",D30=""),0,MOD(D30-C30,1))+IF(OR(E30="",F30=""),0,MOD(F30-E30,1))-N(G30)
A31: =IF(22<=DAY(EOMONTH(DATE(Anio,7,1),0)),DATE(Anio,7,22),"") | B31: =IF(A31="","",A31) | H31: =IF(OR(C31="",D31=""),0,MOD(D31-C31,1))+IF(OR(E31="",F31=""),0,MOD(F31-E31,1))-N(G31)
A32: =IF(23<=DAY(EOMONTH(DATE(Anio,7,1),0)),DATE(Anio,7,23),"") | B32: =IF(A32="","",A32) | H32: =IF(OR(C32="",D32=""),0,MOD(D32-C32,1))+IF(OR(E32="",F32=""),0,MOD(F32-E32,1))-N(G32)
A33: =IF(24<=DAY(EOMONTH(DATE(Anio,7,1),0)),DATE(Anio,7,24),"") | B33: =IF(A33="","",A33) | H33: =IF(OR(C33="",D33=""),0,MOD(D33-C33,1))+IF(OR(E33="",F33=""),0,MOD(F33-E33,1))-N(G33)
A34: =IF(25<=DAY(EOMONTH(DATE(Anio,7,1),0)),DATE(Anio,7,25),"") | B34: =IF(A34="","",A34) | H34: =IF(OR(C34="",D34=""),0,MOD(D34-C34,1))+IF(OR(E34="",F34=""),0,MOD(F34-E34,1))-N(G34)
A35: =IF(26<=DAY(EOMONTH(DATE(Anio,7,1),0)),DATE(Anio,7,26),"") | B35: =IF(A35="","",A35) | H35: =IF(OR(C35="",D35=""),0,MOD(D35-C35,1))+IF(OR(E35="",F35=""),0,MOD(F35-E35,1))-N(G35)
A36: =IF(27<=DAY(EOMONTH(DATE(Anio,7,1),0)),DATE(Anio,7,27),"") | B36: =IF(A36="","",A36) | H36: =IF(OR(C36="",D36=""),0,MOD(D36-C36,1))+IF(OR(E36="",F36=""),0,MOD(F36-E36,1))-N(G36)
A37: =IF(28<=DAY(EOMONTH(DATE(Anio,7,1),0)),DATE(Anio,7,28),"") | B37: =IF(A37="","",A37) | H37: =IF(OR(C37="",D37=""),0,MOD(D37-C37,1))+IF(OR(E37="",F37=""),0,MOD(F37-E37,1))-N(G37)
A38: =IF(29<=DAY(EOMONTH(DATE(Anio,7,1),0)),DATE(Anio,7,29),"") | B38: =IF(A38="","",A38) | H38: =IF(OR(C38="",D38=""),0,MOD(D38-C38,1))+IF(OR(E38="",F38=""),0,MOD(F38-E38,1))-N(G38)
A39: =IF(30<=DAY(EOMONTH(DATE(Anio,7,1),0)),DATE(Anio,7,30),"") | B39: =IF(A39="","",A39) | H39: =IF(OR(C39="",D39=""),0,MOD(D39-C39,1))+IF(OR(E39="",F39=""),0,MOD(F39-E39,1))-N(G39)
A40: =IF(31<=DAY(EOMONTH(DATE(Anio,7,1),0)),DATE(Anio,7,31),"") | B40: =IF(A40="","",A40) | H40: =IF(OR(C40="",D40=""),0,MOD(D40-C40,1))+IF(OR(E40="",F40=""),0,MOD(F40-E40,1))-N(G40)
A41: Total de horas del mes | H41: =SUM(H10:H40) | I41: =ROUND(H41*24,2)
A43: En ____________________, a ____ de ____________ de ______
A45: Firma de la persona trabajadora | F45: Firma y sello de la empresa
A48: La empresa conservará este registro durante cuatro años (art. 34.9 del Estatuto de los Trabajadores). Plantilla de www.modelines.com

Sheet Agosto
A1: Registro diario de jornada
A3: Empresa: | C3: =IF(Empresa="","",Empresa) | H3: NIF: | I3: =IF(NIFEmpresa="","",NIFEmpresa)
A4: Centro de trabajo: | C4: =IF(Centro="","",Centro) | H4: Mes: | I4: ="Agosto "&Anio
A5: Persona trabajadora: | C5: =IF(Trabajador="","",Trabajador) | H5: NIF: | I5: =IF(NIFTrabajador="","",NIFTrabajador)
A7: Horas en formato 8:00. Si la jornada es continua, deja vacío el segundo tramo. Las pausas no computables se restan del total.
A8: Fecha | B8: Día | C8: Primer tramo | E8: Segundo tramo | G8: Pausas no computables | H8: Horas trabajadas | I8: Observaciones | J8: Firma
C9: Entrada | D9: Salida | E9: Entrada | F9: Salida
A10: =IF(1<=DAY(EOMONTH(DATE(Anio,8,1),0)),DATE(Anio,8,1),"") | B10: =IF(A10="","",A10) | H10: =IF(OR(C10="",D10=""),0,MOD(D10-C10,1))+IF(OR(E10="",F10=""),0,MOD(F10-E10,1))-N(G10)
A11: =IF(2<=DAY(EOMONTH(DATE(Anio,8,1),0)),DATE(Anio,8,2),"") | B11: =IF(A11="","",A11) | H11: =IF(OR(C11="",D11=""),0,MOD(D11-C11,1))+IF(OR(E11="",F11=""),0,MOD(F11-E11,1))-N(G11)
A12: =IF(3<=DAY(EOMONTH(DATE(Anio,8,1),0)),DATE(Anio,8,3),"") | B12: =IF(A12="","",A12) | H12: =IF(OR(C12="",D12=""),0,MOD(D12-C12,1))+IF(OR(E12="",F12=""),0,MOD(F12-E12,1))-N(G12)
A13: =IF(4<=DAY(EOMONTH(DATE(Anio,8,1),0)),DATE(Anio,8,4),"") | B13: =IF(A13="","",A13) | H13: =IF(OR(C13="",D13=""),0,MOD(D13-C13,1))+IF(OR(E13="",F13=""),0,MOD(F13-E13,1))-N(G13)
A14: =IF(5<=DAY(EOMONTH(DATE(Anio,8,1),0)),DATE(Anio,8,5),"") | B14: =IF(A14="","",A14) | H14: =IF(OR(C14="",D14=""),0,MOD(D14-C14,1))+IF(OR(E14="",F14=""),0,MOD(F14-E14,1))-N(G14)
A15: =IF(6<=DAY(EOMONTH(DATE(Anio,8,1),0)),DATE(Anio,8,6),"") | B15: =IF(A15="","",A15) | H15: =IF(OR(C15="",D15=""),0,MOD(D15-C15,1))+IF(OR(E15="",F15=""),0,MOD(F15-E15,1))-N(G15)
A16: =IF(7<=DAY(EOMONTH(DATE(Anio,8,1),0)),DATE(Anio,8,7),"") | B16: =IF(A16="","",A16) | H16: =IF(OR(C16="",D16=""),0,MOD(D16-C16,1))+IF(OR(E16="",F16=""),0,MOD(F16-E16,1))-N(G16)
A17: =IF(8<=DAY(EOMONTH(DATE(Anio,8,1),0)),DATE(Anio,8,8),"") | B17: =IF(A17="","",A17) | H17: =IF(OR(C17="",D17=""),0,MOD(D17-C17,1))+IF(OR(E17="",F17=""),0,MOD(F17-E17,1))-N(G17)
A18: =IF(9<=DAY(EOMONTH(DATE(Anio,8,1),0)),DATE(Anio,8,9),"") | B18: =IF(A18="","",A18) | H18: =IF(OR(C18="",D18=""),0,MOD(D18-C18,1))+IF(OR(E18="",F18=""),0,MOD(F18-E18,1))-N(G18)
A19: =IF(10<=DAY(EOMONTH(DATE(Anio,8,1),0)),DATE(Anio,8,10),"") | B19: =IF(A19="","",A19) | H19: =IF(OR(C19="",D19=""),0,MOD(D19-C19,1))+IF(OR(E19="",F19=""),0,MOD(F19-E19,1))-N(G19)
A20: =IF(11<=DAY(EOMONTH(DATE(Anio,8,1),0)),DATE(Anio,8,11),"") | B20: =IF(A20="","",A20) | H20: =IF(OR(C20="",D20=""),0,MOD(D20-C20,1))+IF(OR(E20="",F20=""),0,MOD(F20-E20,1))-N(G20)
A21: =IF(12<=DAY(EOMONTH(DATE(Anio,8,1),0)),DATE(Anio,8,12),"") | B21: =IF(A21="","",A21) | H21: =IF(OR(C21="",D21=""),0,MOD(D21-C21,1))+IF(OR(E21="",F21=""),0,MOD(F21-E21,1))-N(G21)
A22: =IF(13<=DAY(EOMONTH(DATE(Anio,8,1),0)),DATE(Anio,8,13),"") | B22: =IF(A22="","",A22) | H22: =IF(OR(C22="",D22=""),0,MOD(D22-C22,1))+IF(OR(E22="",F22=""),0,MOD(F22-E22,1))-N(G22)
A23: =IF(14<=DAY(EOMONTH(DATE(Anio,8,1),0)),DATE(Anio,8,14),"") | B23: =IF(A23="","",A23) | H23: =IF(OR(C23="",D23=""),0,MOD(D23-C23,1))+IF(OR(E23="",F23=""),0,MOD(F23-E23,1))-N(G23)
A24: =IF(15<=DAY(EOMONTH(DATE(Anio,8,1),0)),DATE(Anio,8,15),"") | B24: =IF(A24="","",A24) | H24: =IF(OR(C24="",D24=""),0,MOD(D24-C24,1))+IF(OR(E24="",F24=""),0,MOD(F24-E24,1))-N(G24)
A25: =IF(16<=DAY(EOMONTH(DATE(Anio,8,1),0)),DATE(Anio,8,16),"") | B25: =IF(A25="","",A25) | H25: =IF(OR(C25="",D25=""),0,MOD(D25-C25,1))+IF(OR(E25="",F25=""),0,MOD(F25-E25,1))-N(G25)
A26: =IF(17<=DAY(EOMONTH(DATE(Anio,8,1),0)),DATE(Anio,8,17),"") | B26: =IF(A26="","",A26) | H26: =IF(OR(C26="",D26=""),0,MOD(D26-C26,1))+IF(OR(E26="",F26=""),0,MOD(F26-E26,1))-N(G26)
A27: =IF(18<=DAY(EOMONTH(DATE(Anio,8,1),0)),DATE(Anio,8,18),"") | B27: =IF(A27="","",A27) | H27: =IF(OR(C27="",D27=""),0,MOD(D27-C27,1))+IF(OR(E27="",F27=""),0,MOD(F27-E27,1))-N(G27)
A28: =IF(19<=DAY(EOMONTH(DATE(Anio,8,1),0)),DATE(Anio,8,19),"") | B28: =IF(A28="","",A28) | H28: =IF(OR(C28="",D28=""),0,MOD(D28-C28,1))+IF(OR(E28="",F28=""),0,MOD(F28-E28,1))-N(G28)
A29: =IF(20<=DAY(EOMONTH(DATE(Anio,8,1),0)),DATE(Anio,8,20),"") | B29: =IF(A29="","",A29) | H29: =IF(OR(C29="",D29=""),0,MOD(D29-C29,1))+IF(OR(E29="",F29=""),0,MOD(F29-E29,1))-N(G29)
A30: =IF(21<=DAY(EOMONTH(DATE(Anio,8,1),0)),DATE(Anio,8,21),"") | B30: =IF(A30="","",A30) | H30: =IF(OR(C30="",D30=""),0,MOD(D30-C30,1))+IF(OR(E30="",F30=""),0,MOD(F30-E30,1))-N(G30)
A31: =IF(22<=DAY(EOMONTH(DATE(Anio,8,1),0)),DATE(Anio,8,22),"") | B31: =IF(A31="","",A31) | H31: =IF(OR(C31="",D31=""),0,MOD(D31-C31,1))+IF(OR(E31="",F31=""),0,MOD(F31-E31,1))-N(G31)
A32: =IF(23<=DAY(EOMONTH(DATE(Anio,8,1),0)),DATE(Anio,8,23),"") | B32: =IF(A32="","",A32) | H32: =IF(OR(C32="",D32=""),0,MOD(D32-C32,1))+IF(OR(E32="",F32=""),0,MOD(F32-E32,1))-N(G32)
A33: =IF(24<=DAY(EOMONTH(DATE(Anio,8,1),0)),DATE(Anio,8,24),"") | B33: =IF(A33="","",A33) | H33: =IF(OR(C33="",D33=""),0,MOD(D33-C33,1))+IF(OR(E33="",F33=""),0,MOD(F33-E33,1))-N(G33)
A34: =IF(25<=DAY(EOMONTH(DATE(Anio,8,1),0)),DATE(Anio,8,25),"") | B34: =IF(A34="","",A34) | H34: =IF(OR(C34="",D34=""),0,MOD(D34-C34,1))+IF(OR(E34="",F34=""),0,MOD(F34-E34,1))-N(G34)
A35: =IF(26<=DAY(EOMONTH(DATE(Anio,8,1),0)),DATE(Anio,8,26),"") | B35: =IF(A35="","",A35) | H35: =IF(OR(C35="",D35=""),0,MOD(D35-C35,1))+IF(OR(E35="",F35=""),0,MOD(F35-E35,1))-N(G35)
A36: =IF(27<=DAY(EOMONTH(DATE(Anio,8,1),0)),DATE(Anio,8,27),"") | B36: =IF(A36="","",A36) | H36: =IF(OR(C36="",D36=""),0,MOD(D36-C36,1))+IF(OR(E36="",F36=""),0,MOD(F36-E36,1))-N(G36)
A37: =IF(28<=DAY(EOMONTH(DATE(Anio,8,1),0)),DATE(Anio,8,28),"") | B37: =IF(A37="","",A37) | H37: =IF(OR(C37="",D37=""),0,MOD(D37-C37,1))+IF(OR(E37="",F37=""),0,MOD(F37-E37,1))-N(G37)
A38: =IF(29<=DAY(EOMONTH(DATE(Anio,8,1),0)),DATE(Anio,8,29),"") | B38: =IF(A38="","",A38) | H38: =IF(OR(C38="",D38=""),0,MOD(D38-C38,1))+IF(OR(E38="",F38=""),0,MOD(F38-E38,1))-N(G38)
A39: =IF(30<=DAY(EOMONTH(DATE(Anio,8,1),0)),DATE(Anio,8,30),"") | B39: =IF(A39="","",A39) | H39: =IF(OR(C39="",D39=""),0,MOD(D39-C39,1))+IF(OR(E39="",F39=""),0,MOD(F39-E39,1))-N(G39)
A40: =IF(31<=DAY(EOMONTH(DATE(Anio,8,1),0)),DATE(Anio,8,31),"") | B40: =IF(A40="","",A40) | H40: =IF(OR(C40="",D40=""),0,MOD(D40-C40,1))+IF(OR(E40="",F40=""),0,MOD(F40-E40,1))-N(G40)
A41: Total de horas del mes | H41: =SUM(H10:H40) | I41: =ROUND(H41*24,2)
A43: En ____________________, a ____ de ____________ de ______
A45: Firma de la persona trabajadora | F45: Firma y sello de la empresa
A48: La empresa conservará este registro durante cuatro años (art. 34.9 del Estatuto de los Trabajadores). Plantilla de www.modelines.com

Sheet Septiembre
A1: Registro diario de jornada
A3: Empresa: | C3: =IF(Empresa="","",Empresa) | H3: NIF: | I3: =IF(NIFEmpresa="","",NIFEmpresa)
A4: Centro de trabajo: | C4: =IF(Centro="","",Centro) | H4: Mes: | I4: ="Septiembre "&Anio
A5: Persona trabajadora: | C5: =IF(Trabajador="","",Trabajador) | H5: NIF: | I5: =IF(NIFTrabajador="","",NIFTrabajador)
A7: Horas en formato 8:00. Si la jornada es continua, deja vacío el segundo tramo. Las pausas no computables se restan del total.
A8: Fecha | B8: Día | C8: Primer tramo | E8: Segundo tramo | G8: Pausas no computables | H8: Horas trabajadas | I8: Observaciones | J8: Firma
C9: Entrada | D9: Salida | E9: Entrada | F9: Salida
A10: =IF(1<=DAY(EOMONTH(DATE(Anio,9,1),0)),DATE(Anio,9,1),"") | B10: =IF(A10="","",A10) | H10: =IF(OR(C10="",D10=""),0,MOD(D10-C10,1))+IF(OR(E10="",F10=""),0,MOD(F10-E10,1))-N(G10)
A11: =IF(2<=DAY(EOMONTH(DATE(Anio,9,1),0)),DATE(Anio,9,2),"") | B11: =IF(A11="","",A11) | H11: =IF(OR(C11="",D11=""),0,MOD(D11-C11,1))+IF(OR(E11="",F11=""),0,MOD(F11-E11,1))-N(G11)
A12: =IF(3<=DAY(EOMONTH(DATE(Anio,9,1),0)),DATE(Anio,9,3),"") | B12: =IF(A12="","",A12) | H12: =IF(OR(C12="",D12=""),0,MOD(D12-C12,1))+IF(OR(E12="",F12=""),0,MOD(F12-E12,1))-N(G12)
A13: =IF(4<=DAY(EOMONTH(DATE(Anio,9,1),0)),DATE(Anio,9,4),"") | B13: =IF(A13="","",A13) | H13: =IF(OR(C13="",D13=""),0,MOD(D13-C13,1))+IF(OR(E13="",F13=""),0,MOD(F13-E13,1))-N(G13)
A14: =IF(5<=DAY(EOMONTH(DATE(Anio,9,1),0)),DATE(Anio,9,5),"") | B14: =IF(A14="","",A14) | H14: =IF(OR(C14="",D14=""),0,MOD(D14-C14,1))+IF(OR(E14="",F14=""),0,MOD(F14-E14,1))-N(G14)
A15: =IF(6<=DAY(EOMONTH(DATE(Anio,9,1),0)),DATE(Anio,9,6),"") | B15: =IF(A15="","",A15) | H15: =IF(OR(C15="",D15=""),0,MOD(D15-C15,1))+IF(OR(E15="",F15=""),0,MOD(F15-E15,1))-N(G15)
A16: =IF(7<=DAY(EOMONTH(DATE(Anio,9,1),0)),DATE(Anio,9,7),"") | B16: =IF(A16="","",A16) | H16: =IF(OR(C16="",D16=""),0,MOD(D16-C16,1))+IF(OR(E16="",F16=""),0,MOD(F16-E16,1))-N(G16)
A17: =IF(8<=DAY(EOMONTH(DATE(Anio,9,1),0)),DATE(Anio,9,8),"") | B17: =IF(A17="","",A17) | H17: =IF(OR(C17="",D17=""),0,MOD(D17-C17,1))+IF(OR(E17="",F17=""),0,MOD(F17-E17,1))-N(G17)
A18: =IF(9<=DAY(EOMONTH(DATE(Anio,9,1),0)),DATE(Anio,9,9),"") | B18: =IF(A18="","",A18) | H18: =IF(OR(C18="",D18=""),0,MOD(D18-C18,1))+IF(OR(E18="",F18=""),0,MOD(F18-E18,1))-N(G18)
A19: =IF(10<=DAY(EOMONTH(DATE(Anio,9,1),0)),DATE(Anio,9,10),"") | B19: =IF(A19="","",A19) | H19: =IF(OR(C19="",D19=""),0,MOD(D19-C19,1))+IF(OR(E19="",F19=""),0,MOD(F19-E19,1))-N(G19)
A20: =IF(11<=DAY(EOMONTH(DATE(Anio,9,1),0)),DATE(Anio,9,11),"") | B20: =IF(A20="","",A20) | H20: =IF(OR(C20="",D20=""),0,MOD(D20-C20,1))+IF(OR(E20="",F20=""),0,MOD(F20-E20,1))-N(G20)
A21: =IF(12<=DAY(EOMONTH(DATE(Anio,9,1),0)),DATE(Anio,9,12),"") | B21: =IF(A21="","",A21) | H21: =IF(OR(C21="",D21=""),0,MOD(D21-C21,1))+IF(OR(E21="",F21=""),0,MOD(F21-E21,1))-N(G21)
A22: =IF(13<=DAY(EOMONTH(DATE(Anio,9,1),0)),DATE(Anio,9,13),"") | B22: =IF(A22="","",A22) | H22: =IF(OR(C22="",D22=""),0,MOD(D22-C22,1))+IF(OR(E22="",F22=""),0,MOD(F22-E22,1))-N(G22)
A23: =IF(14<=DAY(EOMONTH(DATE(Anio,9,1),0)),DATE(Anio,9,14),"") | B23: =IF(A23="","",A23) | H23: =IF(OR(C23="",D23=""),0,MOD(D23-C23,1))+IF(OR(E23="",F23=""),0,MOD(F23-E23,1))-N(G23)
A24: =IF(15<=DAY(EOMONTH(DATE(Anio,9,1),0)),DATE(Anio,9,15),"") | B24: =IF(A24="","",A24) | H24: =IF(OR(C24="",D24=""),0,MOD(D24-C24,1))+IF(OR(E24="",F24=""),0,MOD(F24-E24,1))-N(G24)
A25: =IF(16<=DAY(EOMONTH(DATE(Anio,9,1),0)),DATE(Anio,9,16),"") | B25: =IF(A25="","",A25) | H25: =IF(OR(C25="",D25=""),0,MOD(D25-C25,1))+IF(OR(E25="",F25=""),0,MOD(F25-E25,1))-N(G25)
A26: =IF(17<=DAY(EOMONTH(DATE(Anio,9,1),0)),DATE(Anio,9,17),"") | B26: =IF(A26="","",A26) | H26: =IF(OR(C26="",D26=""),0,MOD(D26-C26,1))+IF(OR(E26="",F26=""),0,MOD(F26-E26,1))-N(G26)
A27: =IF(18<=DAY(EOMONTH(DATE(Anio,9,1),0)),DATE(Anio,9,18),"") | B27: =IF(A27="","",A27) | H27: =IF(OR(C27="",D27=""),0,MOD(D27-C27,1))+IF(OR(E27="",F27=""),0,MOD(F27-E27,1))-N(G27)
A28: =IF(19<=DAY(EOMONTH(DATE(Anio,9,1),0)),DATE(Anio,9,19),"") | B28: =IF(A28="","",A28) | H28: =IF(OR(C28="",D28=""),0,MOD(D28-C28,1))+IF(OR(E28="",F28=""),0,MOD(F28-E28,1))-N(G28)
A29: =IF(20<=DAY(EOMONTH(DATE(Anio,9,1),0)),DATE(Anio,9,20),"") | B29: =IF(A29="","",A29) | H29: =IF(OR(C29="",D29=""),0,MOD(D29-C29,1))+IF(OR(E29="",F29=""),0,MOD(F29-E29,1))-N(G29)
A30: =IF(21<=DAY(EOMONTH(DATE(Anio,9,1),0)),DATE(Anio,9,21),"") | B30: =IF(A30="","",A30) | H30: =IF(OR(C30="",D30=""),0,MOD(D30-C30,1))+IF(OR(E30="",F30=""),0,MOD(F30-E30,1))-N(G30)
A31: =IF(22<=DAY(EOMONTH(DATE(Anio,9,1),0)),DATE(Anio,9,22),"") | B31: =IF(A31="","",A31) | H31: =IF(OR(C31="",D31=""),0,MOD(D31-C31,1))+IF(OR(E31="",F31=""),0,MOD(F31-E31,1))-N(G31)
A32: =IF(23<=DAY(EOMONTH(DATE(Anio,9,1),0)),DATE(Anio,9,23),"") | B32: =IF(A32="","",A32) | H32: =IF(OR(C32="",D32=""),0,MOD(D32-C32,1))+IF(OR(E32="",F32=""),0,MOD(F32-E32,1))-N(G32)
A33: =IF(24<=DAY(EOMONTH(DATE(Anio,9,1),0)),DATE(Anio,9,24),"") | B33: =IF(A33="","",A33) | H33: =IF(OR(C33="",D33=""),0,MOD(D33-C33,1))+IF(OR(E33="",F33=""),0,MOD(F33-E33,1))-N(G33)
A34: =IF(25<=DAY(EOMONTH(DATE(Anio,9,1),0)),DATE(Anio,9,25),"") | B34: =IF(A34="","",A34) | H34: =IF(OR(C34="",D34=""),0,MOD(D34-C34,1))+IF(OR(E34="",F34=""),0,MOD(F34-E34,1))-N(G34)
A35: =IF(26<=DAY(EOMONTH(DATE(Anio,9,1),0)),DATE(Anio,9,26),"") | B35: =IF(A35="","",A35) | H35: =IF(OR(C35="",D35=""),0,MOD(D35-C35,1))+IF(OR(E35="",F35=""),0,MOD(F35-E35,1))-N(G35)
A36: =IF(27<=DAY(EOMONTH(DATE(Anio,9,1),0)),DATE(Anio,9,27),"") | B36: =IF(A36="","",A36) | H36: =IF(OR(C36="",D36=""),0,MOD(D36-C36,1))+IF(OR(E36="",F36=""),0,MOD(F36-E36,1))-N(G36)
A37: =IF(28<=DAY(EOMONTH(DATE(Anio,9,1),0)),DATE(Anio,9,28),"") | B37: =IF(A37="","",A37) | H37: =IF(OR(C37="",D37=""),0,MOD(D37-C37,1))+IF(OR(E37="",F37=""),0,MOD(F37-E37,1))-N(G37)
A38: =IF(29<=DAY(EOMONTH(DATE(Anio,9,1),0)),DATE(Anio,9,29),"") | B38: =IF(A38="","",A38) | H38: =IF(OR(C38="",D38=""),0,MOD(D38-C38,1))+IF(OR(E38="",F38=""),0,MOD(F38-E38,1))-N(G38)
A39: =IF(30<=DAY(EOMONTH(DATE(Anio,9,1),0)),DATE(Anio,9,30),"") | B39: =IF(A39="","",A39) | H39: =IF(OR(C39="",D39=""),0,MOD(D39-C39,1))+IF(OR(E39="",F39=""),0,MOD(F39-E39,1))-N(G39)
A40: =IF(31<=DAY(EOMONTH(DATE(Anio,9,1),0)),DATE(Anio,9,31),"") | B40: =IF(A40="","",A40) | H40: =IF(OR(C40="",D40=""),0,MOD(D40-C40,1))+IF(OR(E40="",F40=""),0,MOD(F40-E40,1))-N(G40)
A41: Total de horas del mes | H41: =SUM(H10:H40) | I41: =ROUND(H41*24,2)
A43: En ____________________, a ____ de ____________ de ______
A45: Firma de la persona trabajadora | F45: Firma y sello de la empresa
A48: La empresa conservará este registro durante cuatro años (art. 34.9 del Estatuto de los Trabajadores). Plantilla de www.modelines.com

Sheet Octubre
A1: Registro diario de jornada
A3: Empresa: | C3: =IF(Empresa="","",Empresa) | H3: NIF: | I3: =IF(NIFEmpresa="","",NIFEmpresa)
A4: Centro de trabajo: | C4: =IF(Centro="","",Centro) | H4: Mes: | I4: ="Octubre "&Anio
A5: Persona trabajadora: | C5: =IF(Trabajador="","",Trabajador) | H5: NIF: | I5: =IF(NIFTrabajador="","",NIFTrabajador)
A7: Horas en formato 8:00. Si la jornada es continua, deja vacío el segundo tramo. Las pausas no computables se restan del total.
A8: Fecha | B8: Día | C8: Primer tramo | E8: Segundo tramo | G8: Pausas no computables | H8: Horas trabajadas | I8: Observaciones | J8: Firma
C9: Entrada | D9: Salida | E9: Entrada | F9: Salida
A10: =IF(1<=DAY(EOMONTH(DATE(Anio,10,1),0)),DATE(Anio,10,1),"") | B10: =IF(A10="","",A10) | H10: =IF(OR(C10="",D10=""),0,MOD(D10-C10,1))+IF(OR(E10="",F10=""),0,MOD(F10-E10,1))-N(G10)
A11: =IF(2<=DAY(EOMONTH(DATE(Anio,10,1),0)),DATE(Anio,10,2),"") | B11: =IF(A11="","",A11) | H11: =IF(OR(C11="",D11=""),0,MOD(D11-C11,1))+IF(OR(E11="",F11=""),0,MOD(F11-E11,1))-N(G11)
A12: =IF(3<=DAY(EOMONTH(DATE(Anio,10,1),0)),DATE(Anio,10,3),"") | B12: =IF(A12="","",A12) | H12: =IF(OR(C12="",D12=""),0,MOD(D12-C12,1))+IF(OR(E12="",F12=""),0,MOD(F12-E12,1))-N(G12)
A13: =IF(4<=DAY(EOMONTH(DATE(Anio,10,1),0)),DATE(Anio,10,4),"") | B13: =IF(A13="","",A13) | H13: =IF(OR(C13="",D13=""),0,MOD(D13-C13,1))+IF(OR(E13="",F13=""),0,MOD(F13-E13,1))-N(G13)
A14: =IF(5<=DAY(EOMONTH(DATE(Anio,10,1),0)),DATE(Anio,10,5),"") | B14: =IF(A14="","",A14) | H14: =IF(OR(C14="",D14=""),0,MOD(D14-C14,1))+IF(OR(E14="",F14=""),0,MOD(F14-E14,1))-N(G14)
A15: =IF(6<=DAY(EOMONTH(DATE(Anio,10,1),0)),DATE(Anio,10,6),"") | B15: =IF(A15="","",A15) | H15: =IF(OR(C15="",D15=""),0,MOD(D15-C15,1))+IF(OR(E15="",F15=""),0,MOD(F15-E15,1))-N(G15)
A16: =IF(7<=DAY(EOMONTH(DATE(Anio,10,1),0)),DATE(Anio,10,7),"") | B16: =IF(A16="","",A16) | H16: =IF(OR(C16="",D16=""),0,MOD(D16-C16,1))+IF(OR(E16="",F16=""),0,MOD(F16-E16,1))-N(G16)
A17: =IF(8<=DAY(EOMONTH(DATE(Anio,10,1),0)),DATE(Anio,10,8),"") | B17: =IF(A17="","",A17) | H17: =IF(OR(C17="",D17=""),0,MOD(D17-C17,1))+IF(OR(E17="",F17=""),0,MOD(F17-E17,1))-N(G17)
A18: =IF(9<=DAY(EOMONTH(DATE(Anio,10,1),0)),DATE(Anio,10,9),"") | B18: =IF(A18="","",A18) | H18: =IF(OR(C18="",D18=""),0,MOD(D18-C18,1))+IF(OR(E18="",F18=""),0,MOD(F18-E18,1))-N(G18)
A19: =IF(10<=DAY(EOMONTH(DATE(Anio,10,1),0)),DATE(Anio,10,10),"") | B19: =IF(A19="","",A19) | H19: =IF(OR(C19="",D19=""),0,MOD(D19-C19,1))+IF(OR(E19="",F19=""),0,MOD(F19-E19,1))-N(G19)
A20: =IF(11<=DAY(EOMONTH(DATE(Anio,10,1),0)),DATE(Anio,10,11),"") | B20: =IF(A20="","",A20) | H20: =IF(OR(C20="",D20=""),0,MOD(D20-C20,1))+IF(OR(E20="",F20=""),0,MOD(F20-E20,1))-N(G20)
A21: =IF(12<=DAY(EOMONTH(DATE(Anio,10,1),0)),DATE(Anio,10,12),"") | B21: =IF(A21="","",A21) | H21: =IF(OR(C21="",D21=""),0,MOD(D21-C21,1))+IF(OR(E21="",F21=""),0,MOD(F21-E21,1))-N(G21)
A22: =IF(13<=DAY(EOMONTH(DATE(Anio,10,1),0)),DATE(Anio,10,13),"") | B22: =IF(A22="","",A22) | H22: =IF(OR(C22="",D22=""),0,MOD(D22-C22,1))+IF(OR(E22="",F22=""),0,MOD(F22-E22,1))-N(G22)
A23: =IF(14<=DAY(EOMONTH(DATE(Anio,10,1),0)),DATE(Anio,10,14),"") | B23: =IF(A23="","",A23) | H23: =IF(OR(C23="",D23=""),0,MOD(D23-C23,1))+IF(OR(E23="",F23=""),0,MOD(F23-E23,1))-N(G23)
A24: =IF(15<=DAY(EOMONTH(DATE(Anio,10,1),0)),DATE(Anio,10,15),"") | B24: =IF(A24="","",A24) | H24: =IF(OR(C24="",D24=""),0,MOD(D24-C24,1))+IF(OR(E24="",F24=""),0,MOD(F24-E24,1))-N(G24)
A25: =IF(16<=DAY(EOMONTH(DATE(Anio,10,1),0)),DATE(Anio,10,16),"") | B25: =IF(A25="","",A25) | H25: =IF(OR(C25="",D25=""),0,MOD(D25-C25,1))+IF(OR(E25="",F25=""),0,MOD(F25-E25,1))-N(G25)
A26: =IF(17<=DAY(EOMONTH(DATE(Anio,10,1),0)),DATE(Anio,10,17),"") | B26: =IF(A26="","",A26) | H26: =IF(OR(C26="",D26=""),0,MOD(D26-C26,1))+IF(OR(E26="",F26=""),0,MOD(F26-E26,1))-N(G26)
A27: =IF(18<=DAY(EOMONTH(DATE(Anio,10,1),0)),DATE(Anio,10,18),"") | B27: =IF(A27="","",A27) | H27: =IF(OR(C27="",D27=""),0,MOD(D27-C27,1))+IF(OR(E27="",F27=""),0,MOD(F27-E27,1))-N(G27)
A28: =IF(19<=DAY(EOMONTH(DATE(Anio,10,1),0)),DATE(Anio,10,19),"") | B28: =IF(A28="","",A28) | H28: =IF(OR(C28="",D28=""),0,MOD(D28-C28,1))+IF(OR(E28="",F28=""),0,MOD(F28-E28,1))-N(G28)
A29: =IF(20<=DAY(EOMONTH(DATE(Anio,10,1),0)),DATE(Anio,10,20),"") | B29: =IF(A29="","",A29) | H29: =IF(OR(C29="",D29=""),0,MOD(D29-C29,1))+IF(OR(E29="",F29=""),0,MOD(F29-E29,1))-N(G29)
A30: =IF(21<=DAY(EOMONTH(DATE(Anio,10,1),0)),DATE(Anio,10,21),"") | B30: =IF(A30="","",A30) | H30: =IF(OR(C30="",D30=""),0,MOD(D30-C30,1))+IF(OR(E30="",F30=""),0,MOD(F30-E30,1))-N(G30)
A31: =IF(22<=DAY(EOMONTH(DATE(Anio,10,1),0)),DATE(Anio,10,22),"") | B31: =IF(A31="","",A31) | H31: =IF(OR(C31="",D31=""),0,MOD(D31-C31,1))+IF(OR(E31="",F31=""),0,MOD(F31-E31,1))-N(G31)
A32: =IF(23<=DAY(EOMONTH(DATE(Anio,10,1),0)),DATE(Anio,10,23),"") | B32: =IF(A32="","",A32) | H32: =IF(OR(C32="",D32=""),0,MOD(D32-C32,1))+IF(OR(E32="",F32=""),0,MOD(F32-E32,1))-N(G32)
A33: =IF(24<=DAY(EOMONTH(DATE(Anio,10,1),0)),DATE(Anio,10,24),"") | B33: =IF(A33="","",A33) | H33: =IF(OR(C33="",D33=""),0,MOD(D33-C33,1))+IF(OR(E33="",F33=""),0,MOD(F33-E33,1))-N(G33)
A34: =IF(25<=DAY(EOMONTH(DATE(Anio,10,1),0)),DATE(Anio,10,25),"") | B34: =IF(A34="","",A34) | H34: =IF(OR(C34="",D34=""),0,MOD(D34-C34,1))+IF(OR(E34="",F34=""),0,MOD(F34-E34,1))-N(G34)
A35: =IF(26<=DAY(EOMONTH(DATE(Anio,10,1),0)),DATE(Anio,10,26),"") | B35: =IF(A35="","",A35) | H35: =IF(OR(C35="",D35=""),0,MOD(D35-C35,1))+IF(OR(E35="",F35=""),0,MOD(F35-E35,1))-N(G35)
A36: =IF(27<=DAY(EOMONTH(DATE(Anio,10,1),0)),DATE(Anio,10,27),"") | B36: =IF(A36="","",A36) | H36: =IF(OR(C36="",D36=""),0,MOD(D36-C36,1))+IF(OR(E36="",F36=""),0,MOD(F36-E36,1))-N(G36)
A37: =IF(28<=DAY(EOMONTH(DATE(Anio,10,1),0)),DATE(Anio,10,28),"") | B37: =IF(A37="","",A37) | H37: =IF(OR(C37="",D37=""),0,MOD(D37-C37,1))+IF(OR(E37="",F37=""),0,MOD(F37-E37,1))-N(G37)
A38: =IF(29<=DAY(EOMONTH(DATE(Anio,10,1),0)),DATE(Anio,10,29),"") | B38: =IF(A38="","",A38) | H38: =IF(OR(C38="",D38=""),0,MOD(D38-C38,1))+IF(OR(E38="",F38=""),0,MOD(F38-E38,1))-N(G38)
A39: =IF(30<=DAY(EOMONTH(DATE(Anio,10,1),0)),DATE(Anio,10,30),"") | B39: =IF(A39="","",A39) | H39: =IF(OR(C39="",D39=""),0,MOD(D39-C39,1))+IF(OR(E39="",F39=""),0,MOD(F39-E39,1))-N(G39)
A40: =IF(31<=DAY(EOMONTH(DATE(Anio,10,1),0)),DATE(Anio,10,31),"") | B40: =IF(A40="","",A40) | H40: =IF(OR(C40="",D40=""),0,MOD(D40-C40,1))+IF(OR(E40="",F40=""),0,MOD(F40-E40,1))-N(G40)
A41: Total de horas del mes | H41: =SUM(H10:H40) | I41: =ROUND(H41*24,2)
A43: En ____________________, a ____ de ____________ de ______
A45: Firma de la persona trabajadora | F45: Firma y sello de la empresa
A48: La empresa conservará este registro durante cuatro años (art. 34.9 del Estatuto de los Trabajadores). Plantilla de www.modelines.com

Sheet Noviembre
A1: Registro diario de jornada
A3: Empresa: | C3: =IF(Empresa="","",Empresa) | H3: NIF: | I3: =IF(NIFEmpresa="","",NIFEmpresa)
A4: Centro de trabajo: | C4: =IF(Centro="","",Centro) | H4: Mes: | I4: ="Noviembre "&Anio
A5: Persona trabajadora: | C5: =IF(Trabajador="","",Trabajador) | H5: NIF: | I5: =IF(NIFTrabajador="","",NIFTrabajador)
A7: Horas en formato 8:00. Si la jornada es continua, deja vacío el segundo tramo. Las pausas no computables se restan del total.
A8: Fecha | B8: Día | C8: Primer tramo | E8: Segundo tramo | G8: Pausas no computables | H8: Horas trabajadas | I8: Observaciones | J8: Firma
C9: Entrada | D9: Salida | E9: Entrada | F9: Salida
A10: =IF(1<=DAY(EOMONTH(DATE(Anio,11,1),0)),DATE(Anio,11,1),"") | B10: =IF(A10="","",A10) | H10: =IF(OR(C10="",D10=""),0,MOD(D10-C10,1))+IF(OR(E10="",F10=""),0,MOD(F10-E10,1))-N(G10)
A11: =IF(2<=DAY(EOMONTH(DATE(Anio,11,1),0)),DATE(Anio,11,2),"") | B11: =IF(A11="","",A11) | H11: =IF(OR(C11="",D11=""),0,MOD(D11-C11,1))+IF(OR(E11="",F11=""),0,MOD(F11-E11,1))-N(G11)
A12: =IF(3<=DAY(EOMONTH(DATE(Anio,11,1),0)),DATE(Anio,11,3),"") | B12: =IF(A12="","",A12) | H12: =IF(OR(C12="",D12=""),0,MOD(D12-C12,1))+IF(OR(E12="",F12=""),0,MOD(F12-E12,1))-N(G12)
A13: =IF(4<=DAY(EOMONTH(DATE(Anio,11,1),0)),DATE(Anio,11,4),"") | B13: =IF(A13="","",A13) | H13: =IF(OR(C13="",D13=""),0,MOD(D13-C13,1))+IF(OR(E13="",F13=""),0,MOD(F13-E13,1))-N(G13)
A14: =IF(5<=DAY(EOMONTH(DATE(Anio,11,1),0)),DATE(Anio,11,5),"") | B14: =IF(A14="","",A14) | H14: =IF(OR(C14="",D14=""),0,MOD(D14-C14,1))+IF(OR(E14="",F14=""),0,MOD(F14-E14,1))-N(G14)
A15: =IF(6<=DAY(EOMONTH(DATE(Anio,11,1),0)),DATE(Anio,11,6),"") | B15: =IF(A15="","",A15) | H15: =IF(OR(C15="",D15=""),0,MOD(D15-C15,1))+IF(OR(E15="",F15=""),0,MOD(F15-E15,1))-N(G15)
A16: =IF(7<=DAY(EOMONTH(DATE(Anio,11,1),0)),DATE(Anio,11,7),"") | B16: =IF(A16="","",A16) | H16: =IF(OR(C16="",D16=""),0,MOD(D16-C16,1))+IF(OR(E16="",F16=""),0,MOD(F16-E16,1))-N(G16)
A17: =IF(8<=DAY(EOMONTH(DATE(Anio,11,1),0)),DATE(Anio,11,8),"") | B17: =IF(A17="","",A17) | H17: =IF(OR(C17="",D17=""),0,MOD(D17-C17,1))+IF(OR(E17="",F17=""),0,MOD(F17-E17,1))-N(G17)
A18: =IF(9<=DAY(EOMONTH(DATE(Anio,11,1),0)),DATE(Anio,11,9),"") | B18: =IF(A18="","",A18) | H18: =IF(OR(C18="",D18=""),0,MOD(D18-C18,1))+IF(OR(E18="",F18=""),0,MOD(F18-E18,1))-N(G18)
A19: =IF(10<=DAY(EOMONTH(DATE(Anio,11,1),0)),DATE(Anio,11,10),"") | B19: =IF(A19="","",A19) | H19: =IF(OR(C19="",D19=""),0,MOD(D19-C19,1))+IF(OR(E19="",F19=""),0,MOD(F19-E19,1))-N(G19)
A20: =IF(11<=DAY(EOMONTH(DATE(Anio,11,1),0)),DATE(Anio,11,11),"") | B20: =IF(A20="","",A20) | H20: =IF(OR(C20="",D20=""),0,MOD(D20-C20,1))+IF(OR(E20="",F20=""),0,MOD(F20-E20,1))-N(G20)
A21: =IF(12<=DAY(EOMONTH(DATE(Anio,11,1),0)),DATE(Anio,11,12),"") | B21: =IF(A21="","",A21) | H21: =IF(OR(C21="",D21=""),0,MOD(D21-C21,1))+IF(OR(E21="",F21=""),0,MOD(F21-E21,1))-N(G21)
A22: =IF(13<=DAY(EOMONTH(DATE(Anio,11,1),0)),DATE(Anio,11,13),"") | B22: =IF(A22="","",A22) | H22: =IF(OR(C22="",D22=""),0,MOD(D22-C22,1))+IF(OR(E22="",F22=""),0,MOD(F22-E22,1))-N(G22)
A23: =IF(14<=DAY(EOMONTH(DATE(Anio,11,1),0)),DATE(Anio,11,14),"") | B23: =IF(A23="","",A23) | H23: =IF(OR(C23="",D23=""),0,MOD(D23-C23,1))+IF(OR(E23="",F23=""),0,MOD(F23-E23,1))-N(G23)
A24: =IF(15<=DAY(EOMONTH(DATE(Anio,11,1),0)),DATE(Anio,11,15),"") | B24: =IF(A24="","",A24) | H24: =IF(OR(C24="",D24=""),0,MOD(D24-C24,1))+IF(OR(E24="",F24=""),0,MOD(F24-E24,1))-N(G24)
A25: =IF(16<=DAY(EOMONTH(DATE(Anio,11,1),0)),DATE(Anio,11,16),"") | B25: =IF(A25="","",A25) | H25: =IF(OR(C25="",D25=""),0,MOD(D25-C25,1))+IF(OR(E25="",F25=""),0,MOD(F25-E25,1))-N(G25)
A26: =IF(17<=DAY(EOMONTH(DATE(Anio,11,1),0)),DATE(Anio,11,17),"") | B26: =IF(A26="","",A26) | H26: =IF(OR(C26="",D26=""),0,MOD(D26-C26,1))+IF(OR(E26="",F26=""),0,MOD(F26-E26,1))-N(G26)
A27: =IF(18<=DAY(EOMONTH(DATE(Anio,11,1),0)),DATE(Anio,11,18),"") | B27: =IF(A27="","",A27) | H27: =IF(OR(C27="",D27=""),0,MOD(D27-C27,1))+IF(OR(E27="",F27=""),0,MOD(F27-E27,1))-N(G27)
A28: =IF(19<=DAY(EOMONTH(DATE(Anio,11,1),0)),DATE(Anio,11,19),"") | B28: =IF(A28="","",A28) | H28: =IF(OR(C28="",D28=""),0,MOD(D28-C28,1))+IF(OR(E28="",F28=""),0,MOD(F28-E28,1))-N(G28)
A29: =IF(20<=DAY(EOMONTH(DATE(Anio,11,1),0)),DATE(Anio,11,20),"") | B29: =IF(A29="","",A29) | H29: =IF(OR(C29="",D29=""),0,MOD(D29-C29,1))+IF(OR(E29="",F29=""),0,MOD(F29-E29,1))-N(G29)
A30: =IF(21<=DAY(EOMONTH(DATE(Anio,11,1),0)),DATE(Anio,11,21),"") | B30: =IF(A30="","",A30) | H30: =IF(OR(C30="",D30=""),0,MOD(D30-C30,1))+IF(OR(E30="",F30=""),0,MOD(F30-E30,1))-N(G30)
A31: =IF(22<=DAY(EOMONTH(DATE(Anio,11,1),0)),DATE(Anio,11,22),"") | B31: =IF(A31="","",A31) | H31: =IF(OR(C31="",D31=""),0,MOD(D31-C31,1))+IF(OR(E31="",F31=""),0,MOD(F31-E31,1))-N(G31)
A32: =IF(23<=DAY(EOMONTH(DATE(Anio,11,1),0)),DATE(Anio,11,23),"") | B32: =IF(A32="","",A32) | H32: =IF(OR(C32="",D32=""),0,MOD(D32-C32,1))+IF(OR(E32="",F32=""),0,MOD(F32-E32,1))-N(G32)
A33: =IF(24<=DAY(EOMONTH(DATE(Anio,11,1),0)),DATE(Anio,11,24),"") | B33: =IF(A33="","",A33) | H33: =IF(OR(C33="",D33=""),0,MOD(D33-C33,1))+IF(OR(E33="",F33=""),0,MOD(F33-E33,1))-N(G33)
A34: =IF(25<=DAY(EOMONTH(DATE(Anio,11,1),0)),DATE(Anio,11,25),"") | B34: =IF(A34="","",A34) | H34: =IF(OR(C34="",D34=""),0,MOD(D34-C34,1))+IF(OR(E34="",F34=""),0,MOD(F34-E34,1))-N(G34)
A35: =IF(26<=DAY(EOMONTH(DATE(Anio,11,1),0)),DATE(Anio,11,26),"") | B35: =IF(A35="","",A35) | H35: =IF(OR(C35="",D35=""),0,MOD(D35-C35,1))+IF(OR(E35="",F35=""),0,MOD(F35-E35,1))-N(G35)
A36: =IF(27<=DAY(EOMONTH(DATE(Anio,11,1),0)),DATE(Anio,11,27),"") | B36: =IF(A36="","",A36) | H36: =IF(OR(C36="",D36=""),0,MOD(D36-C36,1))+IF(OR(E36="",F36=""),0,MOD(F36-E36,1))-N(G36)
A37: =IF(28<=DAY(EOMONTH(DATE(Anio,11,1),0)),DATE(Anio,11,28),"") | B37: =IF(A37="","",A37) | H37: =IF(OR(C37="",D37=""),0,MOD(D37-C37,1))+IF(OR(E37="",F37=""),0,MOD(F37-E37,1))-N(G37)
A38: =IF(29<=DAY(EOMONTH(DATE(Anio,11,1),0)),DATE(Anio,11,29),"") | B38: =IF(A38="","",A38) | H38: =IF(OR(C38="",D38=""),0,MOD(D38-C38,1))+IF(OR(E38="",F38=""),0,MOD(F38-E38,1))-N(G38)
A39: =IF(30<=DAY(EOMONTH(DATE(Anio,11,1),0)),DATE(Anio,11,30),"") | B39: =IF(A39="","",A39) | H39: =IF(OR(C39="",D39=""),0,MOD(D39-C39,1))+IF(OR(E39="",F39=""),0,MOD(F39-E39,1))-N(G39)
A40: =IF(31<=DAY(EOMONTH(DATE(Anio,11,1),0)),DATE(Anio,11,31),"") | B40: =IF(A40="","",A40) | H40: =IF(OR(C40="",D40=""),0,MOD(D40-C40,1))+IF(OR(E40="",F40=""),0,MOD(F40-E40,1))-N(G40)
A41: Total de horas del mes | H41: =SUM(H10:H40) | I41: =ROUND(H41*24,2)
A43: En ____________________, a ____ de ____________ de ______
A45: Firma de la persona trabajadora | F45: Firma y sello de la empresa
A48: La empresa conservará este registro durante cuatro años (art. 34.9 del Estatuto de los Trabajadores). Plantilla de www.modelines.com

Sheet Diciembre
A1: Registro diario de jornada
A3: Empresa: | C3: =IF(Empresa="","",Empresa) | H3: NIF: | I3: =IF(NIFEmpresa="","",NIFEmpresa)
A4: Centro de trabajo: | C4: =IF(Centro="","",Centro) | H4: Mes: | I4: ="Diciembre "&Anio
A5: Persona trabajadora: | C5: =IF(Trabajador="","",Trabajador) | H5: NIF: | I5: =IF(NIFTrabajador="","",NIFTrabajador)
A7: Horas en formato 8:00. Si la jornada es continua, deja vacío el segundo tramo. Las pausas no computables se restan del total.
A8: Fecha | B8: Día | C8: Primer tramo | E8: Segundo tramo | G8: Pausas no computables | H8: Horas trabajadas | I8: Observaciones | J8: Firma
C9: Entrada | D9: Salida | E9: Entrada | F9: Salida
A10: =IF(1<=DAY(EOMONTH(DATE(Anio,12,1),0)),DATE(Anio,12,1),"") | B10: =IF(A10="","",A10) | H10: =IF(OR(C10="",D10=""),0,MOD(D10-C10,1))+IF(OR(E10="",F10=""),0,MOD(F10-E10,1))-N(G10)
A11: =IF(2<=DAY(EOMONTH(DATE(Anio,12,1),0)),DATE(Anio,12,2),"") | B11: =IF(A11="","",A11) | H11: =IF(OR(C11="",D11=""),0,MOD(D11-C11,1))+IF(OR(E11="",F11=""),0,MOD(F11-E11,1))-N(G11)
A12: =IF(3<=DAY(EOMONTH(DATE(Anio,12,1),0)),DATE(Anio,12,3),"") | B12: =IF(A12="","",A12) | H12: =IF(OR(C12="",D12=""),0,MOD(D12-C12,1))+IF(OR(E12="",F12=""),0,MOD(F12-E12,1))-N(G12)
A13: =IF(4<=DAY(EOMONTH(DATE(Anio,12,1),0)),DATE(Anio,12,4),"") | B13: =IF(A13="","",A13) | H13: =IF(OR(C13="",D13=""),0,MOD(D13-C13,1))+IF(OR(E13="",F13=""),0,MOD(F13-E13,1))-N(G13)
A14: =IF(5<=DAY(EOMONTH(DATE(Anio,12,1),0)),DATE(Anio,12,5),"") | B14: =IF(A14="","",A14) | H14: =IF(OR(C14="",D14=""),0,MOD(D14-C14,1))+IF(OR(E14="",F14=""),0,MOD(F14-E14,1))-N(G14)
A15: =IF(6<=DAY(EOMONTH(DATE(Anio,12,1),0)),DATE(Anio,12,6),"") | B15: =IF(A15="","",A15) | H15: =IF(OR(C15="",D15=""),0,MOD(D15-C15,1))+IF(OR(E15="",F15=""),0,MOD(F15-E15,1))-N(G15)
A16: =IF(7<=DAY(EOMONTH(DATE(Anio,12,1),0)),DATE(Anio,12,7),"") | B16: =IF(A16="","",A16) | H16: =IF(OR(C16="",D16=""),0,MOD(D16-C16,1))+IF(OR(E16="",F16=""),0,MOD(F16-E16,1))-N(G16)
A17: =IF(8<=DAY(EOMONTH(DATE(Anio,12,1),0)),DATE(Anio,12,8),"") | B17: =IF(A17="","",A17) | H17: =IF(OR(C17="",D17=""),0,MOD(D17-C17,1))+IF(OR(E17="",F17=""),0,MOD(F17-E17,1))-N(G17)
A18: =IF(9<=DAY(EOMONTH(DATE(Anio,12,1),0)),DATE(Anio,12,9),"") | B18: =IF(A18="","",A18) | H18: =IF(OR(C18="",D18=""),0,MOD(D18-C18,1))+IF(OR(E18="",F18=""),0,MOD(F18-E18,1))-N(G18)
A19: =IF(10<=DAY(EOMONTH(DATE(Anio,12,1),0)),DATE(Anio,12,10),"") | B19: =IF(A19="","",A19) | H19: =IF(OR(C19="",D19=""),0,MOD(D19-C19,1))+IF(OR(E19="",F19=""),0,MOD(F19-E19,1))-N(G19)
A20: =IF(11<=DAY(EOMONTH(DATE(Anio,12,1),0)),DATE(Anio,12,11),"") | B20: =IF(A20="","",A20) | H20: =IF(OR(C20="",D20=""),0,MOD(D20-C20,1))+IF(OR(E20="",F20=""),0,MOD(F20-E20,1))-N(G20)
A21: =IF(12<=DAY(EOMONTH(DATE(Anio,12,1),0)),DATE(Anio,12,12),"") | B21: =IF(A21="","",A21) | H21: =IF(OR(C21="",D21=""),0,MOD(D21-C21,1))+IF(OR(E21="",F21=""),0,MOD(F21-E21,1))-N(G21)
A22: =IF(13<=DAY(EOMONTH(DATE(Anio,12,1),0)),DATE(Anio,12,13),"") | B22: =IF(A22="","",A22) | H22: =IF(OR(C22="",D22=""),0,MOD(D22-C22,1))+IF(OR(E22="",F22=""),0,MOD(F22-E22,1))-N(G22)
A23: =IF(14<=DAY(EOMONTH(DATE(Anio,12,1),0)),DATE(Anio,12,14),"") | B23: =IF(A23="","",A23) | H23: =IF(OR(C23="",D23=""),0,MOD(D23-C23,1))+IF(OR(E23="",F23=""),0,MOD(F23-E23,1))-N(G23)
A24: =IF(15<=DAY(EOMONTH(DATE(Anio,12,1),0)),DATE(Anio,12,15),"") | B24: =IF(A24="","",A24) | H24: =IF(OR(C24="",D24=""),0,MOD(D24-C24,1))+IF(OR(E24="",F24=""),0,MOD(F24-E24,1))-N(G24)
A25: =IF(16<=DAY(EOMONTH(DATE(Anio,12,1),0)),DATE(Anio,12,16),"") | B25: =IF(A25="","",A25) | H25: =IF(OR(C25="",D25=""),0,MOD(D25-C25,1))+IF(OR(E25="",F25=""),0,MOD(F25-E25,1))-N(G25)
A26: =IF(17<=DAY(EOMONTH(DATE(Anio,12,1),0)),DATE(Anio,12,17),"") | B26: =IF(A26="","",A26) | H26: =IF(OR(C26="",D26=""),0,MOD(D26-C26,1))+IF(OR(E26="",F26=""),0,MOD(F26-E26,1))-N(G26)
A27: =IF(18<=DAY(EOMONTH(DATE(Anio,12,1),0)),DATE(Anio,12,18),"") | B27: =IF(A27="","",A27) | H27: =IF(OR(C27="",D27=""),0,MOD(D27-C27,1))+IF(OR(E27="",F27=""),0,MOD(F27-E27,1))-N(G27)
A28: =IF(19<=DAY(EOMONTH(DATE(Anio,12,1),0)),DATE(Anio,12,19),"") | B28: =IF(A28="","",A28) | H28: =IF(OR(C28="",D28=""),0,MOD(D28-C28,1))+IF(OR(E28="",F28=""),0,MOD(F28-E28,1))-N(G28)
A29: =IF(20<=DAY(EOMONTH(DATE(Anio,12,1),0)),DATE(Anio,12,20),"") | B29: =IF(A29="","",A29) | H29: =IF(OR(C29="",D29=""),0,MOD(D29-C29,1))+IF(OR(E29="",F29=""),0,MOD(F29-E29,1))-N(G29)
A30: =IF(21<=DAY(EOMONTH(DATE(Anio,12,1),0)),DATE(Anio,12,21),"") | B30: =IF(A30="","",A30) | H30: =IF(OR(C30="",D30=""),0,MOD(D30-C30,1))+IF(OR(E30="",F30=""),0,MOD(F30-E30,1))-N(G30)
A31: =IF(22<=DAY(EOMONTH(DATE(Anio,12,1),0)),DATE(Anio,12,22),"") | B31: =IF(A31="","",A31) | H31: =IF(OR(C31="",D31=""),0,MOD(D31-C31,1))+IF(OR(E31="",F31=""),0,MOD(F31-E31,1))-N(G31)
A32: =IF(23<=DAY(EOMONTH(DATE(Anio,12,1),0)),DATE(Anio,12,23),"") | B32: =IF(A32="","",A32) | H32: =IF(OR(C32="",D32=""),0,MOD(D32-C32,1))+IF(OR(E32="",F32=""),0,MOD(F32-E32,1))-N(G32)
A33: =IF(24<=DAY(EOMONTH(DATE(Anio,12,1),0)),DATE(Anio,12,24),"") | B33: =IF(A33="","",A33) | H33: =IF(OR(C33="",D33=""),0,MOD(D33-C33,1))+IF(OR(E33="",F33=""),0,MOD(F33-E33,1))-N(G33)
A34: =IF(25<=DAY(EOMONTH(DATE(Anio,12,1),0)),DATE(Anio,12,25),"") | B34: =IF(A34="","",A34) | H34: =IF(OR(C34="",D34=""),0,MOD(D34-C34,1))+IF(OR(E34="",F34=""),0,MOD(F34-E34,1))-N(G34)
A35: =IF(26<=DAY(EOMONTH(DATE(Anio,12,1),0)),DATE(Anio,12,26),"") | B35: =IF(A35="","",A35) | H35: =IF(OR(C35="",D35=""),0,MOD(D35-C35,1))+IF(OR(E35="",F35=""),0,MOD(F35-E35,1))-N(G35)
A36: =IF(27<=DAY(EOMONTH(DATE(Anio,12,1),0)),DATE(Anio,12,27),"") | B36: =IF(A36="","",A36) | H36: =IF(OR(C36="",D36=""),0,MOD(D36-C36,1))+IF(OR(E36="",F36=""),0,MOD(F36-E36,1))-N(G36)
A37: =IF(28<=DAY(EOMONTH(DATE(Anio,12,1),0)),DATE(Anio,12,28),"") | B37: =IF(A37="","",A37) | H37: =IF(OR(C37="",D37=""),0,MOD(D37-C37,1))+IF(OR(E37="",F37=""),0,MOD(F37-E37,1))-N(G37)
A38: =IF(29<=DAY(EOMONTH(DATE(Anio,12,1),0)),DATE(Anio,12,29),"") | B38: =IF(A38="","",A38) | H38: =IF(OR(C38="",D38=""),0,MOD(D38-C38,1))+IF(OR(E38="",F38=""),0,MOD(F38-E38,1))-N(G38)
A39: =IF(30<=DAY(EOMONTH(DATE(Anio,12,1),0)),DATE(Anio,12,30),"") | B39: =IF(A39="","",A39) | H39: =IF(OR(C39="",D39=""),0,MOD(D39-C39,1))+IF(OR(E39="",F39=""),0,MOD(F39-E39,1))-N(G39)
A40: =IF(31<=DAY(EOMONTH(DATE(Anio,12,1),0)),DATE(Anio,12,31),"") | B40: =IF(A40="","",A40) | H40: =IF(OR(C40="",D40=""),0,MOD(D40-C40,1))+IF(OR(E40="",F40=""),0,MOD(F40-E40,1))-N(G40)
A41: Total de horas del mes | H41: =SUM(H10:H40) | I41: =ROUND(H41*24,2)
A43: En ____________________, a ____ de ____________ de ______
A45: Firma de la persona trabajadora | F45: Firma y sello de la empresa
A48: La empresa conservará este registro durante cuatro años (art. 34.9 del Estatuto de los Trabajadores). Plantilla de www.modelines.com

Sheet Resumen anual
B1: ="Resumen de horas "&Anio
B3: Mes | C3: Horas (h:mm) | D3: Horas en decimal
B4: Enero | C4: ='Enero'!H41 | D4: =ROUND(C4*24,2)
B5: Febrero | C5: ='Febrero'!H41 | D5: =ROUND(C5*24,2)
B6: Marzo | C6: ='Marzo'!H41 | D6: =ROUND(C6*24,2)
B7: Abril | C7: ='Abril'!H41 | D7: =ROUND(C7*24,2)
B8: Mayo | C8: ='Mayo'!H41 | D8: =ROUND(C8*24,2)
B9: Junio | C9: ='Junio'!H41 | D9: =ROUND(C9*24,2)
B10: Julio | C10: ='Julio'!H41 | D10: =ROUND(C10*24,2)
B11: Agosto | C11: ='Agosto'!H41 | D11: =ROUND(C11*24,2)
B12: Septiembre | C12: ='Septiembre'!H41 | D12: =ROUND(C12*24,2)
B13: Octubre | C13: ='Octubre'!H41 | D13: =ROUND(C13*24,2)
B14: Noviembre | C14: ='Noviembre'!H41 | D14: =ROUND(C14*24,2)
B15: Diciembre | C15: ='Diciembre'!H41 | D15: =ROUND(C15*24,2)
B16: Total del año | C16: =SUM(C4:C15) | D16: =ROUND(C16*24,2)
